| Back to Multiple platform build/check report for BioC 3.12 |
|
This page was generated on 2021-05-06 12:28:32 -0400 (Thu, 06 May 2021).
|
To the developers/maintainers of the peakPantheR package: Please make sure to use the following settings in order to reproduce any error or warning you see on this page. |
| Package 1322/1974 | Hostname | OS / Arch | INSTALL | BUILD | CHECK | BUILD BIN | ||||||||
| peakPantheR 1.4.0 (landing page) Arnaud Wolfer
| malbec1 | Linux (Ubuntu 18.04.5 LTS) / x86_64 | OK | OK | OK | |||||||||
| tokay1 | Windows Server 2012 R2 Standard / x64 | OK | OK | OK | OK | |||||||||
| merida1 | macOS 10.14.6 Mojave / x86_64 | OK | OK | OK | OK | |||||||||
| Package: peakPantheR |
| Version: 1.4.0 |
| Command: /home/biocbuild/bbs-3.12-bioc/R/bin/R CMD check --install=check:peakPantheR.install-out.txt --library=/home/biocbuild/bbs-3.12-bioc/R/library --no-vignettes --timings peakPantheR_1.4.0.tar.gz |
| StartedAt: 2021-05-06 04:23:21 -0400 (Thu, 06 May 2021) |
| EndedAt: 2021-05-06 04:40:46 -0400 (Thu, 06 May 2021) |
| EllapsedTime: 1045.1 seconds |
| RetCode: 0 |
| Status: OK |
| CheckDir: peakPantheR.Rcheck |
| Warnings: 0 |
##############################################################################
##############################################################################
###
### Running command:
###
### /home/biocbuild/bbs-3.12-bioc/R/bin/R CMD check --install=check:peakPantheR.install-out.txt --library=/home/biocbuild/bbs-3.12-bioc/R/library --no-vignettes --timings peakPantheR_1.4.0.tar.gz
###
##############################################################################
##############################################################################
* using log directory ‘/home/biocbuild/bbs-3.12-bioc/meat/peakPantheR.Rcheck’
* using R version 4.0.5 (2021-03-31)
* using platform: x86_64-pc-linux-gnu (64-bit)
* using session charset: UTF-8
* using option ‘--no-vignettes’
* checking for file ‘peakPantheR/DESCRIPTION’ ... OK
* this is package ‘peakPantheR’ version ‘1.4.0’
* package encoding: UTF-8
* checking package namespace information ... OK
* checking package dependencies ... OK
* checking if this is a source package ... OK
* checking if there is a namespace ... OK
* checking for hidden files and directories ... OK
* checking for portable file names ... OK
* checking for sufficient/correct file permissions ... OK
* checking whether package ‘peakPantheR’ can be installed ... OK
* checking installed package size ... OK
* checking package directory ... OK
* checking ‘build’ directory ... OK
* checking DESCRIPTION meta-information ... OK
* checking top-level files ... OK
* checking for left-over files ... OK
* checking index information ... OK
* checking package subdirectories ... OK
* checking R files for non-ASCII characters ... OK
* checking R files for syntax errors ... OK
* checking whether the package can be loaded ... OK
* checking whether the package can be loaded with stated dependencies ... OK
* checking whether the package can be unloaded cleanly ... OK
* checking whether the namespace can be loaded with stated dependencies ... OK
* checking whether the namespace can be unloaded cleanly ... OK
* checking dependencies in R code ... OK
* checking S3 generic/method consistency ... OK
* checking replacement functions ... OK
* checking foreign function calls ... OK
* checking R code for possible problems ... OK
* checking Rd files ... OK
* checking Rd metadata ... OK
* checking Rd cross-references ... OK
* checking for missing documentation entries ... OK
* checking for code/documentation mismatches ... OK
* checking Rd \usage sections ... OK
* checking Rd contents ... OK
* checking for unstated dependencies in examples ... OK
* checking files in ‘vignettes’ ... OK
* checking examples ... OK
Examples with CPU (user + system) or elapsed time > 5s
user system elapsed
peakPantheR_ROIStatistics 18.520 0.140 18.707
peakPantheR_parallelAnnotation 14.284 0.048 14.359
outputAnnotationDiagnostic-peakPantheRAnnotation-method 13.220 0.076 13.482
outputAnnotationResult-peakPantheRAnnotation-method 12.172 0.052 12.239
EICs-peakPantheRAnnotation-method 10.436 0.248 10.961
retentionTimeCorrection-peakPantheRAnnotation-method 9.128 0.056 9.209
* checking for unstated dependencies in ‘tests’ ... OK
* checking tests ...
Running ‘testthat.R’
OK
* checking for unstated dependencies in vignettes ... OK
* checking package vignettes in ‘inst/doc’ ... OK
* checking running R code from vignettes ... SKIPPED
* checking re-building of vignette outputs ... SKIPPED
* checking PDF version of manual ... OK
* DONE
Status: OK
peakPantheR.Rcheck/00install.out
############################################################################## ############################################################################## ### ### Running command: ### ### /home/biocbuild/bbs-3.12-bioc/R/bin/R CMD INSTALL peakPantheR ### ############################################################################## ############################################################################## * installing to library ‘/home/biocbuild/bbs-3.12-bioc/R/library’ * installing *source* package ‘peakPantheR’ ... ** using staged installation ** R ** inst ** byte-compile and prepare package for lazy loading ** help *** installing help indices *** copying figures ** building package indices ** installing vignettes ** testing if installed package can be loaded from temporary location ** testing if installed package can be loaded from final location ** testing if installed package keeps a record of temporary installation path * DONE (peakPantheR)
peakPantheR.Rcheck/tests/testthat.Rout
R version 4.0.5 (2021-03-31) -- "Shake and Throw"
Copyright (C) 2021 The R Foundation for Statistical Computing
Platform: x86_64-pc-linux-gnu (64-bit)
R is free software and comes with ABSOLUTELY NO WARRANTY.
You are welcome to redistribute it under certain conditions.
Type 'license()' or 'licence()' for distribution details.
R is a collaborative project with many contributors.
Type 'contributors()' for more information and
'citation()' on how to cite R or R packages in publications.
Type 'demo()' for some demos, 'help()' for on-line help, or
'help.start()' for an HTML browser interface to help.
Type 'q()' to quit R.
> library(testthat)
> library(peakPantheR)
This is peakPantheR version 1.4.0
>
> test_check("peakPantheR")
[ FAIL 0 | WARN 0 | SKIP 0 | PASS 1432 ]
>
> proc.time()
user system elapsed
693.764 4.508 878.669
peakPantheR.Rcheck/peakPantheR-Ex.timings
| name | user | system | elapsed | |
| EICs-peakPantheRAnnotation-method | 10.436 | 0.248 | 10.961 | |
| FIR-peakPantheRAnnotation-method | 0.304 | 0.004 | 0.320 | |
| ROI-peakPantheRAnnotation-method | 0.280 | 0.012 | 0.292 | |
| TIC-peakPantheRAnnotation-method | 0.388 | 0.000 | 0.389 | |
| acquisitionTime-peakPantheRAnnotation-method | 0.276 | 0.000 | 0.276 | |
| annotationDiagnosticPlots-peakPantheRAnnotation-method | 0.204 | 0.008 | 0.212 | |
| annotationParamsDiagnostic-peakPantheRAnnotation-method | 0.240 | 0.008 | 0.248 | |
| annotationTable-peakPantheRAnnotation-method | 0.188 | 0.000 | 0.186 | |
| annotation_diagnostic_multiplot_UI_helper | 0.08 | 0.00 | 0.08 | |
| annotation_fit_summary_UI_helper | 0.004 | 0.004 | 0.010 | |
| annotation_showMethod_UI_helper | 0.008 | 0.000 | 0.007 | |
| annotation_showText_UI_helper | 0.004 | 0.000 | 0.001 | |
| cpdID-peakPantheRAnnotation-method | 1.032 | 0.000 | 1.034 | |
| cpdMetadata-peakPantheRAnnotation-method | 0.296 | 0.000 | 0.294 | |
| cpdName-peakPantheRAnnotation-method | 0.280 | 0.008 | 0.289 | |
| dataPoints-peakPantheRAnnotation-method | 0.276 | 0.004 | 0.281 | |
| filename-peakPantheRAnnotation-method | 0.288 | 0.004 | 0.289 | |
| filepath-peakPantheRAnnotation-method | 0.292 | 0.000 | 0.311 | |
| initialise_annotation_from_files_UI_helper | 0.020 | 0.004 | 0.025 | |
| isAnnotated-peakPantheRAnnotation-method | 0.284 | 0.012 | 0.298 | |
| load_annotation_from_file_UI_helper | 0.008 | 0.000 | 0.011 | |
| nbCompounds-peakPantheRAnnotation-method | 0.248 | 0.000 | 0.251 | |
| nbSamples-peakPantheRAnnotation-method | 0.164 | 0.008 | 0.172 | |
| outputAnnotationDiagnostic-peakPantheRAnnotation-method | 13.220 | 0.076 | 13.482 | |
| outputAnnotationFeatureMetadata_UI_helper | 0.008 | 0.000 | 0.008 | |
| outputAnnotationParamsCSV-peakPantheRAnnotation-method | 0.036 | 0.000 | 0.036 | |
| outputAnnotationResult-peakPantheRAnnotation-method | 12.172 | 0.052 | 12.239 | |
| outputAnnotationSpectraMetadata_UI_helper | 0.008 | 0.000 | 0.010 | |
| peakFit-peakPantheRAnnotation-method | 0.300 | 0.008 | 0.305 | |
| peakPantheRAnnotation | 0.232 | 0.004 | 0.238 | |
| peakPantheR_ROIStatistics | 18.520 | 0.140 | 18.707 | |
| peakPantheR_loadAnnotationParamsCSV | 0.012 | 0.000 | 0.012 | |
| peakPantheR_parallelAnnotation | 14.284 | 0.048 | 14.359 | |
| peakPantheR_plotEICFit | 0.304 | 0.000 | 0.307 | |
| peakPantheR_plotPeakwidth | 0.616 | 0.000 | 0.618 | |
| peakPantheR_singleFileSearch | 4.872 | 0.016 | 4.892 | |
| peakPantheR_start_GUI | 0 | 0 | 0 | |
| peakTables-peakPantheRAnnotation-method | 0.224 | 0.004 | 0.228 | |
| resetAnnotation-peakPantheRAnnotation-method | 0.252 | 0.004 | 0.258 | |
| resetFIR-peakPantheRAnnotation-method | 0.004 | 0.000 | 0.005 | |
| retentionTimeCorrection-peakPantheRAnnotation-method | 9.128 | 0.056 | 9.209 | |
| spectraMetadata-peakPantheRAnnotation-method | 0.288 | 0.000 | 0.288 | |
| spectraPaths_and_metadata_UI_helper | 0.004 | 0.000 | 0.006 | |
| spectra_metadata_colourScheme_UI_helper | 0.012 | 0.000 | 0.010 | |
| uROI-peakPantheRAnnotation-method | 0.292 | 0.000 | 0.292 | |
| uROIExist-peakPantheRAnnotation-method | 0.288 | 0.000 | 0.289 | |
| useFIR-peakPantheRAnnotation-method | 0.280 | 0.004 | 0.287 | |
| useUROI-peakPantheRAnnotation-method | 0.244 | 0.000 | 0.248 | |