| Back to Multiple platform build/check report for BioC 3.12 |
|
This page was generated on 2021-05-06 12:36:04 -0400 (Thu, 06 May 2021).
|
To the developers/maintainers of the pathwayPCA package: Please make sure to use the following settings in order to reproduce any error or warning you see on this page. |
| Package 1310/1974 | Hostname | OS / Arch | INSTALL | BUILD | CHECK | BUILD BIN | ||||||||
| pathwayPCA 1.6.3 (landing page) Gabriel Odom
| malbec1 | Linux (Ubuntu 18.04.5 LTS) / x86_64 | OK | OK | OK | |||||||||
| tokay1 | Windows Server 2012 R2 Standard / x64 | OK | OK | OK | OK | |||||||||
| merida1 | macOS 10.14.6 Mojave / x86_64 | OK | OK | OK | OK | |||||||||
| Package: pathwayPCA |
| Version: 1.6.3 |
| Command: /Library/Frameworks/R.framework/Versions/Current/Resources/bin/R CMD check --install=check:pathwayPCA.install-out.txt --library=/Library/Frameworks/R.framework/Versions/Current/Resources/library --no-vignettes --timings pathwayPCA_1.6.3.tar.gz |
| StartedAt: 2021-05-06 04:33:13 -0400 (Thu, 06 May 2021) |
| EndedAt: 2021-05-06 04:36:24 -0400 (Thu, 06 May 2021) |
| EllapsedTime: 190.0 seconds |
| RetCode: 0 |
| Status: OK |
| CheckDir: pathwayPCA.Rcheck |
| Warnings: 0 |
##############################################################################
##############################################################################
###
### Running command:
###
### /Library/Frameworks/R.framework/Versions/Current/Resources/bin/R CMD check --install=check:pathwayPCA.install-out.txt --library=/Library/Frameworks/R.framework/Versions/Current/Resources/library --no-vignettes --timings pathwayPCA_1.6.3.tar.gz
###
##############################################################################
##############################################################################
* using log directory ‘/Users/biocbuild/bbs-3.12-bioc/meat/pathwayPCA.Rcheck’
* using R version 4.0.5 (2021-03-31)
* using platform: x86_64-apple-darwin17.0 (64-bit)
* using session charset: UTF-8
* using option ‘--no-vignettes’
* checking for file ‘pathwayPCA/DESCRIPTION’ ... OK
* checking extension type ... Package
* this is package ‘pathwayPCA’ version ‘1.6.3’
* package encoding: UTF-8
* checking package namespace information ... OK
* checking package dependencies ... OK
* checking if this is a source package ... OK
* checking if there is a namespace ... OK
* checking for hidden files and directories ... OK
* checking for portable file names ... OK
* checking for sufficient/correct file permissions ... OK
* checking whether package ‘pathwayPCA’ can be installed ... OK
* checking installed package size ... OK
* checking package directory ... OK
* checking ‘build’ directory ... OK
* checking DESCRIPTION meta-information ... OK
* checking top-level files ... OK
* checking for left-over files ... OK
* checking index information ... OK
* checking package subdirectories ... OK
* checking R files for non-ASCII characters ... OK
* checking R files for syntax errors ... OK
* checking whether the package can be loaded ... OK
* checking whether the package can be loaded with stated dependencies ... OK
* checking whether the package can be unloaded cleanly ... OK
* checking whether the namespace can be loaded with stated dependencies ... OK
* checking whether the namespace can be unloaded cleanly ... OK
* checking dependencies in R code ... OK
* checking S3 generic/method consistency ... OK
* checking replacement functions ... OK
* checking foreign function calls ... OK
* checking R code for possible problems ... OK
* checking Rd files ... OK
* checking Rd metadata ... OK
* checking Rd cross-references ... OK
* checking for missing documentation entries ... OK
* checking for code/documentation mismatches ... OK
* checking Rd \usage sections ... OK
* checking Rd contents ... OK
* checking for unstated dependencies in examples ... OK
* checking contents of ‘data’ directory ... OK
* checking data for non-ASCII characters ... OK
* checking data for ASCII and uncompressed saves ... OK
* checking files in ‘vignettes’ ... OK
* checking examples ... OK
Examples with CPU (user + system) or elapsed time > 5s
user system elapsed
SE2Tidy 11.382 0.290 11.687
LoadOntoPCs 0.505 0.248 8.158
AESPCA_pVals 0.499 0.231 8.295
ExtractAESPCs 0.380 0.210 5.965
getPathpVals 0.248 0.030 10.777
getPathPCLs 0.230 0.030 10.389
SuperPCA_pVals 0.191 0.017 8.009
* checking for unstated dependencies in ‘tests’ ... OK
* checking tests ...
Running ‘testthat.R’
OK
* checking for unstated dependencies in vignettes ... OK
* checking package vignettes in ‘inst/doc’ ... OK
* checking running R code from vignettes ... SKIPPED
* checking re-building of vignette outputs ... SKIPPED
* checking PDF version of manual ... OK
* DONE
Status: OK
pathwayPCA.Rcheck/00install.out
############################################################################## ############################################################################## ### ### Running command: ### ### /Library/Frameworks/R.framework/Versions/Current/Resources/bin/R CMD INSTALL pathwayPCA ### ############################################################################## ############################################################################## * installing to library ‘/Library/Frameworks/R.framework/Versions/4.0/Resources/library’ * installing *source* package ‘pathwayPCA’ ... ** using staged installation ** R ** data *** moving datasets to lazyload DB ** inst ** byte-compile and prepare package for lazy loading ** help *** installing help indices ** building package indices ** installing vignettes ** testing if installed package can be loaded from temporary location ** testing if installed package can be loaded from final location ** testing if installed package keeps a record of temporary installation path * DONE (pathwayPCA)
pathwayPCA.Rcheck/tests/testthat.Rout
R version 4.0.5 (2021-03-31) -- "Shake and Throw"
Copyright (C) 2021 The R Foundation for Statistical Computing
Platform: x86_64-apple-darwin17.0 (64-bit)
R is free software and comes with ABSOLUTELY NO WARRANTY.
You are welcome to redistribute it under certain conditions.
Type 'license()' or 'licence()' for distribution details.
R is a collaborative project with many contributors.
Type 'contributors()' for more information and
'citation()' on how to cite R or R packages in publications.
Type 'demo()' for some demos, 'help()' for on-line help, or
'help.start()' for an HTML browser interface to help.
Type 'q()' to quit R.
> library(testthat)
> library(pathwayPCA)
>
> test_check("pathwayPCA")
[ FAIL 0 | WARN 0 | SKIP 0 | PASS 47 ]
>
> proc.time()
user system elapsed
16.744 0.961 56.699
pathwayPCA.Rcheck/pathwayPCA-Ex.timings
| name | user | system | elapsed | |
| AESPCA_pVals | 0.499 | 0.231 | 8.295 | |
| CheckAssay | 0.000 | 0.000 | 0.001 | |
| CheckPwyColl | 0.001 | 0.000 | 0.000 | |
| CheckSampleIDs | 0.001 | 0.000 | 0.001 | |
| Contains | 0.001 | 0.001 | 0.002 | |
| ControlFDR | 0.000 | 0.001 | 0.001 | |
| CreateOmics | 0.278 | 0.035 | 0.314 | |
| CreateOmicsPathway | 0.002 | 0.002 | 0.004 | |
| CreatePathwayCollection | 0.010 | 0.002 | 0.013 | |
| ExtractAESPCs | 0.380 | 0.210 | 5.965 | |
| GumbelMixpValues | 0.000 | 0.001 | 0.000 | |
| IntersectOmicsPwyCollct | 0.000 | 0.000 | 0.001 | |
| JoinPhenoAssay | 0 | 0 | 0 | |
| LoadOntoPCs | 0.505 | 0.248 | 8.158 | |
| OptimGumbelMixParams | 0.000 | 0.001 | 0.000 | |
| PathwaytValues | 0.000 | 0.001 | 0.001 | |
| PermTestCateg | 0.000 | 0.001 | 0.000 | |
| PermTestReg | 0.000 | 0.001 | 0.001 | |
| PermTestSurv | 0.000 | 0.001 | 0.002 | |
| SE2Tidy | 11.382 | 0.290 | 11.687 | |
| SubsetPathwayCollection | 0.003 | 0.002 | 0.005 | |
| SubsetPathwayData | 0.184 | 0.080 | 0.263 | |
| SuperPCA_pVals | 0.191 | 0.017 | 8.009 | |
| TabulatepValues | 0.000 | 0.002 | 0.002 | |
| TransposeAssay | 0.116 | 0.069 | 0.186 | |
| WhichPathways | 0.006 | 0.002 | 0.008 | |
| aespca | 0.001 | 0.000 | 0.001 | |
| coxTrain_fun | 0.000 | 0.001 | 0.000 | |
| getPathPCLs | 0.230 | 0.030 | 10.389 | |
| getPathpVals | 0.248 | 0.030 | 10.777 | |
| get_set_OmicsPathway | 1.402 | 0.757 | 2.205 | |
| get_set_OmicsRegCateg | 0.163 | 0.006 | 0.169 | |
| get_set_OmicsSurv | 0.074 | 0.009 | 0.083 | |
| glmTrain_fun | 0.000 | 0.000 | 0.001 | |
| lars.lsa | 0.001 | 0.001 | 0.000 | |
| mysvd | 0.000 | 0.001 | 0.001 | |
| normalize | 0.000 | 0.000 | 0.001 | |
| olsTrain_fun | 0 | 0 | 0 | |
| pathway_tControl | 0.000 | 0.001 | 0.000 | |
| pathway_tScores | 0.000 | 0.001 | 0.001 | |
| permuteSamps | 0.001 | 0.001 | 0.000 | |
| print.pathwayCollection | 0.005 | 0.002 | 0.006 | |
| read_gmt | 0.164 | 0.002 | 0.166 | |
| show-OmicsPathway-method | 0.156 | 0.006 | 0.162 | |
| superpc.st | 0.001 | 0.000 | 0.001 | |
| superpc.train | 0.001 | 0.000 | 0.000 | |
| write_gmt | 0.003 | 0.001 | 0.004 | |