| Back to Multiple platform build/check report for BioC 3.12 |
|
This page was generated on 2021-05-06 12:32:42 -0400 (Thu, 06 May 2021).
|
To the developers/maintainers of the pathRender package: Please make sure to use the following settings in order to reproduce any error or warning you see on this page. |
| Package 1307/1974 | Hostname | OS / Arch | INSTALL | BUILD | CHECK | BUILD BIN | ||||||||
| pathRender 1.58.0 (landing page) Vince Carey
| malbec1 | Linux (Ubuntu 18.04.5 LTS) / x86_64 | OK | OK | OK | |||||||||
| tokay1 | Windows Server 2012 R2 Standard / x64 | OK | OK | OK | OK | |||||||||
| merida1 | macOS 10.14.6 Mojave / x86_64 | OK | OK | OK | OK | |||||||||
| Package: pathRender |
| Version: 1.58.0 |
| Command: rm -rf pathRender.buildbin-libdir && mkdir pathRender.buildbin-libdir && C:\Users\biocbuild\bbs-3.12-bioc\R\bin\R.exe CMD INSTALL --merge-multiarch --build --library=pathRender.buildbin-libdir pathRender_1.58.0.tar.gz |
| StartedAt: 2021-05-06 09:43:43 -0400 (Thu, 06 May 2021) |
| EndedAt: 2021-05-06 09:44:14 -0400 (Thu, 06 May 2021) |
| EllapsedTime: 31.0 seconds |
| RetCode: 0 |
| Status: OK |
| PackageFile: pathRender_1.58.0.zip |
| PackageFileSize: 247.3 KiB |
##############################################################################
##############################################################################
###
### Running command:
###
### rm -rf pathRender.buildbin-libdir && mkdir pathRender.buildbin-libdir && C:\Users\biocbuild\bbs-3.12-bioc\R\bin\R.exe CMD INSTALL --merge-multiarch --build --library=pathRender.buildbin-libdir pathRender_1.58.0.tar.gz
###
##############################################################################
##############################################################################
install for i386
* installing *source* package 'pathRender' ...
** using staged installation
** R
** inst
** byte-compile and prepare package for lazy loading
** help
*** installing help indices
converting help for package 'pathRender'
finding HTML links ... done
colorNodes html
coloredGraph-class html
graphcMAP html
plotExGraph html
pwayGraph-class html
reduceES html
rendercMAP html
** building package indices
** installing vignettes
** testing if installed package can be loaded from temporary location
** testing if installed package can be loaded from final location
** testing if installed package keeps a record of temporary installation path
install for x64
* installing *source* package 'pathRender' ...
** testing if installed package can be loaded
* MD5 sums
packaged installation of 'pathRender' as pathRender_1.58.0.zip
* DONE (pathRender)