| Back to Multiple platform build/check report for BioC 3.12 |
|
This page was generated on 2021-05-06 12:32:41 -0400 (Thu, 06 May 2021).
|
To the developers/maintainers of the parglms package: Please make sure to use the following settings in order to reproduce any error or warning you see on this page. |
| Package 1299/1974 | Hostname | OS / Arch | INSTALL | BUILD | CHECK | BUILD BIN | ||||||||
| parglms 1.22.0 (landing page) VJ Carey
| malbec1 | Linux (Ubuntu 18.04.5 LTS) / x86_64 | OK | OK | OK | |||||||||
| tokay1 | Windows Server 2012 R2 Standard / x64 | OK | OK | OK | OK | |||||||||
| merida1 | macOS 10.14.6 Mojave / x86_64 | OK | OK | OK | OK | |||||||||
| Package: parglms |
| Version: 1.22.0 |
| Command: chmod a+r parglms -R && C:\Users\biocbuild\bbs-3.12-bioc\R\bin\R.exe CMD build --keep-empty-dirs --no-resave-data parglms |
| StartedAt: 2021-05-05 22:32:14 -0400 (Wed, 05 May 2021) |
| EndedAt: 2021-05-05 22:32:36 -0400 (Wed, 05 May 2021) |
| EllapsedTime: 22.3 seconds |
| RetCode: 0 |
| Status: OK |
| PackageFile: parglms_1.22.0.tar.gz |
| PackageFileSize: 266.4 KiB |
############################################################################## ############################################################################## ### ### Running command: ### ### chmod a+r parglms -R && C:\Users\biocbuild\bbs-3.12-bioc\R\bin\R.exe CMD build --keep-empty-dirs --no-resave-data parglms ### ############################################################################## ############################################################################## * checking for file 'parglms/DESCRIPTION' ... OK * preparing 'parglms': * checking DESCRIPTION meta-information ... OK * installing the package to process help pages * saving partial Rd database * creating vignettes ... OK * checking for LF line-endings in source and make files and shell scripts * checking for empty or unneeded directories * building 'parglms_1.22.0.tar.gz'