| Back to Multiple platform build/check report for BioC 3.12 |
|
This page was generated on 2021-05-06 12:32:41 -0400 (Thu, 06 May 2021).
|
To the developers/maintainers of the panelcn.mops package: Please make sure to use the following settings in order to reproduce any error or warning you see on this page. |
| Package 1295/1974 | Hostname | OS / Arch | INSTALL | BUILD | CHECK | BUILD BIN | ||||||||
| panelcn.mops 1.12.0 (landing page) Gundula Povysil
| malbec1 | Linux (Ubuntu 18.04.5 LTS) / x86_64 | OK | OK | OK | |||||||||
| tokay1 | Windows Server 2012 R2 Standard / x64 | OK | OK | OK | OK | |||||||||
| merida1 | macOS 10.14.6 Mojave / x86_64 | OK | OK | OK | OK | |||||||||
| Package: panelcn.mops |
| Version: 1.12.0 |
| Command: rm -rf panelcn.mops.buildbin-libdir && mkdir panelcn.mops.buildbin-libdir && C:\Users\biocbuild\bbs-3.12-bioc\R\bin\R.exe CMD INSTALL --merge-multiarch --build --library=panelcn.mops.buildbin-libdir panelcn.mops_1.12.0.tar.gz |
| StartedAt: 2021-05-06 09:43:00 -0400 (Thu, 06 May 2021) |
| EndedAt: 2021-05-06 09:43:50 -0400 (Thu, 06 May 2021) |
| EllapsedTime: 50.1 seconds |
| RetCode: 0 |
| Status: OK |
| PackageFile: panelcn.mops_1.12.0.zip |
| PackageFileSize: 443.3 KiB |
##############################################################################
##############################################################################
###
### Running command:
###
### rm -rf panelcn.mops.buildbin-libdir && mkdir panelcn.mops.buildbin-libdir && C:\Users\biocbuild\bbs-3.12-bioc\R\bin\R.exe CMD INSTALL --merge-multiarch --build --library=panelcn.mops.buildbin-libdir panelcn.mops_1.12.0.tar.gz
###
##############################################################################
##############################################################################
install for i386
* installing *source* package 'panelcn.mops' ...
** using staged installation
** R
** data
*** moving datasets to lazyload DB
** inst
** byte-compile and prepare package for lazy loading
** help
*** installing help indices
converting help for package 'panelcn.mops'
finding HTML links ... done
control html
countBamListInGRanges html
countWindows html
createResultTable html
getWindows html
panelcn.mops html
plotBoxplot html
read.width html
resultlist html
runPanelcnMops html
splitROIs html
test html
** building package indices
** installing vignettes
** testing if installed package can be loaded from temporary location
** testing if installed package can be loaded from final location
** testing if installed package keeps a record of temporary installation path
install for x64
* installing *source* package 'panelcn.mops' ...
** testing if installed package can be loaded
* MD5 sums
packaged installation of 'panelcn.mops' as panelcn.mops_1.12.0.zip
* DONE (panelcn.mops)