| Back to Multiple platform build/check report for BioC 3.12 |
|
This page was generated on 2021-05-06 12:32:40 -0400 (Thu, 06 May 2021).
|
To the developers/maintainers of the pandaR package: Please make sure to use the following settings in order to reproduce any error or warning you see on this page. |
| Package 1294/1974 | Hostname | OS / Arch | INSTALL | BUILD | CHECK | BUILD BIN | ||||||||
| pandaR 1.22.0 (landing page) Joseph N. Paulson
| malbec1 | Linux (Ubuntu 18.04.5 LTS) / x86_64 | OK | OK | WARNINGS | |||||||||
| tokay1 | Windows Server 2012 R2 Standard / x64 | OK | OK | WARNINGS | OK | |||||||||
| merida1 | macOS 10.14.6 Mojave / x86_64 | OK | OK | WARNINGS | OK | |||||||||
| Package: pandaR |
| Version: 1.22.0 |
| Command: C:\cygwin\bin\curl.exe -O http://172.29.0.3/BBS/3.12/bioc/src/contrib/pandaR_1.22.0.tar.gz && rm -rf pandaR.buildbin-libdir && mkdir pandaR.buildbin-libdir && C:\Users\biocbuild\bbs-3.12-bioc\R\bin\R.exe CMD INSTALL --merge-multiarch --build --library=pandaR.buildbin-libdir pandaR_1.22.0.tar.gz && C:\Users\biocbuild\bbs-3.12-bioc\R\bin\R.exe CMD INSTALL pandaR_1.22.0.zip && rm pandaR_1.22.0.tar.gz pandaR_1.22.0.zip |
| StartedAt: 2021-05-05 17:25:04 -0400 (Wed, 05 May 2021) |
| EndedAt: 2021-05-05 17:25:35 -0400 (Wed, 05 May 2021) |
| EllapsedTime: 30.2 seconds |
| RetCode: 0 |
| Status: OK |
##############################################################################
##############################################################################
###
### Running command:
###
### C:\cygwin\bin\curl.exe -O http://172.29.0.3/BBS/3.12/bioc/src/contrib/pandaR_1.22.0.tar.gz && rm -rf pandaR.buildbin-libdir && mkdir pandaR.buildbin-libdir && C:\Users\biocbuild\bbs-3.12-bioc\R\bin\R.exe CMD INSTALL --merge-multiarch --build --library=pandaR.buildbin-libdir pandaR_1.22.0.tar.gz && C:\Users\biocbuild\bbs-3.12-bioc\R\bin\R.exe CMD INSTALL pandaR_1.22.0.zip && rm pandaR_1.22.0.tar.gz pandaR_1.22.0.zip
###
##############################################################################
##############################################################################
% Total % Received % Xferd Average Speed Time Time Time Current
Dload Upload Total Spent Left Speed
0 0 0 0 0 0 0 0 --:--:-- --:--:-- --:--:-- 0
100 8845k 100 8845k 0 0 74.5M 0 --:--:-- --:--:-- --:--:-- 75.1M
install for i386
* installing *source* package 'pandaR' ...
** using staged installation
** R
** data
*** moving datasets to lazyload DB
** inst
** byte-compile and prepare package for lazy loading
** help
*** installing help indices
converting help for package 'pandaR'
finding HTML links ... done
calcDegree html
calcDegreeDifference html
importPandaMatlab html
multiplot html
panda html
pandaR html
pandaResult html
pandaResultPairs html
pandaToyData html
plotCommunityDetection html
plotGraph html
plotZ html
plotZbyTF html
print.panda html
subnetwork html
summary.panda html
targetedGenes html
testMotif html
topedges html
** building package indices
** installing vignettes
** testing if installed package can be loaded from temporary location
** testing if installed package can be loaded from final location
** testing if installed package keeps a record of temporary installation path
install for x64
* installing *source* package 'pandaR' ...
** testing if installed package can be loaded
* MD5 sums
packaged installation of 'pandaR' as pandaR_1.22.0.zip
* DONE (pandaR)
* installing to library 'C:/Users/biocbuild/bbs-3.12-bioc/R/library'
package 'pandaR' successfully unpacked and MD5 sums checked