| Back to Multiple platform build/check report for BioC 3.12 |
|
This page was generated on 2021-05-06 12:28:29 -0400 (Thu, 06 May 2021).
|
To the developers/maintainers of the packFinder package: Please make sure to use the following settings in order to reproduce any error or warning you see on this page. |
| Package 1288/1974 | Hostname | OS / Arch | INSTALL | BUILD | CHECK | BUILD BIN | ||||||||
| packFinder 1.2.0 (landing page) Jack Gisby
| malbec1 | Linux (Ubuntu 18.04.5 LTS) / x86_64 | OK | OK | OK | |||||||||
| tokay1 | Windows Server 2012 R2 Standard / x64 | OK | OK | OK | OK | |||||||||
| merida1 | macOS 10.14.6 Mojave / x86_64 | OK | OK | OK | OK | |||||||||
| Package: packFinder |
| Version: 1.2.0 |
| Command: /home/biocbuild/bbs-3.12-bioc/R/bin/R CMD check --install=check:packFinder.install-out.txt --library=/home/biocbuild/bbs-3.12-bioc/R/library --no-vignettes --timings packFinder_1.2.0.tar.gz |
| StartedAt: 2021-05-06 04:15:52 -0400 (Thu, 06 May 2021) |
| EndedAt: 2021-05-06 04:16:44 -0400 (Thu, 06 May 2021) |
| EllapsedTime: 51.2 seconds |
| RetCode: 0 |
| Status: OK |
| CheckDir: packFinder.Rcheck |
| Warnings: 0 |
##############################################################################
##############################################################################
###
### Running command:
###
### /home/biocbuild/bbs-3.12-bioc/R/bin/R CMD check --install=check:packFinder.install-out.txt --library=/home/biocbuild/bbs-3.12-bioc/R/library --no-vignettes --timings packFinder_1.2.0.tar.gz
###
##############################################################################
##############################################################################
* using log directory ‘/home/biocbuild/bbs-3.12-bioc/meat/packFinder.Rcheck’
* using R version 4.0.5 (2021-03-31)
* using platform: x86_64-pc-linux-gnu (64-bit)
* using session charset: UTF-8
* using option ‘--no-vignettes’
* checking for file ‘packFinder/DESCRIPTION’ ... OK
* checking extension type ... Package
* this is package ‘packFinder’ version ‘1.2.0’
* package encoding: UTF-8
* checking package namespace information ... OK
* checking package dependencies ... OK
* checking if this is a source package ... OK
* checking if there is a namespace ... OK
* checking for hidden files and directories ... OK
* checking for portable file names ... OK
* checking for sufficient/correct file permissions ... OK
* checking whether package ‘packFinder’ can be installed ... OK
* checking installed package size ... OK
* checking package directory ... OK
* checking ‘build’ directory ... OK
* checking DESCRIPTION meta-information ... OK
* checking top-level files ... OK
* checking for left-over files ... OK
* checking index information ... OK
* checking package subdirectories ... OK
* checking R files for non-ASCII characters ... OK
* checking R files for syntax errors ... OK
* checking whether the package can be loaded ... OK
* checking whether the package can be loaded with stated dependencies ... OK
* checking whether the package can be unloaded cleanly ... OK
* checking whether the namespace can be loaded with stated dependencies ... OK
* checking whether the namespace can be unloaded cleanly ... OK
* checking dependencies in R code ... OK
* checking S3 generic/method consistency ... OK
* checking replacement functions ... OK
* checking foreign function calls ... OK
* checking R code for possible problems ... OK
* checking Rd files ... OK
* checking Rd metadata ... OK
* checking Rd cross-references ... OK
* checking for missing documentation entries ... OK
* checking for code/documentation mismatches ... OK
* checking Rd \usage sections ... OK
* checking Rd contents ... OK
* checking for unstated dependencies in examples ... OK
* checking contents of ‘data’ directory ... OK
* checking data for non-ASCII characters ... OK
* checking data for ASCII and uncompressed saves ... OK
* checking files in ‘vignettes’ ... OK
* checking examples ... OK
Examples with CPU (user + system) or elapsed time > 5s
user system elapsed
arabidopsisThalianaRefseq 5.012 0.128 5.146
* checking for unstated dependencies in ‘tests’ ... OK
* checking tests ...
Running ‘testthat.R’
OK
* checking for unstated dependencies in vignettes ... OK
* checking package vignettes in ‘inst/doc’ ... OK
* checking running R code from vignettes ... SKIPPED
* checking re-building of vignette outputs ... SKIPPED
* checking PDF version of manual ... OK
* DONE
Status: OK
packFinder.Rcheck/00install.out
############################################################################## ############################################################################## ### ### Running command: ### ### /home/biocbuild/bbs-3.12-bioc/R/bin/R CMD INSTALL packFinder ### ############################################################################## ############################################################################## * installing to library ‘/home/biocbuild/bbs-3.12-bioc/R/library’ * installing *source* package ‘packFinder’ ... ** using staged installation ** R ** data ** inst ** byte-compile and prepare package for lazy loading ** help *** installing help indices ** building package indices ** installing vignettes ** testing if installed package can be loaded from temporary location ** testing if installed package can be loaded from final location ** testing if installed package keeps a record of temporary installation path * DONE (packFinder)
packFinder.Rcheck/tests/testthat.Rout
R version 4.0.5 (2021-03-31) -- "Shake and Throw"
Copyright (C) 2021 The R Foundation for Statistical Computing
Platform: x86_64-pc-linux-gnu (64-bit)
R is free software and comes with ABSOLUTELY NO WARRANTY.
You are welcome to redistribute it under certain conditions.
Type 'license()' or 'licence()' for distribution details.
R is a collaborative project with many contributors.
Type 'contributors()' for more information and
'citation()' on how to cite R or R packages in publications.
Type 'demo()' for some demos, 'help()' for on-line help, or
'help.start()' for an HTML browser interface to help.
Type 'q()' to quit R.
> library(testthat)
> library(packFinder)
>
> test_check("packFinder")
DNAStringSet object of length 1:
width seq names
[1] 3800001 GGTGTTAAAAGGTTCTTGAGTG...TAGTCAGGTTTCTAACAGAAAA Chr3
[1] "File successfully written to tempTestOutput/packMatches.csv"
[1] "FASTA written to tempTestOutput/packMatches.fasta"
[ FAIL 0 | WARN 0 | SKIP 0 | PASS 31 ]
>
> proc.time()
user system elapsed
7.804 0.260 8.074
packFinder.Rcheck/packFinder-Ex.timings
| name | user | system | elapsed | |
| arabidopsisThalianaRefseq | 5.012 | 0.128 | 5.146 | |
| blastAnalysis | 0 | 0 | 0 | |
| blastAnnotate | 0.004 | 0.000 | 0.007 | |
| collapseSeqs | 0.736 | 0.004 | 0.742 | |
| filterWildcards | 0.112 | 0.004 | 0.117 | |
| getPackSeqs | 1.652 | 0.004 | 1.657 | |
| getPacksFromCsv | 0.004 | 0.000 | 0.019 | |
| getPacksFromFasta | 0.064 | 0.008 | 0.073 | |
| getPacksFromGRanges | 0.056 | 0.000 | 0.055 | |
| getTsds | 0.092 | 0.012 | 0.103 | |
| identifyPotentialPackElements | 0.744 | 0.000 | 0.747 | |
| identifyTirMatches | 0.124 | 0.008 | 0.130 | |
| makeBlastDb | 0 | 0 | 0 | |
| packAlign | 0.064 | 0.000 | 0.064 | |
| packBlast | 0 | 0 | 0 | |
| packClust | 0.068 | 0.000 | 0.066 | |
| packMatches | 1.684 | 0.004 | 1.692 | |
| packSearch | 1.828 | 0.004 | 1.836 | |
| packsToCsv | 0.000 | 0.000 | 0.003 | |
| packsToFasta | 0.088 | 0.000 | 0.088 | |
| packsToGRanges | 0.016 | 0.000 | 0.019 | |
| readBlast | 0.004 | 0.000 | 0.005 | |
| readUc | 0.004 | 0.000 | 0.004 | |
| tirClust | 0.564 | 0.004 | 0.581 | |