| Back to Multiple platform build/check report for BioC 3.12 |
|
This page was generated on 2021-05-06 12:36:01 -0400 (Thu, 06 May 2021).
|
To the developers/maintainers of the openPrimeR package: Please make sure to use the following settings in order to reproduce any error or warning you see on this page. |
| Package 1269/1974 | Hostname | OS / Arch | INSTALL | BUILD | CHECK | BUILD BIN | ||||||||
| openPrimeR 1.12.1 (landing page) Matthias Döring
| malbec1 | Linux (Ubuntu 18.04.5 LTS) / x86_64 | OK | OK | OK | |||||||||
| tokay1 | Windows Server 2012 R2 Standard / x64 | OK | OK | OK | OK | |||||||||
| merida1 | macOS 10.14.6 Mojave / x86_64 | OK | OK | OK | OK | |||||||||
| Package: openPrimeR |
| Version: 1.12.1 |
| Command: /Library/Frameworks/R.framework/Versions/Current/Resources/bin/R CMD check --install=check:openPrimeR.install-out.txt --library=/Library/Frameworks/R.framework/Versions/Current/Resources/library --no-vignettes --timings openPrimeR_1.12.1.tar.gz |
| StartedAt: 2021-05-06 04:24:39 -0400 (Thu, 06 May 2021) |
| EndedAt: 2021-05-06 04:31:11 -0400 (Thu, 06 May 2021) |
| EllapsedTime: 392.5 seconds |
| RetCode: 0 |
| Status: OK |
| CheckDir: openPrimeR.Rcheck |
| Warnings: 0 |
##############################################################################
##############################################################################
###
### Running command:
###
### /Library/Frameworks/R.framework/Versions/Current/Resources/bin/R CMD check --install=check:openPrimeR.install-out.txt --library=/Library/Frameworks/R.framework/Versions/Current/Resources/library --no-vignettes --timings openPrimeR_1.12.1.tar.gz
###
##############################################################################
##############################################################################
* using log directory ‘/Users/biocbuild/bbs-3.12-bioc/meat/openPrimeR.Rcheck’
* using R version 4.0.5 (2021-03-31)
* using platform: x86_64-apple-darwin17.0 (64-bit)
* using session charset: UTF-8
* using option ‘--no-vignettes’
* checking for file ‘openPrimeR/DESCRIPTION’ ... OK
* this is package ‘openPrimeR’ version ‘1.12.1’
* package encoding: UTF-8
* checking package namespace information ... OK
* checking package dependencies ... OK
* checking if this is a source package ... OK
* checking if there is a namespace ... OK
* checking for hidden files and directories ... NOTE
Found the following hidden files and directories:
.travis.yml
These were most likely included in error. See section ‘Package
structure’ in the ‘Writing R Extensions’ manual.
* checking for portable file names ... OK
* checking for sufficient/correct file permissions ... OK
* checking whether package ‘openPrimeR’ can be installed ... OK
* checking installed package size ... NOTE
installed size is 13.0Mb
sub-directories of 1Mb or more:
R 2.2Mb
extdata 10.2Mb
* checking package directory ... OK
* checking ‘build’ directory ... OK
* checking DESCRIPTION meta-information ... OK
* checking top-level files ... OK
* checking for left-over files ... OK
* checking index information ... OK
* checking package subdirectories ... OK
* checking R files for non-ASCII characters ... OK
* checking R files for syntax errors ... OK
* checking whether the package can be loaded ... OK
* checking whether the package can be loaded with stated dependencies ... OK
* checking whether the package can be unloaded cleanly ... OK
* checking whether the namespace can be loaded with stated dependencies ... OK
* checking whether the namespace can be unloaded cleanly ... OK
* checking dependencies in R code ... OK
* checking S3 generic/method consistency ... OK
* checking replacement functions ... OK
* checking foreign function calls ... OK
* checking R code for possible problems ... OK
* checking Rd files ... OK
* checking Rd metadata ... OK
* checking Rd cross-references ... OK
* checking for missing documentation entries ... OK
* checking for code/documentation mismatches ... OK
* checking Rd \usage sections ... OK
* checking Rd contents ... OK
* checking for unstated dependencies in examples ... OK
* checking contents of ‘data’ directory ... OK
* checking data for non-ASCII characters ... OK
* checking data for ASCII and uncompressed saves ... OK
* checking R/sysdata.rda ... OK
* checking files in ‘vignettes’ ... OK
* checking examples ... OK
Examples with CPU (user + system) or elapsed time > 5s
user system elapsed
Output 48.682 16.187 46.009
PrimerDesign 30.317 8.225 28.023
Plots 19.916 7.049 19.165
PrimerEval 14.905 5.043 14.965
* checking for unstated dependencies in ‘tests’ ... OK
* checking tests ...
Running ‘testthat.R’
OK
* checking for unstated dependencies in vignettes ... OK
* checking package vignettes in ‘inst/doc’ ... OK
* checking running R code from vignettes ... SKIPPED
* checking re-building of vignette outputs ... SKIPPED
* checking PDF version of manual ... OK
* DONE
Status: 2 NOTEs
See
‘/Users/biocbuild/bbs-3.12-bioc/meat/openPrimeR.Rcheck/00check.log’
for details.
openPrimeR.Rcheck/00install.out
############################################################################## ############################################################################## ### ### Running command: ### ### /Library/Frameworks/R.framework/Versions/Current/Resources/bin/R CMD INSTALL openPrimeR ### ############################################################################## ############################################################################## * installing to library ‘/Library/Frameworks/R.framework/Versions/4.0/Resources/library’ * installing *source* package ‘openPrimeR’ ... ** using staged installation ** R ** data ** inst ** byte-compile and prepare package for lazy loading ** help *** installing help indices ** building package indices ** installing vignettes ** testing if installed package can be loaded from temporary location The number of cores for was set to '2' by 'parallel_setup()'. ** testing if installed package can be loaded from final location The number of cores for was set to '2' by 'parallel_setup()'. ** testing if installed package keeps a record of temporary installation path * DONE (openPrimeR)
openPrimeR.Rcheck/tests/testthat.Rout
R version 4.0.5 (2021-03-31) -- "Shake and Throw"
Copyright (C) 2021 The R Foundation for Statistical Computing
Platform: x86_64-apple-darwin17.0 (64-bit)
R is free software and comes with ABSOLUTELY NO WARRANTY.
You are welcome to redistribute it under certain conditions.
Type 'license()' or 'licence()' for distribution details.
R is a collaborative project with many contributors.
Type 'contributors()' for more information and
'citation()' on how to cite R or R packages in publications.
Type 'demo()' for some demos, 'help()' for on-line help, or
'help.start()' for an HTML browser interface to help.
Type 'q()' to quit R.
> require(testthat)
Loading required package: testthat
> require(openPrimeR)
Loading required package: openPrimeR
There are missing/non-functioning external tools.
To use the full potential of openPrimeR, please make sure
that the required versions of the speciied tools are
installed and that they are functional:
o MELTING (http://www.ebi.ac.uk/biomodels/tools/melting/)
o OligoArrayAux (http://unafold.rna.albany.edu/OligoArrayAux.php)
o MAFFT (http://mafft.cbrc.jp/alignment/software/)
The number of cores for was set to '2' by 'parallel_setup()'.
> #test_package("openPrimeR")
> test_check("openPrimeR")
══ Skipped tests ═══════════════════════════════════════════════════════════════
• MAFFT not available. (1)
• OligoArrayAux not available. (5)
• On Bioconductor (1)
[ FAIL 0 | WARN 1 | SKIP 7 | PASS 1474 ]
>
> proc.time()
user system elapsed
76.320 19.762 83.816
openPrimeR.Rcheck/openPrimeR-Ex.timings
| name | user | system | elapsed | |
| AnalysisStats | 2.460 | 0.031 | 2.494 | |
| Data | 1.217 | 0.049 | 1.268 | |
| Input | 1.717 | 0.124 | 1.857 | |
| Output | 48.682 | 16.187 | 46.009 | |
| Plots | 19.916 | 7.049 | 19.165 | |
| PrimerDesign | 30.317 | 8.225 | 28.023 | |
| PrimerEval | 14.905 | 5.043 | 14.965 | |
| Primers-method | 0.029 | 0.031 | 0.059 | |
| Scoring | 0.063 | 0.013 | 0.077 | |
| Settings | 1.042 | 1.081 | 2.308 | |
| Templates-method | 0.044 | 0.009 | 0.053 | |
| TemplatesFunctions | 0.411 | 0.077 | 0.496 | |
| runTutorial | 0 | 0 | 0 | |