| Back to Multiple platform build/check report for BioC 3.12 |
|
This page was generated on 2021-05-06 12:36:01 -0400 (Thu, 06 May 2021).
|
To the developers/maintainers of the ontoProc package: Please make sure to use the following settings in order to reproduce any error or warning you see on this page. |
| Package 1267/1974 | Hostname | OS / Arch | INSTALL | BUILD | CHECK | BUILD BIN | ||||||||
| ontoProc 1.12.0 (landing page) VJ Carey
| malbec1 | Linux (Ubuntu 18.04.5 LTS) / x86_64 | OK | OK | OK | |||||||||
| tokay1 | Windows Server 2012 R2 Standard / x64 | OK | OK | OK | OK | |||||||||
| merida1 | macOS 10.14.6 Mojave / x86_64 | OK | OK | OK | OK | |||||||||
| Package: ontoProc |
| Version: 1.12.0 |
| Command: /Library/Frameworks/R.framework/Versions/Current/Resources/bin/R CMD check --install=check:ontoProc.install-out.txt --library=/Library/Frameworks/R.framework/Versions/Current/Resources/library --no-vignettes --timings ontoProc_1.12.0.tar.gz |
| StartedAt: 2021-05-06 04:24:15 -0400 (Thu, 06 May 2021) |
| EndedAt: 2021-05-06 04:28:01 -0400 (Thu, 06 May 2021) |
| EllapsedTime: 225.4 seconds |
| RetCode: 0 |
| Status: OK |
| CheckDir: ontoProc.Rcheck |
| Warnings: 0 |
##############################################################################
##############################################################################
###
### Running command:
###
### /Library/Frameworks/R.framework/Versions/Current/Resources/bin/R CMD check --install=check:ontoProc.install-out.txt --library=/Library/Frameworks/R.framework/Versions/Current/Resources/library --no-vignettes --timings ontoProc_1.12.0.tar.gz
###
##############################################################################
##############################################################################
* using log directory ‘/Users/biocbuild/bbs-3.12-bioc/meat/ontoProc.Rcheck’
* using R version 4.0.5 (2021-03-31)
* using platform: x86_64-apple-darwin17.0 (64-bit)
* using session charset: UTF-8
* using option ‘--no-vignettes’
* checking for file ‘ontoProc/DESCRIPTION’ ... OK
* this is package ‘ontoProc’ version ‘1.12.0’
* package encoding: UTF-8
* checking package namespace information ... OK
* checking package dependencies ... OK
* checking if this is a source package ... OK
* checking if there is a namespace ... OK
* checking for hidden files and directories ... OK
* checking for portable file names ... OK
* checking for sufficient/correct file permissions ... OK
* checking whether package ‘ontoProc’ can be installed ... OK
* checking installed package size ... NOTE
installed size is 37.8Mb
sub-directories of 1Mb or more:
app 1.9Mb
data 2.0Mb
ontoRda 33.5Mb
* checking package directory ... OK
* checking ‘build’ directory ... OK
* checking DESCRIPTION meta-information ... OK
* checking top-level files ... OK
* checking for left-over files ... OK
* checking index information ... OK
* checking package subdirectories ... OK
* checking R files for non-ASCII characters ... OK
* checking R files for syntax errors ... OK
* checking whether the package can be loaded ... OK
* checking whether the package can be loaded with stated dependencies ... OK
* checking whether the package can be unloaded cleanly ... OK
* checking whether the namespace can be loaded with stated dependencies ... OK
* checking whether the namespace can be unloaded cleanly ... OK
* checking dependencies in R code ... OK
* checking S3 generic/method consistency ... OK
* checking replacement functions ... OK
* checking foreign function calls ... OK
* checking R code for possible problems ... NOTE
CLfeat : prupdate: no visible binding for global variable ‘PRID’
CLfeat : prupdate: no visible binding for global variable ‘SYMBOL’
bind_formal_tags: no visible global function definition for ‘colData’
bind_formal_tags: no visible global function definition for ‘colData<-’
common_classes: no visible global function definition for ‘colData’
connect_classes: no visible global function definition for ‘colData’
ctmarks: no visible binding for '<<-' assignment to ‘pr’
ctmarks: no visible binding for '<<-' assignment to ‘go’
ctmarks : server: no visible binding for global variable ‘text’
ldfToTerm: no visible binding for global variable ‘PROSYM’
subset_descendants: no visible global function definition for ‘colData’
sym2CellOnto: no visible binding for global variable ‘SYMBOL’
Undefined global functions or variables:
PRID PROSYM SYMBOL colData colData<- text
Consider adding
importFrom("graphics", "text")
to your NAMESPACE file.
* checking Rd files ... OK
* checking Rd metadata ... OK
* checking Rd cross-references ... OK
* checking for missing documentation entries ... OK
* checking for code/documentation mismatches ... OK
* checking Rd \usage sections ... OK
* checking Rd contents ... OK
* checking for unstated dependencies in examples ... OK
* checking contents of ‘data’ directory ... OK
* checking data for non-ASCII characters ... NOTE
Note: found 162 marked UTF-8 strings
* checking data for ASCII and uncompressed saves ... OK
* checking files in ‘vignettes’ ... OK
* checking examples ... OK
Examples with CPU (user + system) or elapsed time > 5s
user system elapsed
common_classes 23.105 1.112 31.445
fastGrep 12.714 0.198 12.966
getLeavesFromTerm 11.951 0.092 12.055
CLfeats 11.513 0.195 11.721
sym2CellOnto 5.373 0.040 5.420
* checking for unstated dependencies in ‘tests’ ... OK
* checking tests ...
Running ‘test.R’
OK
* checking for unstated dependencies in vignettes ... OK
* checking package vignettes in ‘inst/doc’ ... OK
* checking running R code from vignettes ... SKIPPED
* checking re-building of vignette outputs ... SKIPPED
* checking PDF version of manual ... OK
* DONE
Status: 3 NOTEs
See
‘/Users/biocbuild/bbs-3.12-bioc/meat/ontoProc.Rcheck/00check.log’
for details.
ontoProc.Rcheck/00install.out
############################################################################## ############################################################################## ### ### Running command: ### ### /Library/Frameworks/R.framework/Versions/Current/Resources/bin/R CMD INSTALL ontoProc ### ############################################################################## ############################################################################## * installing to library ‘/Library/Frameworks/R.framework/Versions/4.0/Resources/library’ * installing *source* package ‘ontoProc’ ... ** using staged installation ** R ** data *** moving datasets to lazyload DB ** inst ** byte-compile and prepare package for lazy loading ** help *** installing help indices ** building package indices ** installing vignettes ** testing if installed package can be loaded from temporary location ** testing if installed package can be loaded from final location ** testing if installed package keeps a record of temporary installation path * DONE (ontoProc)
ontoProc.Rcheck/tests/test.Rout
R version 4.0.5 (2021-03-31) -- "Shake and Throw"
Copyright (C) 2021 The R Foundation for Statistical Computing
Platform: x86_64-apple-darwin17.0 (64-bit)
R is free software and comes with ABSOLUTELY NO WARRANTY.
You are welcome to redistribute it under certain conditions.
Type 'license()' or 'licence()' for distribution details.
R is a collaborative project with many contributors.
Type 'contributors()' for more information and
'citation()' on how to cite R or R packages in publications.
Type 'demo()' for some demos, 'help()' for on-line help, or
'help.start()' for an HTML browser interface to help.
Type 'q()' to quit R.
>
> library(ontoProc)
Loading required package: ontologyIndex
> library(testthat)
>
> test_check("ontoProc")
[ FAIL 0 | WARN 0 | SKIP 0 | PASS 8 ]
>
>
> proc.time()
user system elapsed
12.832 0.454 13.287
ontoProc.Rcheck/ontoProc-Ex.timings
| name | user | system | elapsed | |
| CLfeats | 11.513 | 0.195 | 11.721 | |
| PROSYM | 0.651 | 0.044 | 0.694 | |
| TermSet-class | 0.288 | 0.003 | 0.291 | |
| allGOterms | 0.040 | 0.001 | 0.041 | |
| cellTypeToGO | 2.022 | 0.128 | 2.154 | |
| cleanCLOnames | 0.924 | 0.009 | 0.935 | |
| common_classes | 23.105 | 1.112 | 31.445 | |
| cyclicSigset | 0.009 | 0.000 | 0.009 | |
| demoApp | 0.001 | 0.000 | 0.001 | |
| dropStop | 0.004 | 0.001 | 0.004 | |
| fastGrep | 12.714 | 0.198 | 12.966 | |
| findCommonAncestors | 0.789 | 0.080 | 0.870 | |
| getCellOnto | 4.209 | 0.067 | 4.288 | |
| getLeavesFromTerm | 11.951 | 0.092 | 12.055 | |
| humrna | 0.008 | 0.003 | 0.011 | |
| ldfToTerms | 0.217 | 0.012 | 0.230 | |
| liberalMap | 0.161 | 0.002 | 0.162 | |
| makeSelectInput | 0.001 | 0.001 | 0.001 | |
| make_graphNEL_from_ontology_plot | 1.332 | 0.063 | 1.397 | |
| mapOneNaive | 0.101 | 0.002 | 0.102 | |
| minicorpus | 0.001 | 0.001 | 0.002 | |
| nomenCheckup | 1.193 | 0.005 | 1.201 | |
| onto_plot2 | 0.376 | 0.004 | 0.381 | |
| onto_roots | 0.001 | 0.000 | 0.001 | |
| packDesc2019 | 0.004 | 0.000 | 0.004 | |
| recognizedPredicates | 0.000 | 0.000 | 0.001 | |
| secLevGen | 0.341 | 0.002 | 0.345 | |
| selectFromMap | 0.118 | 0.001 | 0.120 | |
| seur3kTab | 0.004 | 0.001 | 0.006 | |
| siblings_TAG | 0.831 | 0.007 | 0.841 | |
| stopWords | 0.001 | 0.001 | 0.002 | |
| sym2CellOnto | 5.373 | 0.040 | 5.420 | |