| Back to Multiple platform build/check report for BioC 3.12 |
|
This page was generated on 2021-05-06 12:32:37 -0400 (Thu, 06 May 2021).
|
To the developers/maintainers of the oncomix package: Please make sure to use the following settings in order to reproduce any error or warning you see on this page. |
| Package 1262/1974 | Hostname | OS / Arch | INSTALL | BUILD | CHECK | BUILD BIN | ||||||||
| oncomix 1.12.0 (landing page) Daniel Pique
| malbec1 | Linux (Ubuntu 18.04.5 LTS) / x86_64 | OK | OK | OK | |||||||||
| tokay1 | Windows Server 2012 R2 Standard / x64 | OK | OK | OK | OK | |||||||||
| merida1 | macOS 10.14.6 Mojave / x86_64 | OK | OK | OK | OK | |||||||||
| Package: oncomix |
| Version: 1.12.0 |
| Command: rm -rf oncomix.buildbin-libdir && mkdir oncomix.buildbin-libdir && C:\Users\biocbuild\bbs-3.12-bioc\R\bin\R.exe CMD INSTALL --merge-multiarch --build --library=oncomix.buildbin-libdir oncomix_1.12.0.tar.gz |
| StartedAt: 2021-05-06 09:41:00 -0400 (Thu, 06 May 2021) |
| EndedAt: 2021-05-06 09:41:36 -0400 (Thu, 06 May 2021) |
| EllapsedTime: 35.9 seconds |
| RetCode: 0 |
| Status: OK |
| PackageFile: oncomix_1.12.0.zip |
| PackageFileSize: 1.749 MiB |
##############################################################################
##############################################################################
###
### Running command:
###
### rm -rf oncomix.buildbin-libdir && mkdir oncomix.buildbin-libdir && C:\Users\biocbuild\bbs-3.12-bioc\R\bin\R.exe CMD INSTALL --merge-multiarch --build --library=oncomix.buildbin-libdir oncomix_1.12.0.tar.gz
###
##############################################################################
##############################################################################
install for i386
* installing *source* package 'oncomix' ...
** using staged installation
** R
** data
*** moving datasets to lazyload DB
** inst
** byte-compile and prepare package for lazy loading
** help
*** installing help indices
converting help for package 'oncomix'
finding HTML links ... done
exprNmlIsof html
exprTumIsof html
mixModelParams html
oncoMixBimodal html
oncoMixIdeal html
oncoMixTraditionalDE html
plotGeneHist html
queryRes html
scatterMixPlot html
toMatrix html
topGeneQuants html
** building package indices
** installing vignettes
** testing if installed package can be loaded from temporary location
** testing if installed package can be loaded from final location
** testing if installed package keeps a record of temporary installation path
install for x64
* installing *source* package 'oncomix' ...
** testing if installed package can be loaded
* MD5 sums
packaged installation of 'oncomix' as oncomix_1.12.0.zip
* DONE (oncomix)