| Back to Multiple platform build/check report for BioC 3.12 |
|
This page was generated on 2021-05-06 12:32:35 -0400 (Thu, 06 May 2021).
|
To the developers/maintainers of the occugene package: Please make sure to use the following settings in order to reproduce any error or warning you see on this page. |
| Package 1242/1974 | Hostname | OS / Arch | INSTALL | BUILD | CHECK | BUILD BIN | ||||||||
| occugene 1.50.0 (landing page) Oliver Will
| malbec1 | Linux (Ubuntu 18.04.5 LTS) / x86_64 | OK | OK | OK | |||||||||
| tokay1 | Windows Server 2012 R2 Standard / x64 | OK | OK | OK | OK | |||||||||
| merida1 | macOS 10.14.6 Mojave / x86_64 | OK | OK | OK | OK | |||||||||
| Package: occugene |
| Version: 1.50.0 |
| Command: rm -rf occugene.buildbin-libdir && mkdir occugene.buildbin-libdir && C:\Users\biocbuild\bbs-3.12-bioc\R\bin\R.exe CMD INSTALL --merge-multiarch --build --library=occugene.buildbin-libdir occugene_1.50.0.tar.gz |
| StartedAt: 2021-05-06 09:39:49 -0400 (Thu, 06 May 2021) |
| EndedAt: 2021-05-06 09:40:25 -0400 (Thu, 06 May 2021) |
| EllapsedTime: 36.3 seconds |
| RetCode: 0 |
| Status: OK |
| PackageFile: occugene_1.50.0.zip |
| PackageFileSize: 213.8 KiB |
##############################################################################
##############################################################################
###
### Running command:
###
### rm -rf occugene.buildbin-libdir && mkdir occugene.buildbin-libdir && C:\Users\biocbuild\bbs-3.12-bioc\R\bin\R.exe CMD INSTALL --merge-multiarch --build --library=occugene.buildbin-libdir occugene_1.50.0.tar.gz
###
##############################################################################
##############################################################################
install for i386
* installing *source* package 'occugene' ...
** using staged installation
** R
** data
** inst
** byte-compile and prepare package for lazy loading
** help
*** installing help indices
converting help for package 'occugene'
finding HTML links ... done
binHist html
binInsert html
binInsertHist html
checkFormat html
delta0 html
eMult html
etDelta html
fCumul html
fFit html
loadAnnotation html
loadInsertions html
occup2Negenes html
sampleAnnotation html
sampleInsertions html
unbiasB0 html
unbiasDelta0 html
varMult html
** building package indices
** installing vignettes
** testing if installed package can be loaded from temporary location
** testing if installed package can be loaded from final location
** testing if installed package keeps a record of temporary installation path
install for x64
* installing *source* package 'occugene' ...
** testing if installed package can be loaded
* MD5 sums
packaged installation of 'occugene' as occugene_1.50.0.zip
* DONE (occugene)