| Back to Multiple platform build/check report for BioC 3.12 |
|
This page was generated on 2021-05-06 12:32:27 -0400 (Thu, 06 May 2021).
|
To the developers/maintainers of the netbenchmark package: Please make sure to use the following settings in order to reproduce any error or warning you see on this page. |
| Package 1212/1974 | Hostname | OS / Arch | INSTALL | BUILD | CHECK | BUILD BIN | ||||||||
Pau Bellot
| malbec1 | Linux (Ubuntu 18.04.5 LTS) / x86_64 | ERROR | ERROR | skipped | |||||||||
| tokay1 | Windows Server 2012 R2 Standard / x64 | ERROR | ERROR | skipped | skipped | |||||||||
| merida1 | macOS 10.14.6 Mojave / x86_64 | ERROR | ERROR | skipped | skipped | |||||||||
| Package: netbenchmark |
| Version: 1.22.0 |
| Command: chmod a+r netbenchmark -R && C:\Users\biocbuild\bbs-3.12-bioc\R\bin\R.exe CMD build --keep-empty-dirs --no-resave-data netbenchmark |
| StartedAt: 2021-05-05 22:18:20 -0400 (Wed, 05 May 2021) |
| EndedAt: 2021-05-05 22:18:22 -0400 (Wed, 05 May 2021) |
| EllapsedTime: 2.6 seconds |
| RetCode: 1 |
| Status: ERROR |
| PackageFile: netbenchmark_1.22.0.tar.gz |
| PackageFileSize: 33.7 KiB |
##############################################################################
##############################################################################
###
### Running command:
###
### chmod a+r netbenchmark -R && C:\Users\biocbuild\bbs-3.12-bioc\R\bin\R.exe CMD build --keep-empty-dirs --no-resave-data netbenchmark
###
##############################################################################
##############################################################################
* checking for file 'netbenchmark/DESCRIPTION' ... OK
* preparing 'netbenchmark':
* checking DESCRIPTION meta-information ... OK
* cleaning src
* installing the package to build vignettes
-----------------------------------
ERROR: dependency 'PCIT' is not available for package 'netbenchmark'
* removing 'C:/Users/biocbuild/bbs-3.12-bioc/tmpdir/Rtmp44BIcR/Rinstc24469266cc/netbenchmark'
-----------------------------------
ERROR: package installation failed