| Back to Multiple platform build/check report for BioC 3.12 |
|
This page was generated on 2021-05-06 12:28:23 -0400 (Thu, 06 May 2021).
|
To the developers/maintainers of the ndexr package: Please make sure to use the following settings in order to reproduce any error or warning you see on this page. |
| Package 1208/1974 | Hostname | OS / Arch | INSTALL | BUILD | CHECK | BUILD BIN | ||||||||
| ndexr 1.12.1 (landing page) Florian Auer
| malbec1 | Linux (Ubuntu 18.04.5 LTS) / x86_64 | OK | OK | OK | |||||||||
| tokay1 | Windows Server 2012 R2 Standard / x64 | OK | OK | WARNINGS | OK | |||||||||
| merida1 | macOS 10.14.6 Mojave / x86_64 | OK | OK | OK | OK | |||||||||
| Package: ndexr |
| Version: 1.12.1 |
| Command: /home/biocbuild/bbs-3.12-bioc/R/bin/R CMD build --keep-empty-dirs --no-resave-data ndexr |
| StartedAt: 2021-05-05 20:32:27 -0400 (Wed, 05 May 2021) |
| EndedAt: 2021-05-05 20:32:38 -0400 (Wed, 05 May 2021) |
| EllapsedTime: 10.8 seconds |
| RetCode: 0 |
| Status: OK |
| PackageFile: ndexr_1.12.1.tar.gz |
| PackageFileSize: 364.1 KiB |
##############################################################################
##############################################################################
###
### Running command:
###
### /home/biocbuild/bbs-3.12-bioc/R/bin/R CMD build --keep-empty-dirs --no-resave-data ndexr
###
##############################################################################
##############################################################################
* checking for file ‘ndexr/DESCRIPTION’ ... OK
* preparing ‘ndexr’:
* checking DESCRIPTION meta-information ... OK
* installing the package to build vignettes
* creating vignettes ... OK
Warning: ‘inst/doc’ files
‘ndexr-vignette.Rmd’, ‘ndexr-vignette.html’, ‘ndexr-vignette.R’
ignored as vignettes have been rebuilt.
Run R CMD build with --no-build-vignettes to prevent rebuilding.
* excluding invalid files
Subdirectory 'R' contains invalid file names:
‘ndex_api_config.yml’
* checking for LF line-endings in source and make files and shell scripts
* checking for empty or unneeded directories
WARNING: Removing directory ‘ndexr/Meta’ which should only occur in an
installed package
* building ‘ndexr_1.12.1.tar.gz’