| Back to Multiple platform build/check report for BioC 3.12 |
|
This page was generated on 2021-05-06 12:32:26 -0400 (Thu, 06 May 2021).
|
To the developers/maintainers of the nanotatoR package: Please make sure to use the following settings in order to reproduce any error or warning you see on this page. |
| Package 1200/1974 | Hostname | OS / Arch | INSTALL | BUILD | CHECK | BUILD BIN | ||||||||
| nanotatoR 1.6.0 (landing page) Surajit Bhattacharya
| malbec1 | Linux (Ubuntu 18.04.5 LTS) / x86_64 | OK | OK | OK | |||||||||
| tokay1 | Windows Server 2012 R2 Standard / x64 | OK | OK | OK | OK | |||||||||
| merida1 | macOS 10.14.6 Mojave / x86_64 | OK | OK | OK | OK | |||||||||
| Package: nanotatoR |
| Version: 1.6.0 |
| Command: rm -rf nanotatoR.buildbin-libdir && mkdir nanotatoR.buildbin-libdir && C:\Users\biocbuild\bbs-3.12-bioc\R\bin\R.exe CMD INSTALL --merge-multiarch --build --library=nanotatoR.buildbin-libdir nanotatoR_1.6.0.tar.gz |
| StartedAt: 2021-05-06 09:37:36 -0400 (Thu, 06 May 2021) |
| EndedAt: 2021-05-06 09:38:32 -0400 (Thu, 06 May 2021) |
| EllapsedTime: 56.3 seconds |
| RetCode: 0 |
| Status: OK |
| PackageFile: nanotatoR_1.6.0.zip |
| PackageFileSize: 805.9 KiB |
##############################################################################
##############################################################################
###
### Running command:
###
### rm -rf nanotatoR.buildbin-libdir && mkdir nanotatoR.buildbin-libdir && C:\Users\biocbuild\bbs-3.12-bioc\R\bin\R.exe CMD INSTALL --merge-multiarch --build --library=nanotatoR.buildbin-libdir nanotatoR_1.6.0.tar.gz
###
##############################################################################
##############################################################################
install for i386
* installing *source* package 'nanotatoR' ...
** using staged installation
** R
** inst
** byte-compile and prepare package for lazy loading
** help
*** installing help indices
converting help for package 'nanotatoR'
finding HTML links ... done
DGV_extraction html
Decipher_extraction html
buildrunBNBedFiles html
clinvar_gene html
cohortFrequency html
compSmapbed html
gene_extraction html
gene_list_generation html
gtr_gene html
internalFrequency html
makeMergedSVData html
makeMergedSmapData html
nanotatoR html
nanotatoR_main html
nonOverlapGenes html
omim_gene html
overlapGenes html
readBNBedFiles html
readSMap html
run_bionano_filter html
** building package indices
** installing vignettes
** testing if installed package can be loaded from temporary location
** testing if installed package can be loaded from final location
** testing if installed package keeps a record of temporary installation path
install for x64
* installing *source* package 'nanotatoR' ...
** testing if installed package can be loaded
* MD5 sums
packaged installation of 'nanotatoR' as nanotatoR_1.6.0.zip
* DONE (nanotatoR)