| Back to Multiple platform build/check report for BioC 3.12 |
|
This page was generated on 2021-05-06 12:32:25 -0400 (Thu, 06 May 2021).
|
To the developers/maintainers of the mzID package: Please make sure to use the following settings in order to reproduce any error or warning you see on this page. |
| Package 1194/1974 | Hostname | OS / Arch | INSTALL | BUILD | CHECK | BUILD BIN | ||||||||
| mzID 1.28.0 (landing page) Laurent Gatto
| malbec1 | Linux (Ubuntu 18.04.5 LTS) / x86_64 | OK | OK | OK | |||||||||
| tokay1 | Windows Server 2012 R2 Standard / x64 | OK | OK | WARNINGS | OK | |||||||||
| merida1 | macOS 10.14.6 Mojave / x86_64 | OK | OK | OK | OK | |||||||||
| Package: mzID |
| Version: 1.28.0 |
| Command: rm -rf mzID.buildbin-libdir && mkdir mzID.buildbin-libdir && C:\Users\biocbuild\bbs-3.12-bioc\R\bin\R.exe CMD INSTALL --merge-multiarch --build --library=mzID.buildbin-libdir mzID_1.28.0.tar.gz |
| StartedAt: 2021-05-06 09:37:15 -0400 (Thu, 06 May 2021) |
| EndedAt: 2021-05-06 09:37:40 -0400 (Thu, 06 May 2021) |
| EllapsedTime: 25.0 seconds |
| RetCode: 0 |
| Status: OK |
| PackageFile: mzID_1.28.0.zip |
| PackageFileSize: 837.8 KiB |
##############################################################################
##############################################################################
###
### Running command:
###
### rm -rf mzID.buildbin-libdir && mkdir mzID.buildbin-libdir && C:\Users\biocbuild\bbs-3.12-bioc\R\bin\R.exe CMD INSTALL --merge-multiarch --build --library=mzID.buildbin-libdir mzID_1.28.0.tar.gz
###
##############################################################################
##############################################################################
install for i386
* installing *source* package 'mzID' ...
** using staged installation
** R
** inst
** byte-compile and prepare package for lazy loading
** help
*** installing help indices
converting help for package 'mzID'
finding HTML links ... done
flatten html
increment html
keyFor html
mzID-class html
mzID-getters html
mzID-package html
mzID html
mzIDCollection-class html
mzIDCollection html
mzIDdatabase-class html
mzIDdatabase html
Rd warning: C:/Users/biocbuild/bbs-3.12-bioc/tmpdir/RtmpK8LgG3/R.INSTALL3fb0484965d2/mzID/man/mzIDdatabase.Rd:11: file link 'xmlInternalTreeParse' in package 'XML' does not exist and so has been treated as a topic
mzIDevidence-class html
mzIDevidence html
Rd warning: C:/Users/biocbuild/bbs-3.12-bioc/tmpdir/RtmpK8LgG3/R.INSTALL3fb0484965d2/mzID/man/mzIDevidence.Rd:11: file link 'xmlInternalTreeParse' in package 'XML' does not exist and so has been treated as a topic
mzIDparameters-class html
mzIDparameters html
Rd warning: C:/Users/biocbuild/bbs-3.12-bioc/tmpdir/RtmpK8LgG3/R.INSTALL3fb0484965d2/mzID/man/mzIDparameters.Rd:11: file link 'xmlInternalTreeParse' in package 'XML' does not exist and so has been treated as a topic
mzIDpeptides-class html
mzIDpeptides html
Rd warning: C:/Users/biocbuild/bbs-3.12-bioc/tmpdir/RtmpK8LgG3/R.INSTALL3fb0484965d2/mzID/man/mzIDpeptides.Rd:11: file link 'xmlInternalTreeParse' in package 'XML' does not exist and so has been treated as a topic
mzIDpsm-class html
mzIDpsm html
Rd warning: C:/Users/biocbuild/bbs-3.12-bioc/tmpdir/RtmpK8LgG3/R.INSTALL3fb0484965d2/mzID/man/mzIDpsm.Rd:11: file link 'xmlInternalTreeParse' in package 'XML' does not exist and so has been treated as a topic
removeDecoy html
** building package indices
** installing vignettes
** testing if installed package can be loaded from temporary location
** testing if installed package can be loaded from final location
** testing if installed package keeps a record of temporary installation path
install for x64
* installing *source* package 'mzID' ...
** testing if installed package can be loaded
* MD5 sums
packaged installation of 'mzID' as mzID_1.28.0.zip
* DONE (mzID)