| Back to Multiple platform build/check report for BioC 3.12 |
|
This page was generated on 2021-05-06 12:28:21 -0400 (Thu, 06 May 2021).
|
To the developers/maintainers of the multtest package: Please make sure to use the following settings in order to reproduce any error or warning you see on this page. |
| Package 1185/1974 | Hostname | OS / Arch | INSTALL | BUILD | CHECK | BUILD BIN | ||||||||
| multtest 2.46.0 (landing page) Katherine S. Pollard
| malbec1 | Linux (Ubuntu 18.04.5 LTS) / x86_64 | OK | OK | WARNINGS | |||||||||
| tokay1 | Windows Server 2012 R2 Standard / x64 | OK | OK | WARNINGS | OK | |||||||||
| merida1 | macOS 10.14.6 Mojave / x86_64 | OK | OK | WARNINGS | OK | |||||||||
| Package: multtest |
| Version: 2.46.0 |
| Command: /home/biocbuild/bbs-3.12-bioc/R/bin/R CMD INSTALL multtest |
| StartedAt: 2021-05-05 16:08:07 -0400 (Wed, 05 May 2021) |
| EndedAt: 2021-05-05 16:08:20 -0400 (Wed, 05 May 2021) |
| EllapsedTime: 13.5 seconds |
| RetCode: 0 |
| Status: OK |
##############################################################################
##############################################################################
###
### Running command:
###
### /home/biocbuild/bbs-3.12-bioc/R/bin/R CMD INSTALL multtest
###
##############################################################################
##############################################################################
* installing to library ‘/home/biocbuild/bbs-3.12-bioc/R/library’
* installing *source* package ‘multtest’ ...
** using staged installation
** libs
gcc -I"/home/biocbuild/bbs-3.12-bioc/R/include" -DNDEBUG -I/usr/local/include -DUSEDOUBLE -fpic -g -O2 -Wall -c Rpack.c -o Rpack.o
gcc -I"/home/biocbuild/bbs-3.12-bioc/R/include" -DNDEBUG -I/usr/local/include -DUSEDOUBLE -fpic -g -O2 -Wall -c VScount.c -o VScount.o
gcc -I"/home/biocbuild/bbs-3.12-bioc/R/include" -DNDEBUG -I/usr/local/include -DUSEDOUBLE -fpic -g -O2 -Wall -c block_sampling_fixed.c -o block_sampling_fixed.o
gcc -I"/home/biocbuild/bbs-3.12-bioc/R/include" -DNDEBUG -I/usr/local/include -DUSEDOUBLE -fpic -g -O2 -Wall -c bootloop.c -o bootloop.o
gcc -I"/home/biocbuild/bbs-3.12-bioc/R/include" -DNDEBUG -I/usr/local/include -DUSEDOUBLE -fpic -g -O2 -Wall -c mt.c -o mt.o
gcc -I"/home/biocbuild/bbs-3.12-bioc/R/include" -DNDEBUG -I/usr/local/include -DUSEDOUBLE -fpic -g -O2 -Wall -c pairt_sampling.c -o pairt_sampling.o
gcc -I"/home/biocbuild/bbs-3.12-bioc/R/include" -DNDEBUG -I/usr/local/include -DUSEDOUBLE -fpic -g -O2 -Wall -c pairt_sampling_fixed.c -o pairt_sampling_fixed.o
gcc -I"/home/biocbuild/bbs-3.12-bioc/R/include" -DNDEBUG -I/usr/local/include -DUSEDOUBLE -fpic -g -O2 -Wall -c random.c -o random.o
gcc -I"/home/biocbuild/bbs-3.12-bioc/R/include" -DNDEBUG -I/usr/local/include -DUSEDOUBLE -fpic -g -O2 -Wall -c sampling.c -o sampling.o
gcc -I"/home/biocbuild/bbs-3.12-bioc/R/include" -DNDEBUG -I/usr/local/include -DUSEDOUBLE -fpic -g -O2 -Wall -c sampling_fixed.c -o sampling_fixed.o
gcc -I"/home/biocbuild/bbs-3.12-bioc/R/include" -DNDEBUG -I/usr/local/include -DUSEDOUBLE -fpic -g -O2 -Wall -c stat_func.c -o stat_func.o
stat_func.c: In function ‘read_infile’:
stat_func.c:703:3: warning: ignoring return value of ‘fscanf’, declared with attribute warn_unused_result [-Wunused-result]
fscanf(fh, "%s", pdata->name);
^~~~~~~~~~~~~~~~~~~~~~~~~~~~~
stat_func.c:705:5: warning: ignoring return value of ‘fscanf’, declared with attribute warn_unused_result [-Wunused-result]
fscanf(fh, "%d", pdata->L+j);
^~~~~~~~~~~~~~~~~~~~~~~~~~~~
stat_func.c:710:5: warning: ignoring return value of ‘fscanf’, declared with attribute warn_unused_result [-Wunused-result]
fscanf(fh, "%s", pdata->id[i]);
^~~~~~~~~~~~~~~~~~~~~~~~~~~~~~
stat_func.c:714:7: warning: ignoring return value of ‘fscanf’, declared with attribute warn_unused_result [-Wunused-result]
fscanf(fh, "%lg",&ftemp);
^~~~~~~~~~~~~~~~~~~~~~~~
gcc -I"/home/biocbuild/bbs-3.12-bioc/R/include" -DNDEBUG -I/usr/local/include -DUSEDOUBLE -fpic -g -O2 -Wall -c stat_order.c -o stat_order.o
gcc -shared -L/home/biocbuild/bbs-3.12-bioc/R/lib -L/usr/local/lib -o multtest.so Rpack.o VScount.o block_sampling_fixed.o bootloop.o mt.o pairt_sampling.o pairt_sampling_fixed.o random.o sampling.o sampling_fixed.o stat_func.o stat_order.o -lm -L/home/biocbuild/bbs-3.12-bioc/R/lib -lR
installing to /home/biocbuild/bbs-3.12-bioc/R/library/00LOCK-multtest/00new/multtest/libs
** R
** data
** inst
** byte-compile and prepare package for lazy loading
** help
*** installing help indices
** building package indices
** installing vignettes
** testing if installed package can be loaded from temporary location
** checking absolute paths in shared objects and dynamic libraries
** testing if installed package can be loaded from final location
** testing if installed package keeps a record of temporary installation path
* DONE (multtest)