| Back to Multiple platform build/check report for BioC 3.12 |
|
This page was generated on 2021-05-06 12:32:24 -0400 (Thu, 06 May 2021).
|
To the developers/maintainers of the multiMiR package: Please make sure to use the following settings in order to reproduce any error or warning you see on this page. |
| Package 1182/1974 | Hostname | OS / Arch | INSTALL | BUILD | CHECK | BUILD BIN | ||||||||
| multiMiR 1.12.0 (landing page) Matt Mulvahill
| malbec1 | Linux (Ubuntu 18.04.5 LTS) / x86_64 | OK | OK | OK | |||||||||
| tokay1 | Windows Server 2012 R2 Standard / x64 | OK | OK | OK | OK | |||||||||
| merida1 | macOS 10.14.6 Mojave / x86_64 | OK | OK | OK | OK | |||||||||
| Package: multiMiR |
| Version: 1.12.0 |
| Command: C:\cygwin\bin\curl.exe -O http://172.29.0.3/BBS/3.12/bioc/src/contrib/multiMiR_1.12.0.tar.gz && rm -rf multiMiR.buildbin-libdir && mkdir multiMiR.buildbin-libdir && C:\Users\biocbuild\bbs-3.12-bioc\R\bin\R.exe CMD INSTALL --merge-multiarch --build --library=multiMiR.buildbin-libdir multiMiR_1.12.0.tar.gz && C:\Users\biocbuild\bbs-3.12-bioc\R\bin\R.exe CMD INSTALL multiMiR_1.12.0.zip && rm multiMiR_1.12.0.tar.gz multiMiR_1.12.0.zip |
| StartedAt: 2021-05-05 17:14:38 -0400 (Wed, 05 May 2021) |
| EndedAt: 2021-05-05 17:15:50 -0400 (Wed, 05 May 2021) |
| EllapsedTime: 71.7 seconds |
| RetCode: 0 |
| Status: OK |
##############################################################################
##############################################################################
###
### Running command:
###
### C:\cygwin\bin\curl.exe -O http://172.29.0.3/BBS/3.12/bioc/src/contrib/multiMiR_1.12.0.tar.gz && rm -rf multiMiR.buildbin-libdir && mkdir multiMiR.buildbin-libdir && C:\Users\biocbuild\bbs-3.12-bioc\R\bin\R.exe CMD INSTALL --merge-multiarch --build --library=multiMiR.buildbin-libdir multiMiR_1.12.0.tar.gz && C:\Users\biocbuild\bbs-3.12-bioc\R\bin\R.exe CMD INSTALL multiMiR_1.12.0.zip && rm multiMiR_1.12.0.tar.gz multiMiR_1.12.0.zip
###
##############################################################################
##############################################################################
% Total % Received % Xferd Average Speed Time Time Time Current
Dload Upload Total Spent Left Speed
0 0 0 0 0 0 0 0 --:--:-- --:--:-- --:--:-- 0
0 0 0 0 0 0 0 0 --:--:-- --:--:-- --:--:-- 0
100 50976 100 50976 0 0 2530k 0 --:--:-- --:--:-- --:--:-- 2489k
install for i386
* installing *source* package 'multiMiR' ...
** using staged installation
** R
** inst
** byte-compile and prepare package for lazy loading
** help
*** installing help indices
converting help for package 'multiMiR'
finding HTML links ... done
add.multimir.links html
all_tables html
as.mmquery html
as_mmsql_components html
build_mmsql html
default_cutoff html
deprecate_arg html
extract_mmquery html
get.multimir.cutoffs html
get_multimir html
list_multimir html
mmquery_bioc-class html
multiMiR html
multimir.summary html
multimir_dbInfo html
multimir_switchDBVersion html
null_to_df html
pad html
parens_quote html
parens_wrap html
parse_orgs html
parse_response html
query_multimir html
quote_wrap html
remove_empty_strings html
remove_table html
search_multimir html
split_by html
sql_org html
sql_validated html
submit_request html
** building package indices
** installing vignettes
** testing if installed package can be loaded from temporary location
** testing if installed package can be loaded from final location
** testing if installed package keeps a record of temporary installation path
install for x64
* installing *source* package 'multiMiR' ...
** testing if installed package can be loaded
* MD5 sums
packaged installation of 'multiMiR' as multiMiR_1.12.0.zip
* DONE (multiMiR)
* installing to library 'C:/Users/biocbuild/bbs-3.12-bioc/R/library'
package 'multiMiR' successfully unpacked and MD5 sums checked