| Back to Multiple platform build/check report for BioC 3.12 |
|
This page was generated on 2021-05-06 12:28:21 -0400 (Thu, 06 May 2021).
|
To the developers/maintainers of the multiGSEA package: Please make sure to use the following settings in order to reproduce any error or warning you see on this page. |
| Package 1179/1974 | Hostname | OS / Arch | INSTALL | BUILD | CHECK | BUILD BIN | ||||||||
| multiGSEA 1.0.2 (landing page) Sebastian Canzler
| malbec1 | Linux (Ubuntu 18.04.5 LTS) / x86_64 | OK | OK | OK | |||||||||
| tokay1 | Windows Server 2012 R2 Standard / x64 | OK | OK | OK | OK | |||||||||
| merida1 | macOS 10.14.6 Mojave / x86_64 | OK | OK | OK | OK | |||||||||
| Package: multiGSEA |
| Version: 1.0.2 |
| Command: /home/biocbuild/bbs-3.12-bioc/R/bin/R CMD check --install=check:multiGSEA.install-out.txt --library=/home/biocbuild/bbs-3.12-bioc/R/library --no-vignettes --timings multiGSEA_1.0.2.tar.gz |
| StartedAt: 2021-05-06 03:50:34 -0400 (Thu, 06 May 2021) |
| EndedAt: 2021-05-06 03:55:17 -0400 (Thu, 06 May 2021) |
| EllapsedTime: 283.0 seconds |
| RetCode: 0 |
| Status: OK |
| CheckDir: multiGSEA.Rcheck |
| Warnings: 0 |
##############################################################################
##############################################################################
###
### Running command:
###
### /home/biocbuild/bbs-3.12-bioc/R/bin/R CMD check --install=check:multiGSEA.install-out.txt --library=/home/biocbuild/bbs-3.12-bioc/R/library --no-vignettes --timings multiGSEA_1.0.2.tar.gz
###
##############################################################################
##############################################################################
* using log directory ‘/home/biocbuild/bbs-3.12-bioc/meat/multiGSEA.Rcheck’
* using R version 4.0.5 (2021-03-31)
* using platform: x86_64-pc-linux-gnu (64-bit)
* using session charset: UTF-8
* using option ‘--no-vignettes’
* checking for file ‘multiGSEA/DESCRIPTION’ ... OK
* checking extension type ... Package
* this is package ‘multiGSEA’ version ‘1.0.2’
* package encoding: UTF-8
* checking package namespace information ... OK
* checking package dependencies ... OK
* checking if this is a source package ... OK
* checking if there is a namespace ... OK
* checking for hidden files and directories ... OK
* checking for portable file names ... OK
* checking for sufficient/correct file permissions ... OK
* checking whether package ‘multiGSEA’ can be installed ... OK
* checking installed package size ... OK
* checking package directory ... OK
* checking ‘build’ directory ... OK
* checking DESCRIPTION meta-information ... OK
* checking top-level files ... OK
* checking for left-over files ... OK
* checking index information ... OK
* checking package subdirectories ... OK
* checking R files for non-ASCII characters ... OK
* checking R files for syntax errors ... OK
* checking whether the package can be loaded ... OK
* checking whether the package can be loaded with stated dependencies ... OK
* checking whether the package can be unloaded cleanly ... OK
* checking whether the namespace can be loaded with stated dependencies ... OK
* checking whether the namespace can be unloaded cleanly ... OK
* checking dependencies in R code ... OK
* checking S3 generic/method consistency ... OK
* checking replacement functions ... OK
* checking foreign function calls ... OK
* checking R code for possible problems ... OK
* checking Rd files ... OK
* checking Rd metadata ... OK
* checking Rd cross-references ... OK
* checking for missing documentation entries ... OK
* checking for code/documentation mismatches ... OK
* checking Rd \usage sections ... OK
* checking Rd contents ... OK
* checking for unstated dependencies in examples ... OK
* checking contents of ‘data’ directory ... OK
* checking data for non-ASCII characters ... OK
* checking data for ASCII and uncompressed saves ... OK
* checking files in ‘vignettes’ ... OK
* checking examples ... OK
Examples with CPU (user + system) or elapsed time > 5s
user system elapsed
multiGSEA 53.700 0.660 17.693
getMetaboliteMapping 33.984 0.536 35.320
extractPvalues 7.588 0.588 4.998
proteome 6.788 0.048 0.025
* checking for unstated dependencies in ‘tests’ ... OK
* checking tests ...
Running ‘testthat.R’
OK
* checking for unstated dependencies in vignettes ... OK
* checking package vignettes in ‘inst/doc’ ... OK
* checking running R code from vignettes ... SKIPPED
* checking re-building of vignette outputs ... SKIPPED
* checking PDF version of manual ... OK
* DONE
Status: OK
multiGSEA.Rcheck/00install.out
############################################################################## ############################################################################## ### ### Running command: ### ### /home/biocbuild/bbs-3.12-bioc/R/bin/R CMD INSTALL multiGSEA ### ############################################################################## ############################################################################## * installing to library ‘/home/biocbuild/bbs-3.12-bioc/R/library’ * installing *source* package ‘multiGSEA’ ... ** using staged installation ** R ** data ** inst ** byte-compile and prepare package for lazy loading ** help *** installing help indices ** building package indices ** installing vignettes ** testing if installed package can be loaded from temporary location ** testing if installed package can be loaded from final location ** testing if installed package keeps a record of temporary installation path * DONE (multiGSEA)
multiGSEA.Rcheck/tests/testthat.Rout
R version 4.0.5 (2021-03-31) -- "Shake and Throw"
Copyright (C) 2021 The R Foundation for Statistical Computing
Platform: x86_64-pc-linux-gnu (64-bit)
R is free software and comes with ABSOLUTELY NO WARRANTY.
You are welcome to redistribute it under certain conditions.
Type 'license()' or 'licence()' for distribution details.
R is a collaborative project with many contributors.
Type 'contributors()' for more information and
'citation()' on how to cite R or R packages in publications.
Type 'demo()' for some demos, 'help()' for on-line help, or
'help.start()' for an HTML browser interface to help.
Type 'q()' to quit R.
> library(testthat)
> library(multiGSEA)
>
> test_check("multiGSEA")
[ FAIL 0 | WARN 0 | SKIP 0 | PASS 50 ]
>
> proc.time()
user system elapsed
100.532 1.920 60.452
multiGSEA.Rcheck/multiGSEA-Ex.timings
| name | user | system | elapsed | |
| combinePvalues | 0.004 | 0.000 | 0.002 | |
| extractPvalues | 7.588 | 0.588 | 4.998 | |
| getFeatures | 0.592 | 0.044 | 0.637 | |
| getGeneMapping | 0.500 | 0.012 | 0.512 | |
| getMetaboliteMapping | 33.984 | 0.536 | 35.320 | |
| getMultiOmicsFeatures | 0.388 | 0.096 | 0.484 | |
| getOrganisms | 0 | 0 | 0 | |
| initOmicsDataStructure | 0.000 | 0.000 | 0.001 | |
| metabolome | 0.016 | 0.000 | 0.014 | |
| multiGSEA | 53.700 | 0.660 | 17.693 | |
| proteome | 6.788 | 0.048 | 0.025 | |
| rankFeatures | 0.000 | 0.000 | 0.001 | |
| rename_duplicates | 0 | 0 | 0 | |
| transcriptome | 0.044 | 0.000 | 0.042 | |