| Back to Multiple platform build/check report for BioC 3.12 |
|
This page was generated on 2021-05-06 12:35:47 -0400 (Thu, 06 May 2021).
|
To the developers/maintainers of the motifbreakR package: Please make sure to use the following settings in order to reproduce any error or warning you see on this page. |
| Package 1142/1974 | Hostname | OS / Arch | INSTALL | BUILD | CHECK | BUILD BIN | ||||||||
| motifbreakR 2.4.0 (landing page) Simon Gert Coetzee
| malbec1 | Linux (Ubuntu 18.04.5 LTS) / x86_64 | OK | OK | WARNINGS | |||||||||
| tokay1 | Windows Server 2012 R2 Standard / x64 | OK | OK | WARNINGS | OK | |||||||||
| merida1 | macOS 10.14.6 Mojave / x86_64 | OK | OK | WARNINGS | OK | |||||||||
| Package: motifbreakR |
| Version: 2.4.0 |
| Command: rm -rf motifbreakR.buildbin-libdir && mkdir motifbreakR.buildbin-libdir && /Users/biocbuild/BBS/utils/build-universal.sh motifbreakR_2.4.0.tar.gz /Library/Frameworks/R.framework/Versions/Current/Resources/bin/R motifbreakR.buildbin-libdir |
| StartedAt: 2021-05-06 09:18:20 -0400 (Thu, 06 May 2021) |
| EndedAt: 2021-05-06 09:20:01 -0400 (Thu, 06 May 2021) |
| EllapsedTime: 101.4 seconds |
| RetCode: 0 |
| Status: OK |
| PackageFile: motifbreakR_2.4.0.tgz |
| PackageFileSize: 2.629 MiB |
##############################################################################
##############################################################################
###
### Running command:
###
### rm -rf motifbreakR.buildbin-libdir && mkdir motifbreakR.buildbin-libdir && /Users/biocbuild/BBS/utils/build-universal.sh motifbreakR_2.4.0.tar.gz /Library/Frameworks/R.framework/Versions/Current/Resources/bin/R motifbreakR.buildbin-libdir
###
##############################################################################
##############################################################################
>>>>>>>
>>>>>>> INSTALLATION WITH 'R CMD INSTALL --preclean --no-multiarch --library=motifbreakR.buildbin-libdir motifbreakR_2.4.0.tar.gz'
>>>>>>>
* installing *source* package ‘motifbreakR’ ...
** using staged installation
** R
** data
*** moving datasets to lazyload DB
** inst
** byte-compile and prepare package for lazy loading
See system.file("LICENSE", package="MotifDb") for use restrictions.
Warning: replacing previous import ‘S4Vectors::as.data.frame’ by ‘motifStack::as.data.frame’ when loading ‘motifbreakR’
** help
*** installing help indices
** building package indices
** installing vignettes
** testing if installed package can be loaded from temporary location
See system.file("LICENSE", package="MotifDb") for use restrictions.
Warning: replacing previous import ‘S4Vectors::as.data.frame’ by ‘motifStack::as.data.frame’ when loading ‘motifbreakR’
** testing if installed package can be loaded from final location
See system.file("LICENSE", package="MotifDb") for use restrictions.
Warning: replacing previous import ‘S4Vectors::as.data.frame’ by ‘motifStack::as.data.frame’ when loading ‘motifbreakR’
** testing if installed package keeps a record of temporary installation path
* DONE (motifbreakR)