| Back to Multiple platform build/check report for BioC 3.12 | 
 | 
This page was generated on 2021-05-06 12:28:18 -0400 (Thu, 06 May 2021).
| To the developers/maintainers of the motifStack package: Please make sure to use the following settings in order to reproduce any error or warning you see on this page. | 
| Package 1146/1974 | Hostname | OS / Arch | INSTALL | BUILD | CHECK | BUILD BIN | ||||||||
| motifStack 1.34.0  (landing page) Jianhong Ou 
 | malbec1 | Linux (Ubuntu 18.04.5 LTS) / x86_64 | OK | OK | OK |  | ||||||||
| tokay1 | Windows Server 2012 R2 Standard / x64 | OK | OK | OK | OK |  | ||||||||
| merida1 | macOS 10.14.6 Mojave / x86_64 | OK | OK | OK | OK |  | ||||||||
| Package: motifStack | 
| Version: 1.34.0 | 
| Command: /home/biocbuild/bbs-3.12-bioc/R/bin/R CMD check --install=check:motifStack.install-out.txt --library=/home/biocbuild/bbs-3.12-bioc/R/library --no-vignettes --timings motifStack_1.34.0.tar.gz | 
| StartedAt: 2021-05-06 03:42:22 -0400 (Thu, 06 May 2021) | 
| EndedAt: 2021-05-06 03:45:06 -0400 (Thu, 06 May 2021) | 
| EllapsedTime: 163.7 seconds | 
| RetCode: 0 | 
| Status: OK | 
| CheckDir: motifStack.Rcheck | 
| Warnings: 0 | 
##############################################################################
##############################################################################
###
### Running command:
###
###   /home/biocbuild/bbs-3.12-bioc/R/bin/R CMD check --install=check:motifStack.install-out.txt --library=/home/biocbuild/bbs-3.12-bioc/R/library --no-vignettes --timings motifStack_1.34.0.tar.gz
###
##############################################################################
##############################################################################
* using log directory ‘/home/biocbuild/bbs-3.12-bioc/meat/motifStack.Rcheck’
* using R version 4.0.5 (2021-03-31)
* using platform: x86_64-pc-linux-gnu (64-bit)
* using session charset: UTF-8
* using option ‘--no-vignettes’
* checking for file ‘motifStack/DESCRIPTION’ ... OK
* checking extension type ... Package
* this is package ‘motifStack’ version ‘1.34.0’
* package encoding: UTF-8
* checking package namespace information ... OK
* checking package dependencies ... OK
* checking if this is a source package ... OK
* checking if there is a namespace ... OK
* checking for hidden files and directories ... OK
* checking for portable file names ... OK
* checking for sufficient/correct file permissions ... OK
* checking whether package ‘motifStack’ can be installed ... OK
* checking installed package size ... OK
* checking package directory ... OK
* checking ‘build’ directory ... OK
* checking DESCRIPTION meta-information ... OK
* checking top-level files ... OK
* checking for left-over files ... OK
* checking index information ... OK
* checking package subdirectories ... OK
* checking R files for non-ASCII characters ... OK
* checking R files for syntax errors ... OK
* checking whether the package can be loaded ... OK
* checking whether the package can be loaded with stated dependencies ... OK
* checking whether the package can be unloaded cleanly ... OK
* checking whether the namespace can be loaded with stated dependencies ... OK
* checking whether the namespace can be unloaded cleanly ... OK
* checking dependencies in R code ... OK
* checking S3 generic/method consistency ... OK
* checking replacement functions ... OK
* checking foreign function calls ... OK
* checking R code for possible problems ... OK
* checking Rd files ... OK
* checking Rd metadata ... OK
* checking Rd cross-references ... OK
* checking for missing documentation entries ... OK
* checking for code/documentation mismatches ... OK
* checking Rd \usage sections ... OK
* checking Rd contents ... OK
* checking for unstated dependencies in examples ... OK
* checking files in ‘vignettes’ ... OK
* checking examples ... OK
Examples with CPU (user + system) or elapsed time > 5s
                   user system elapsed
pfm2pwm          13.816  0.244  14.114
AAmotifAlignment 14.044  0.000  14.086
* checking for unstated dependencies in ‘tests’ ... OK
* checking tests ...
  Running ‘runTests.R’
 OK
* checking for unstated dependencies in vignettes ... OK
* checking package vignettes in ‘inst/doc’ ... OK
* checking running R code from vignettes ... SKIPPED
* checking re-building of vignette outputs ... SKIPPED
* checking PDF version of manual ... OK
* DONE
Status: OK
motifStack.Rcheck/00install.out
############################################################################## ############################################################################## ### ### Running command: ### ### /home/biocbuild/bbs-3.12-bioc/R/bin/R CMD INSTALL motifStack ### ############################################################################## ############################################################################## * installing to library ‘/home/biocbuild/bbs-3.12-bioc/R/library’ * installing *source* package ‘motifStack’ ... ** using staged installation ** R ** inst ** byte-compile and prepare package for lazy loading ** help *** installing help indices ** building package indices ** installing vignettes ** testing if installed package can be loaded from temporary location ** testing if installed package can be loaded from final location ** testing if installed package keeps a record of temporary installation path * DONE (motifStack)
motifStack.Rcheck/tests/runTests.Rout
R version 4.0.5 (2021-03-31) -- "Shake and Throw"
Copyright (C) 2021 The R Foundation for Statistical Computing
Platform: x86_64-pc-linux-gnu (64-bit)
R is free software and comes with ABSOLUTELY NO WARRANTY.
You are welcome to redistribute it under certain conditions.
Type 'license()' or 'licence()' for distribution details.
R is a collaborative project with many contributors.
Type 'contributors()' for more information and
'citation()' on how to cite R or R packages in publications.
Type 'demo()' for some demos, 'help()' for on-line help, or
'help.start()' for an HTML browser interface to help.
Type 'q()' to quit R.
> require("motifStack") || stop("unable to load Package:motifStack")
Loading required package: motifStack
Loading required package: grid
[1] TRUE
> #require("MotifDb") || stop("unalble to load Package::motifDb")
> BiocGenerics:::testPackage("motifStack")
RUNIT TEST PROTOCOL -- Thu May  6 03:45:02 2021 
*********************************************** 
Number of test functions: 10 
Number of errors: 0 
Number of failures: 0 
 
1 Test Suite : 
motifStack RUnit Tests - 10 test functions, 0 errors, 0 failures
Number of test functions: 10 
Number of errors: 0 
Number of failures: 0 
> 
> proc.time()
   user  system elapsed 
  5.372   0.172   5.557 
motifStack.Rcheck/motifStack-Ex.timings
| name | user | system | elapsed | |
| AAmotifAlignment | 14.044 | 0.000 | 14.086 | |
| DNAmotifAlignment | 0.196 | 0.000 | 0.246 | |
| DNAmotifToRNAmotif | 0.012 | 0.000 | 0.013 | |
| GeomMotif | 0.824 | 0.016 | 0.841 | |
| browseMotifs | 0.000 | 0.000 | 0.001 | |
| clusterMotifs | 0.004 | 0.000 | 0.000 | |
| colorset | 0 | 0 | 0 | |
| geom_motif | 0.252 | 0.000 | 0.252 | |
| getRankedUniqueMotifs | 0 | 0 | 0 | |
| highlightCol | 0.004 | 0.000 | 0.000 | |
| importMatrix | 0.004 | 0.008 | 0.012 | |
| marker-class | 0.000 | 0.000 | 0.001 | |
| matalign | 0 | 0 | 0 | |
| mergeMotifs | 0.092 | 0.000 | 0.093 | |
| motifCircos | 0.000 | 0.000 | 0.002 | |
| motifCloud | 0.000 | 0.000 | 0.002 | |
| motifGrob | 0.184 | 0.000 | 0.184 | |
| motifHclust | 0.004 | 0.000 | 0.001 | |
| motifPiles | 0.004 | 0.000 | 0.005 | |
| motifSignature | 0.004 | 0.000 | 0.002 | |
| motifStack | 0.004 | 0.000 | 0.003 | |
| ouNode-class | 0.004 | 0.000 | 0.003 | |
| pcm-class | 0.164 | 0.004 | 0.170 | |
| pfm-class | 0.140 | 0.004 | 0.146 | |
| pfm2pwm | 13.816 | 0.244 | 14.114 | |
| plotAffinityLogo | 0.892 | 0.008 | 0.916 | |
| plotMotifLogo | 0.196 | 0.008 | 0.205 | |
| plotMotifLogoA | 0.22 | 0.00 | 0.22 | |
| plotMotifLogoStack | 0.268 | 0.004 | 0.272 | |
| plotMotifLogoStackWithTree | 3.056 | 0.008 | 3.071 | |
| plotMotifOverMotif | 0.492 | 0.004 | 0.501 | |
| plotMotifStackWithPhylog | 0.000 | 0.000 | 0.003 | |
| plotMotifStackWithRadialPhylog | 0.000 | 0.000 | 0.004 | |
| psam-class | 1.088 | 0.008 | 1.102 | |
| pssm-class | 0.476 | 0.000 | 0.480 | |
| readPCM | 0.008 | 0.000 | 0.010 | |
| reorderUPGMAtree | 0.000 | 0.000 | 0.001 | |