| Back to Multiple platform build/check report for BioC 3.12 |
|
This page was generated on 2021-05-06 12:35:47 -0400 (Thu, 06 May 2021).
|
To the developers/maintainers of the monocle package: Please make sure to use the following settings in order to reproduce any error or warning you see on this page. |
| Package 1138/1974 | Hostname | OS / Arch | INSTALL | BUILD | CHECK | BUILD BIN | ||||||||
| monocle 2.18.0 (landing page) Cole Trapnell
| malbec1 | Linux (Ubuntu 18.04.5 LTS) / x86_64 | OK | OK | OK | |||||||||
| tokay1 | Windows Server 2012 R2 Standard / x64 | OK | OK | OK | OK | |||||||||
| merida1 | macOS 10.14.6 Mojave / x86_64 | OK | OK | OK | OK | |||||||||
| Package: monocle |
| Version: 2.18.0 |
| Command: /Library/Frameworks/R.framework/Versions/Current/Resources/bin/R CMD build --keep-empty-dirs --no-resave-data monocle |
| StartedAt: 2021-05-05 20:45:04 -0400 (Wed, 05 May 2021) |
| EndedAt: 2021-05-05 20:45:47 -0400 (Wed, 05 May 2021) |
| EllapsedTime: 43.0 seconds |
| RetCode: 0 |
| Status: OK |
| PackageFile: monocle_2.18.0.tar.gz |
| PackageFileSize: 9.057 MiB |
##############################################################################
##############################################################################
###
### Running command:
###
### /Library/Frameworks/R.framework/Versions/Current/Resources/bin/R CMD build --keep-empty-dirs --no-resave-data monocle
###
##############################################################################
##############################################################################
* checking for file ‘monocle/DESCRIPTION’ ... OK
* preparing ‘monocle’:
* checking DESCRIPTION meta-information ... OK
* cleaning src
* installing the package to build vignettes
* creating vignettes ... OK
Warning: ‘inst/doc’ files
‘monocle-vignette.Rnw’, ‘monocle-vignette.pdf’, ‘monocle-vignette.R’
ignored as vignettes have been rebuilt.
Run R CMD build with --no-build-vignettes to prevent rebuilding.
* cleaning src
* checking for LF line-endings in source and make files and shell scripts
* checking for empty or unneeded directories
* building ‘monocle_2.18.0.tar.gz’