| Back to Multiple platform build/check report for BioC 3.12 | 
  | 
This page was generated on 2021-05-06 12:35:47 -0400 (Thu, 06 May 2021).
| 
To the developers/maintainers of the mnem package: Please make sure to use the following settings in order to reproduce any error or warning you see on this page.  | 
| Package 1130/1974 | Hostname | OS / Arch | INSTALL | BUILD | CHECK | BUILD BIN | ||||||||
| mnem 1.6.5  (landing page) Martin Pirkl 
  | malbec1 | Linux (Ubuntu 18.04.5 LTS) / x86_64 | OK | OK | OK | |||||||||
| tokay1 | Windows Server 2012 R2 Standard / x64 | OK | OK | OK | OK | |||||||||
| merida1 | macOS 10.14.6 Mojave / x86_64 | OK | OK | OK | OK | |||||||||
| Package: mnem | 
| Version: 1.6.5 | 
| Command: /Library/Frameworks/R.framework/Versions/Current/Resources/bin/R CMD build --keep-empty-dirs --no-resave-data mnem | 
| StartedAt: 2021-05-05 20:44:04 -0400 (Wed, 05 May 2021) | 
| EndedAt: 2021-05-05 20:45:31 -0400 (Wed, 05 May 2021) | 
| EllapsedTime: 87.0 seconds | 
| RetCode: 0 | 
| Status: OK | 
| PackageFile: mnem_1.6.5.tar.gz | 
| PackageFileSize: 4.354 MiB | 
############################################################################## ############################################################################## ### ### Running command: ### ### /Library/Frameworks/R.framework/Versions/Current/Resources/bin/R CMD build --keep-empty-dirs --no-resave-data mnem ### ############################################################################## ############################################################################## * checking for file ‘mnem/DESCRIPTION’ ... OK * preparing ‘mnem’: * checking DESCRIPTION meta-information ... OK * cleaning src * installing the package to build vignettes * creating vignettes ... OK * cleaning src * checking for LF line-endings in source and make files and shell scripts * checking for empty or unneeded directories * building ‘mnem_1.6.5.tar.gz’