| Back to Multiple platform build/check report for BioC 3.12 |
|
This page was generated on 2021-05-06 12:32:17 -0400 (Thu, 06 May 2021).
|
To the developers/maintainers of the mirIntegrator package: Please make sure to use the following settings in order to reproduce any error or warning you see on this page. |
| Package 1110/1974 | Hostname | OS / Arch | INSTALL | BUILD | CHECK | BUILD BIN | ||||||||
| mirIntegrator 1.20.0 (landing page) Diana Diaz
| malbec1 | Linux (Ubuntu 18.04.5 LTS) / x86_64 | OK | OK | OK | |||||||||
| tokay1 | Windows Server 2012 R2 Standard / x64 | OK | OK | OK | OK | |||||||||
| merida1 | macOS 10.14.6 Mojave / x86_64 | OK | OK | OK | OK | |||||||||
| Package: mirIntegrator |
| Version: 1.20.0 |
| Command: rm -rf mirIntegrator.buildbin-libdir && mkdir mirIntegrator.buildbin-libdir && C:\Users\biocbuild\bbs-3.12-bioc\R\bin\R.exe CMD INSTALL --merge-multiarch --build --library=mirIntegrator.buildbin-libdir mirIntegrator_1.20.0.tar.gz |
| StartedAt: 2021-05-06 09:32:33 -0400 (Thu, 06 May 2021) |
| EndedAt: 2021-05-06 09:33:07 -0400 (Thu, 06 May 2021) |
| EllapsedTime: 33.8 seconds |
| RetCode: 0 |
| Status: OK |
| PackageFile: mirIntegrator_1.20.0.zip |
| PackageFileSize: 1.772 MiB |
##############################################################################
##############################################################################
###
### Running command:
###
### rm -rf mirIntegrator.buildbin-libdir && mkdir mirIntegrator.buildbin-libdir && C:\Users\biocbuild\bbs-3.12-bioc\R\bin\R.exe CMD INSTALL --merge-multiarch --build --library=mirIntegrator.buildbin-libdir mirIntegrator_1.20.0.tar.gz
###
##############################################################################
##############################################################################
install for i386
* installing *source* package 'mirIntegrator' ...
** using staged installation
** R
** data
** inst
** byte-compile and prepare package for lazy loading
** help
*** installing help indices
converting help for package 'mirIntegrator'
finding HTML links ... done
GSE43592_mRNA html
GSE43592_miRNA html
augmented_pathways html
integrate_mir html
kegg_pathways html
mirTarBase html
names_pathways html
pathways2pdf html
plot_augmented_pathway html
plot_change html
smallest_pathway html
** building package indices
** installing vignettes
** testing if installed package can be loaded from temporary location
** testing if installed package can be loaded from final location
** testing if installed package keeps a record of temporary installation path
install for x64
* installing *source* package 'mirIntegrator' ...
** testing if installed package can be loaded
* MD5 sums
packaged installation of 'mirIntegrator' as mirIntegrator_1.20.0.zip
* DONE (mirIntegrator)