| Back to Multiple platform build/check report for BioC 3.12 | 
  | 
This page was generated on 2021-05-06 12:32:16 -0400 (Thu, 06 May 2021).
| 
To the developers/maintainers of the minfi package: Please make sure to use the following settings in order to reproduce any error or warning you see on this page.  | 
| Package 1103/1974 | Hostname | OS / Arch | INSTALL | BUILD | CHECK | BUILD BIN | ||||||||
| minfi 1.36.0  (landing page) Kasper Daniel Hansen 
  | malbec1 | Linux (Ubuntu 18.04.5 LTS) / x86_64 | OK | OK | OK | |||||||||
| tokay1 | Windows Server 2012 R2 Standard / x64 | OK | OK | WARNINGS | OK | |||||||||
| merida1 | macOS 10.14.6 Mojave / x86_64 | OK | OK | OK | OK | |||||||||
| Package: minfi | 
| Version: 1.36.0 | 
| Command: chmod a+r minfi -R && C:\Users\biocbuild\bbs-3.12-bioc\R\bin\R.exe CMD build --keep-empty-dirs --no-resave-data minfi | 
| StartedAt: 2021-05-05 22:03:43 -0400 (Wed, 05 May 2021) | 
| EndedAt: 2021-05-05 22:05:58 -0400 (Wed, 05 May 2021) | 
| EllapsedTime: 135.0 seconds | 
| RetCode: 0 | 
| Status: OK | 
| PackageFile: minfi_1.36.0.tar.gz | 
| PackageFileSize: 494 KiB | 
############################################################################## ############################################################################## ### ### Running command: ### ### chmod a+r minfi -R && C:\Users\biocbuild\bbs-3.12-bioc\R\bin\R.exe CMD build --keep-empty-dirs --no-resave-data minfi ### ############################################################################## ############################################################################## * checking for file 'minfi/DESCRIPTION' ... OK * preparing 'minfi': * checking DESCRIPTION meta-information ... OK * installing the package to build vignettes * creating vignettes ... OK * checking for LF line-endings in source and make files and shell scripts * checking for empty or unneeded directories * building 'minfi_1.36.0.tar.gz'