| Back to Multiple platform build/check report for BioC 3.12 |
|
This page was generated on 2021-05-06 12:35:44 -0400 (Thu, 06 May 2021).
|
To the developers/maintainers of the microbiomeExplorer package: Please make sure to use the following settings in order to reproduce any error or warning you see on this page. |
| Package 1095/1974 | Hostname | OS / Arch | INSTALL | BUILD | CHECK | BUILD BIN | ||||||||
| microbiomeExplorer 1.0.1 (landing page) Janina Reeder
| malbec1 | Linux (Ubuntu 18.04.5 LTS) / x86_64 | OK | OK | OK | |||||||||
| tokay1 | Windows Server 2012 R2 Standard / x64 | OK | OK | OK | OK | |||||||||
| merida1 | macOS 10.14.6 Mojave / x86_64 | OK | OK | OK | OK | |||||||||
| Package: microbiomeExplorer |
| Version: 1.0.1 |
| Command: /Library/Frameworks/R.framework/Versions/Current/Resources/bin/R CMD check --install=check:microbiomeExplorer.install-out.txt --library=/Library/Frameworks/R.framework/Versions/Current/Resources/library --no-vignettes --timings microbiomeExplorer_1.0.1.tar.gz |
| StartedAt: 2021-05-06 03:42:29 -0400 (Thu, 06 May 2021) |
| EndedAt: 2021-05-06 03:44:50 -0400 (Thu, 06 May 2021) |
| EllapsedTime: 141.1 seconds |
| RetCode: 0 |
| Status: OK |
| CheckDir: microbiomeExplorer.Rcheck |
| Warnings: 0 |
##############################################################################
##############################################################################
###
### Running command:
###
### /Library/Frameworks/R.framework/Versions/Current/Resources/bin/R CMD check --install=check:microbiomeExplorer.install-out.txt --library=/Library/Frameworks/R.framework/Versions/Current/Resources/library --no-vignettes --timings microbiomeExplorer_1.0.1.tar.gz
###
##############################################################################
##############################################################################
* using log directory ‘/Users/biocbuild/bbs-3.12-bioc/meat/microbiomeExplorer.Rcheck’
* using R version 4.0.5 (2021-03-31)
* using platform: x86_64-apple-darwin17.0 (64-bit)
* using session charset: UTF-8
* using option ‘--no-vignettes’
* checking for file ‘microbiomeExplorer/DESCRIPTION’ ... OK
* checking extension type ... Package
* this is package ‘microbiomeExplorer’ version ‘1.0.1’
* package encoding: UTF-8
* checking package namespace information ... OK
* checking package dependencies ... OK
* checking if this is a source package ... OK
* checking if there is a namespace ... OK
* checking for hidden files and directories ... OK
* checking for portable file names ... OK
* checking for sufficient/correct file permissions ... OK
* checking whether package ‘microbiomeExplorer’ can be installed ... OK
* checking installed package size ... NOTE
installed size is 7.6Mb
sub-directories of 1Mb or more:
extdata 4.1Mb
shiny 2.9Mb
* checking package directory ... OK
* checking ‘build’ directory ... OK
* checking DESCRIPTION meta-information ... OK
* checking top-level files ... OK
* checking for left-over files ... OK
* checking index information ... OK
* checking package subdirectories ... OK
* checking R files for non-ASCII characters ... OK
* checking R files for syntax errors ... OK
* checking whether the package can be loaded ... OK
* checking whether the package can be loaded with stated dependencies ... OK
* checking whether the package can be unloaded cleanly ... OK
* checking whether the namespace can be loaded with stated dependencies ... OK
* checking whether the namespace can be unloaded cleanly ... OK
* checking dependencies in R code ... OK
* checking S3 generic/method consistency ... OK
* checking replacement functions ... OK
* checking foreign function calls ... OK
* checking R code for possible problems ... OK
* checking Rd files ... OK
* checking Rd metadata ... OK
* checking Rd cross-references ... OK
* checking for missing documentation entries ... OK
* checking for code/documentation mismatches ... OK
* checking Rd \usage sections ... OK
* checking Rd contents ... OK
* checking for unstated dependencies in examples ... OK
* checking files in ‘vignettes’ ... OK
* checking examples ... OK
* checking for unstated dependencies in ‘tests’ ... OK
* checking tests ...
Running ‘testthat.R’
OK
* checking for unstated dependencies in vignettes ... OK
* checking package vignettes in ‘inst/doc’ ... OK
* checking running R code from vignettes ... SKIPPED
* checking re-building of vignette outputs ... SKIPPED
* checking PDF version of manual ... OK
* DONE
Status: 1 NOTE
See
‘/Users/biocbuild/bbs-3.12-bioc/meat/microbiomeExplorer.Rcheck/00check.log’
for details.
microbiomeExplorer.Rcheck/00install.out
############################################################################## ############################################################################## ### ### Running command: ### ### /Library/Frameworks/R.framework/Versions/Current/Resources/bin/R CMD INSTALL microbiomeExplorer ### ############################################################################## ############################################################################## * installing to library ‘/Library/Frameworks/R.framework/Versions/4.0/Resources/library’ * installing *source* package ‘microbiomeExplorer’ ... ** using staged installation ** R ** inst ** byte-compile and prepare package for lazy loading ** help *** installing help indices ** building package indices ** installing vignettes ** testing if installed package can be loaded from temporary location ** testing if installed package can be loaded from final location ** testing if installed package keeps a record of temporary installation path * DONE (microbiomeExplorer)
microbiomeExplorer.Rcheck/tests/testthat.Rout
R version 4.0.5 (2021-03-31) -- "Shake and Throw"
Copyright (C) 2021 The R Foundation for Statistical Computing
Platform: x86_64-apple-darwin17.0 (64-bit)
R is free software and comes with ABSOLUTELY NO WARRANTY.
You are welcome to redistribute it under certain conditions.
Type 'license()' or 'licence()' for distribution details.
R is a collaborative project with many contributors.
Type 'contributors()' for more information and
'citation()' on how to cite R or R packages in publications.
Type 'demo()' for some demos, 'help()' for on-line help, or
'help.start()' for an HTML browser interface to help.
Type 'q()' to quit R.
> library(testthat)
> library(microbiomeExplorer)
Loading required package: shiny
Loading required package: magrittr
Attaching package: 'magrittr'
The following objects are masked from 'package:testthat':
equals, is_less_than, not
Loading required package: metagenomeSeq
Loading required package: Biobase
Loading required package: BiocGenerics
Loading required package: parallel
Attaching package: 'BiocGenerics'
The following objects are masked from 'package:parallel':
clusterApply, clusterApplyLB, clusterCall, clusterEvalQ,
clusterExport, clusterMap, parApply, parCapply, parLapply,
parLapplyLB, parRapply, parSapply, parSapplyLB
The following objects are masked from 'package:stats':
IQR, mad, sd, var, xtabs
The following objects are masked from 'package:base':
Filter, Find, Map, Position, Reduce, anyDuplicated, append,
as.data.frame, basename, cbind, colnames, dirname, do.call,
duplicated, eval, evalq, get, grep, grepl, intersect, is.unsorted,
lapply, mapply, match, mget, order, paste, pmax, pmax.int, pmin,
pmin.int, rank, rbind, rownames, sapply, setdiff, sort, table,
tapply, union, unique, unsplit, which.max, which.min
Welcome to Bioconductor
Vignettes contain introductory material; view with
'browseVignettes()'. To cite Bioconductor, see
'citation("Biobase")', and for packages 'citation("pkgname")'.
Loading required package: limma
Attaching package: 'limma'
The following object is masked from 'package:BiocGenerics':
plotMA
Loading required package: glmnet
Loading required package: Matrix
Loaded glmnet 4.1-1
Loading required package: RColorBrewer
>
> test_check("microbiomeExplorer")
══ Skipped tests ═══════════════════════════════════════════════════════════════
• On CRAN (1)
[ FAIL 0 | WARN 0 | SKIP 1 | PASS 67 ]
>
> proc.time()
user system elapsed
10.897 0.667 11.563
microbiomeExplorer.Rcheck/microbiomeExplorer-Ex.timings
| name | user | system | elapsed | |
| aggFeatures | 0.361 | 0.022 | 0.384 | |
| aggregationTabUI | 0.027 | 0.001 | 0.028 | |
| calculatePCAs | 0.406 | 0.025 | 0.433 | |
| computeDistMat | 0.416 | 0.142 | 0.558 | |
| corrAnalysisUI | 1.419 | 0.100 | 1.524 | |
| corrFeature | 0.728 | 0.064 | 0.794 | |
| corrPhenotype | 0.646 | 0.053 | 0.701 | |
| dataInputUI | 0.180 | 0.013 | 0.194 | |
| diffAnalysisUI | 0.102 | 0.006 | 0.108 | |
| featureAnalysisUI | 0.067 | 0.003 | 0.070 | |
| featureTableUI | 0.029 | 0.002 | 0.031 | |
| filterByPheno | 0.198 | 0.002 | 0.200 | |
| filterMEData | 1.608 | 0.042 | 1.656 | |
| interAnalysisUI | 0.228 | 0.013 | 0.243 | |
| intraAnalysisUI | 0.252 | 0.010 | 0.263 | |
| longAnalysisUI | 0.113 | 0.005 | 0.118 | |
| makeQCPlot | 0.327 | 0.037 | 0.366 | |
| normalizeData | 0.913 | 0.080 | 0.994 | |
| phenotypeTableUI | 0.060 | 0.002 | 0.063 | |
| plotAbundance | 1.017 | 0.072 | 1.092 | |
| plotAlpha | 0.422 | 0.048 | 0.472 | |
| plotAvgAbundance | 0.601 | 0.046 | 0.650 | |
| plotBeta | 0.364 | 0.042 | 0.408 | |
| plotHeatmap | 2.275 | 0.062 | 2.343 | |
| plotLongFeature | 0.501 | 0.047 | 0.553 | |
| plotSingleFeature | 0.493 | 0.050 | 0.545 | |
| plotlyHistogram | 0.506 | 0.046 | 0.554 | |
| plotlySampleBarplot | 0.230 | 0.041 | 0.271 | |
| replaceWithUnknown | 0.282 | 0.180 | 0.463 | |
| reportListUI | 0.042 | 0.001 | 0.043 | |
| rollDownFeatures | 0.165 | 0.006 | 0.171 | |
| runDiffTest | 0.430 | 0.012 | 0.442 | |