| Back to Multiple platform build/check report for BioC 3.12 |
|
This page was generated on 2021-05-06 12:32:15 -0400 (Thu, 06 May 2021).
|
To the developers/maintainers of the microRNA package: Please make sure to use the following settings in order to reproduce any error or warning you see on this page. |
| Package 1097/1974 | Hostname | OS / Arch | INSTALL | BUILD | CHECK | BUILD BIN | ||||||||
| microRNA 1.48.0 (landing page) "James F. Reid"
| malbec1 | Linux (Ubuntu 18.04.5 LTS) / x86_64 | OK | OK | OK | |||||||||
| tokay1 | Windows Server 2012 R2 Standard / x64 | OK | OK | OK | OK | |||||||||
| merida1 | macOS 10.14.6 Mojave / x86_64 | OK | OK | OK | OK | |||||||||
| Package: microRNA |
| Version: 1.48.0 |
| Command: C:\cygwin\bin\curl.exe -O http://172.29.0.3/BBS/3.12/bioc/src/contrib/microRNA_1.48.0.tar.gz && rm -rf microRNA.buildbin-libdir && mkdir microRNA.buildbin-libdir && C:\Users\biocbuild\bbs-3.12-bioc\R\bin\R.exe CMD INSTALL --merge-multiarch --build --library=microRNA.buildbin-libdir microRNA_1.48.0.tar.gz && C:\Users\biocbuild\bbs-3.12-bioc\R\bin\R.exe CMD INSTALL microRNA_1.48.0.zip && rm microRNA_1.48.0.tar.gz microRNA_1.48.0.zip |
| StartedAt: 2021-05-05 17:07:20 -0400 (Wed, 05 May 2021) |
| EndedAt: 2021-05-05 17:07:59 -0400 (Wed, 05 May 2021) |
| EllapsedTime: 39.1 seconds |
| RetCode: 0 |
| Status: OK |
##############################################################################
##############################################################################
###
### Running command:
###
### C:\cygwin\bin\curl.exe -O http://172.29.0.3/BBS/3.12/bioc/src/contrib/microRNA_1.48.0.tar.gz && rm -rf microRNA.buildbin-libdir && mkdir microRNA.buildbin-libdir && C:\Users\biocbuild\bbs-3.12-bioc\R\bin\R.exe CMD INSTALL --merge-multiarch --build --library=microRNA.buildbin-libdir microRNA_1.48.0.tar.gz && C:\Users\biocbuild\bbs-3.12-bioc\R\bin\R.exe CMD INSTALL microRNA_1.48.0.zip && rm microRNA_1.48.0.tar.gz microRNA_1.48.0.zip
###
##############################################################################
##############################################################################
% Total % Received % Xferd Average Speed Time Time Time Current
Dload Upload Total Spent Left Speed
0 0 0 0 0 0 0 0 --:--:-- --:--:-- --:--:-- 0
100 5886k 100 5886k 0 0 69.1M 0 --:--:-- --:--:-- --:--:-- 70.0M
install for i386
* installing *source* package 'microRNA' ...
** using staged installation
** libs
"C:/rtools40/mingw32/bin/"g++ -std=gnu++11 -I"C:/Users/BIOCBU~1/BBS-3~1.12-/R/include" -DNDEBUG -I"C:/extsoft/include" -O2 -Wall -mfpmath=sse -msse2 -mstackrealign -c longest_common_substring.cpp -o longest_common_substring.o
longest_common_substring.cpp: In function 'SEXPREC* longest_common_substring(SEXP)':
longest_common_substring.cpp:55:15: warning: comparison of integer expressions of different signedness: 'size_t' {aka 'unsigned int'} and '__gnu_cxx::__alloc_traits<std::allocator<int>, int>::value_type' {aka 'int'} [-Wsign-compare]
if (i == len[index] - 1) { // ignore null termination character
~~^~~~~~~~~~~~~~~~~
C:/rtools40/mingw32/bin/g++ -std=gnu++11 -shared -s -static-libgcc -o microRNA.dll tmp.def longest_common_substring.o -LC:/extsoft/lib/i386 -LC:/extsoft/lib -LC:/Users/BIOCBU~1/BBS-3~1.12-/R/bin/i386 -lR
installing to C:/Users/biocbuild/bbs-3.12-bioc/meat/microRNA.buildbin-libdir/00LOCK-microRNA/00new/microRNA/libs/i386
** R
** data
** inst
** byte-compile and prepare package for lazy loading
** help
*** installing help indices
converting help for package 'microRNA'
finding HTML links ... done
RNA2DNA html
get_selfhyb_subseq html
hsSeqs html
hsTargets html
matchSeeds html
mmSeqs html
mmTargets html
s3utr html
seedRegions html
** building package indices
** testing if installed package can be loaded from temporary location
** testing if installed package can be loaded from final location
** testing if installed package keeps a record of temporary installation path
install for x64
* installing *source* package 'microRNA' ...
** libs
"C:/rtools40/mingw64/bin/"g++ -std=gnu++11 -I"C:/Users/BIOCBU~1/BBS-3~1.12-/R/include" -DNDEBUG -I"C:/extsoft/include" -O2 -Wall -mfpmath=sse -msse2 -mstackrealign -c longest_common_substring.cpp -o longest_common_substring.o
longest_common_substring.cpp: In function 'SEXPREC* longest_common_substring(SEXP)':
longest_common_substring.cpp:55:15: warning: comparison of integer expressions of different signedness: 'size_t' {aka 'long long unsigned int'} and '__gnu_cxx::__alloc_traits<std::allocator<int>, int>::value_type' {aka 'int'} [-Wsign-compare]
if (i == len[index] - 1) { // ignore null termination character
~~^~~~~~~~~~~~~~~~~
C:/rtools40/mingw64/bin/g++ -std=gnu++11 -shared -s -static-libgcc -o microRNA.dll tmp.def longest_common_substring.o -LC:/extsoft/lib/x64 -LC:/extsoft/lib -LC:/Users/BIOCBU~1/BBS-3~1.12-/R/bin/x64 -lR
installing to C:/Users/biocbuild/bbs-3.12-bioc/meat/microRNA.buildbin-libdir/microRNA/libs/x64
** testing if installed package can be loaded
* MD5 sums
packaged installation of 'microRNA' as microRNA_1.48.0.zip
* DONE (microRNA)
* installing to library 'C:/Users/biocbuild/bbs-3.12-bioc/R/library'
package 'microRNA' successfully unpacked and MD5 sums checked