| Back to Multiple platform build/check report for BioC 3.12 |
|
This page was generated on 2021-05-06 12:35:46 -0400 (Thu, 06 May 2021).
|
To the developers/maintainers of the miRNAmeConverter package: Please make sure to use the following settings in order to reproduce any error or warning you see on this page. |
| Package 1113/1974 | Hostname | OS / Arch | INSTALL | BUILD | CHECK | BUILD BIN | ||||||||
| miRNAmeConverter 1.18.0 (landing page) Stefan J. Haunsberger
| malbec1 | Linux (Ubuntu 18.04.5 LTS) / x86_64 | OK | OK | WARNINGS | |||||||||
| tokay1 | Windows Server 2012 R2 Standard / x64 | OK | OK | WARNINGS | OK | |||||||||
| merida1 | macOS 10.14.6 Mojave / x86_64 | OK | OK | WARNINGS | OK | |||||||||
| Package: miRNAmeConverter |
| Version: 1.18.0 |
| Command: rm -rf miRNAmeConverter.buildbin-libdir && mkdir miRNAmeConverter.buildbin-libdir && /Users/biocbuild/BBS/utils/build-universal.sh miRNAmeConverter_1.18.0.tar.gz /Library/Frameworks/R.framework/Versions/Current/Resources/bin/R miRNAmeConverter.buildbin-libdir |
| StartedAt: 2021-05-06 09:16:02 -0400 (Thu, 06 May 2021) |
| EndedAt: 2021-05-06 09:17:06 -0400 (Thu, 06 May 2021) |
| EllapsedTime: 64.9 seconds |
| RetCode: 0 |
| Status: OK |
| PackageFile: miRNAmeConverter_1.18.0.tgz |
| PackageFileSize: 521.5 KiB |
############################################################################## ############################################################################## ### ### Running command: ### ### rm -rf miRNAmeConverter.buildbin-libdir && mkdir miRNAmeConverter.buildbin-libdir && /Users/biocbuild/BBS/utils/build-universal.sh miRNAmeConverter_1.18.0.tar.gz /Library/Frameworks/R.framework/Versions/Current/Resources/bin/R miRNAmeConverter.buildbin-libdir ### ############################################################################## ############################################################################## >>>>>>> >>>>>>> INSTALLATION WITH 'R CMD INSTALL --preclean --no-multiarch --library=miRNAmeConverter.buildbin-libdir miRNAmeConverter_1.18.0.tar.gz' >>>>>>> * installing *source* package ‘miRNAmeConverter’ ... ** using staged installation It is recommended to use ‘given’ instead of ‘middle’. ** R ** data *** moving datasets to lazyload DB ** inst ** byte-compile and prepare package for lazy loading Creating a generic function from function ‘MiRNANameConverter’ in package ‘miRNAmeConverter’ ** help *** installing help indices ** building package indices ** testing if installed package can be loaded from temporary location ** testing if installed package can be loaded from final location ** testing if installed package keeps a record of temporary installation path * DONE (miRNAmeConverter)