| Back to Multiple platform build/check report for BioC 3.12 |
|
This page was generated on 2021-05-06 12:28:15 -0400 (Thu, 06 May 2021).
|
To the developers/maintainers of the miRLAB package: Please make sure to use the following settings in order to reproduce any error or warning you see on this page. |
| Package 1111/1974 | Hostname | OS / Arch | INSTALL | BUILD | CHECK | BUILD BIN | ||||||||
| miRLAB 1.20.0 (landing page) Thuc Duy Le
| malbec1 | Linux (Ubuntu 18.04.5 LTS) / x86_64 | ERROR | ERROR | skipped | |||||||||
| tokay1 | Windows Server 2012 R2 Standard / x64 | ERROR | ERROR | skipped | skipped | |||||||||
| merida1 | macOS 10.14.6 Mojave / x86_64 | ERROR | ERROR | skipped | skipped | |||||||||
| Package: miRLAB |
| Version: 1.20.0 |
| Command: /home/biocbuild/bbs-3.12-bioc/R/bin/R CMD build --keep-empty-dirs --no-resave-data miRLAB |
| StartedAt: 2021-05-05 20:20:28 -0400 (Wed, 05 May 2021) |
| EndedAt: 2021-05-05 20:20:29 -0400 (Wed, 05 May 2021) |
| EllapsedTime: 1.2 seconds |
| RetCode: 1 |
| Status: ERROR |
| PackageFile: None |
| PackageFileSize: NA |
##############################################################################
##############################################################################
###
### Running command:
###
### /home/biocbuild/bbs-3.12-bioc/R/bin/R CMD build --keep-empty-dirs --no-resave-data miRLAB
###
##############################################################################
##############################################################################
* checking for file ‘miRLAB/DESCRIPTION’ ... OK
* preparing ‘miRLAB’:
* checking DESCRIPTION meta-information ... OK
* installing the package to build vignettes
-----------------------------------
ERROR: dependency ‘heatmap.plus’ is not available for package ‘miRLAB’
* removing ‘/tmp/RtmpWMD2Di/Rinst4c945edc36dc/miRLAB’
-----------------------------------
ERROR: package installation failed