| Back to Multiple platform build/check report for BioC 3.12 |
|
This page was generated on 2021-05-06 12:32:13 -0400 (Thu, 06 May 2021).
|
To the developers/maintainers of the methylCC package: Please make sure to use the following settings in order to reproduce any error or warning you see on this page. |
| Package 1074/1974 | Hostname | OS / Arch | INSTALL | BUILD | CHECK | BUILD BIN | ||||||||
| methylCC 1.4.0 (landing page) Stephanie C. Hicks
| malbec1 | Linux (Ubuntu 18.04.5 LTS) / x86_64 | OK | OK | OK | |||||||||
| tokay1 | Windows Server 2012 R2 Standard / x64 | OK | OK | ERROR | OK | |||||||||
| merida1 | macOS 10.14.6 Mojave / x86_64 | OK | OK | OK | OK | |||||||||
| Package: methylCC |
| Version: 1.4.0 |
| Command: rm -rf methylCC.buildbin-libdir && mkdir methylCC.buildbin-libdir && C:\Users\biocbuild\bbs-3.12-bioc\R\bin\R.exe CMD INSTALL --merge-multiarch --build --library=methylCC.buildbin-libdir methylCC_1.4.0.tar.gz |
| StartedAt: 2021-05-06 09:30:26 -0400 (Thu, 06 May 2021) |
| EndedAt: 2021-05-06 09:31:43 -0400 (Thu, 06 May 2021) |
| EllapsedTime: 77.0 seconds |
| RetCode: 0 |
| Status: OK |
| PackageFile: methylCC_1.4.0.zip |
| PackageFileSize: 4.718 MiB |
##############################################################################
##############################################################################
###
### Running command:
###
### rm -rf methylCC.buildbin-libdir && mkdir methylCC.buildbin-libdir && C:\Users\biocbuild\bbs-3.12-bioc\R\bin\R.exe CMD INSTALL --merge-multiarch --build --library=methylCC.buildbin-libdir methylCC_1.4.0.tar.gz
###
##############################################################################
##############################################################################
install for i386
* installing *source* package 'methylCC' ...
** using staged installation
** R
** data
** inst
** byte-compile and prepare package for lazy loading
** help
*** installing help indices
converting help for package 'methylCC'
finding HTML links ... done
FlowSorted.Blood.450k.sub html
cell_counts html
dot-WFun html
dot-extract_raw_data html
dot-find_dmrs html
dot-initializeMLEs html
dot-initialize_theta html
dot-methylcc_engine html
dot-methylcc_estep html
dot-methylcc_mstep html
dot-pick_target_positions html
dot-preprocess_estimatecc html
dot-splitit html
estimatecc-class html
estimatecc html
offMethRegions html
onMethRegions html
** building package indices
** installing vignettes
** testing if installed package can be loaded from temporary location
** testing if installed package can be loaded from final location
** testing if installed package keeps a record of temporary installation path
install for x64
* installing *source* package 'methylCC' ...
** testing if installed package can be loaded
* MD5 sums
packaged installation of 'methylCC' as methylCC_1.4.0.zip
* DONE (methylCC)