| Back to Multiple platform build/check report for BioC 3.12 |
|
This page was generated on 2021-05-06 12:32:13 -0400 (Thu, 06 May 2021).
|
To the developers/maintainers of the methrix package: Please make sure to use the following settings in order to reproduce any error or warning you see on this page. |
| Package 1069/1974 | Hostname | OS / Arch | INSTALL | BUILD | CHECK | BUILD BIN | ||||||||
| methrix 1.4.07 (landing page) Anand Mayakonda
| malbec1 | Linux (Ubuntu 18.04.5 LTS) / x86_64 | OK | OK | OK | |||||||||
| tokay1 | Windows Server 2012 R2 Standard / x64 | OK | OK | OK | OK | |||||||||
| merida1 | macOS 10.14.6 Mojave / x86_64 | OK | OK | OK | OK | |||||||||
| Package: methrix |
| Version: 1.4.07 |
| Command: rm -rf methrix.buildbin-libdir && mkdir methrix.buildbin-libdir && C:\Users\biocbuild\bbs-3.12-bioc\R\bin\R.exe CMD INSTALL --merge-multiarch --build --library=methrix.buildbin-libdir methrix_1.4.07.tar.gz |
| StartedAt: 2021-05-06 09:30:13 -0400 (Thu, 06 May 2021) |
| EndedAt: 2021-05-06 09:31:10 -0400 (Thu, 06 May 2021) |
| EllapsedTime: 57.6 seconds |
| RetCode: 0 |
| Status: OK |
| PackageFile: methrix_1.4.07.zip |
| PackageFileSize: 3.164 MiB |
##############################################################################
##############################################################################
###
### Running command:
###
### rm -rf methrix.buildbin-libdir && mkdir methrix.buildbin-libdir && C:\Users\biocbuild\bbs-3.12-bioc\R\bin\R.exe CMD INSTALL --merge-multiarch --build --library=methrix.buildbin-libdir methrix_1.4.07.tar.gz
###
##############################################################################
##############################################################################
install for i386
* installing *source* package 'methrix' ...
** using staged installation
** R
** data
** inst
** byte-compile and prepare package for lazy loading
** help
*** installing help indices
converting help for package 'methrix'
finding HTML links ... done
combine_methrix html
convert_HDF5_methrix html
convert_methrix html
coverage_filter html
extract_CPGs html
get_matrix html
get_region_summary html
finding level-2 HTML links ... done
get_stats html
load_HDF5_methrix html
mask_methrix html
methrix-class html
methrix2bsseq html
methrix_data html
methrix_pca html
methrix_report html
order_by_sd html
plot_coverage html
plot_density html
plot_pca html
plot_stats html
plot_violin html
read_bedgraphs html
region_filter html
remove_snps html
remove_uncovered html
save_HDF5_methrix html
subset_methrix html
write_bedgraphs html
write_bigwigs html
** building package indices
** installing vignettes
** testing if installed package can be loaded from temporary location
** testing if installed package can be loaded from final location
** testing if installed package keeps a record of temporary installation path
install for x64
* installing *source* package 'methrix' ...
** testing if installed package can be loaded
* MD5 sums
packaged installation of 'methrix' as methrix_1.4.07.zip
* DONE (methrix)