| Back to Multiple platform build/check report for BioC 3.12 |
|
This page was generated on 2021-05-06 12:32:11 -0400 (Thu, 06 May 2021).
|
To the developers/maintainers of the metagene2 package: Please make sure to use the following settings in order to reproduce any error or warning you see on this page. |
| Package 1052/1974 | Hostname | OS / Arch | INSTALL | BUILD | CHECK | BUILD BIN | ||||||||
| metagene2 1.6.1 (landing page) Eric Fournier
| malbec1 | Linux (Ubuntu 18.04.5 LTS) / x86_64 | OK | OK | OK | |||||||||
| tokay1 | Windows Server 2012 R2 Standard / x64 | OK | OK | OK | OK | |||||||||
| merida1 | macOS 10.14.6 Mojave / x86_64 | OK | OK | OK | OK | |||||||||
| Package: metagene2 |
| Version: 1.6.1 |
| Command: rm -rf metagene2.buildbin-libdir && mkdir metagene2.buildbin-libdir && C:\Users\biocbuild\bbs-3.12-bioc\R\bin\R.exe CMD INSTALL --merge-multiarch --build --library=metagene2.buildbin-libdir metagene2_1.6.1.tar.gz |
| StartedAt: 2021-05-06 09:29:16 -0400 (Thu, 06 May 2021) |
| EndedAt: 2021-05-06 09:30:26 -0400 (Thu, 06 May 2021) |
| EllapsedTime: 69.7 seconds |
| RetCode: 0 |
| Status: OK |
| PackageFile: metagene2_1.6.1.zip |
| PackageFileSize: 1.998 MiB |
##############################################################################
##############################################################################
###
### Running command:
###
### rm -rf metagene2.buildbin-libdir && mkdir metagene2.buildbin-libdir && C:\Users\biocbuild\bbs-3.12-bioc\R\bin\R.exe CMD INSTALL --merge-multiarch --build --library=metagene2.buildbin-libdir metagene2_1.6.1.tar.gz
###
##############################################################################
##############################################################################
install for i386
* installing *source* package 'metagene2' ...
** using staged installation
** R
** inst
** byte-compile and prepare package for lazy loading
** help
*** installing help indices
converting help for package 'metagene2'
finding HTML links ... done
Bam_Handler html
as_is_region_order html
coverage_order html
get_demo_bam_files html
get_demo_design html
get_demo_metagene html
get_demo_region_filenames html
get_demo_regions html
get_demo_rna_bam_files html
get_demo_rna_regions html
metagene2 html
metagene2_heatmap html
plot_metagene html
** building package indices
** installing vignettes
** testing if installed package can be loaded from temporary location
** testing if installed package can be loaded from final location
** testing if installed package keeps a record of temporary installation path
install for x64
* installing *source* package 'metagene2' ...
** testing if installed package can be loaded
* MD5 sums
packaged installation of 'metagene2' as metagene2_1.6.1.zip
* DONE (metagene2)