| Back to Multiple platform build/check report for BioC 3.12 |
|
This page was generated on 2021-05-06 12:32:11 -0400 (Thu, 06 May 2021).
|
To the developers/maintainers of the metagene package: Please make sure to use the following settings in order to reproduce any error or warning you see on this page. |
| Package 1051/1974 | Hostname | OS / Arch | INSTALL | BUILD | CHECK | BUILD BIN | ||||||||
| metagene 2.22.0 (landing page) Charles Joly Beauparlant
| malbec1 | Linux (Ubuntu 18.04.5 LTS) / x86_64 | OK | OK | OK | |||||||||
| tokay1 | Windows Server 2012 R2 Standard / x64 | OK | OK | OK | OK | |||||||||
| merida1 | macOS 10.14.6 Mojave / x86_64 | OK | OK | OK | OK | |||||||||
| Package: metagene |
| Version: 2.22.0 |
| Command: chmod a+r metagene -R && C:\Users\biocbuild\bbs-3.12-bioc\R\bin\R.exe CMD build --keep-empty-dirs --no-resave-data metagene |
| StartedAt: 2021-05-05 21:56:16 -0400 (Wed, 05 May 2021) |
| EndedAt: 2021-05-05 21:59:24 -0400 (Wed, 05 May 2021) |
| EllapsedTime: 187.9 seconds |
| RetCode: 0 |
| Status: OK |
| PackageFile: metagene_2.22.0.tar.gz |
| PackageFileSize: 5.522 MiB |
############################################################################## ############################################################################## ### ### Running command: ### ### chmod a+r metagene -R && C:\Users\biocbuild\bbs-3.12-bioc\R\bin\R.exe CMD build --keep-empty-dirs --no-resave-data metagene ### ############################################################################## ############################################################################## * checking for file 'metagene/DESCRIPTION' ... OK * preparing 'metagene': * checking DESCRIPTION meta-information ... OK * installing the package to build vignettes * creating vignettes ... OK * checking for LF line-endings in source and make files and shell scripts * checking for empty or unneeded directories * building 'metagene_2.22.0.tar.gz'