| Back to Multiple platform build/check report for BioC 3.12 |
|
This page was generated on 2021-05-06 12:32:12 -0400 (Thu, 06 May 2021).
|
To the developers/maintainers of the metaMS package: Please make sure to use the following settings in order to reproduce any error or warning you see on this page. |
| Package 1056/1974 | Hostname | OS / Arch | INSTALL | BUILD | CHECK | BUILD BIN | ||||||||
| metaMS 1.26.0 (landing page) Yann Guitton
| malbec1 | Linux (Ubuntu 18.04.5 LTS) / x86_64 | OK | OK | OK | |||||||||
| tokay1 | Windows Server 2012 R2 Standard / x64 | OK | OK | OK | OK | |||||||||
| merida1 | macOS 10.14.6 Mojave / x86_64 | OK | OK | OK | OK | |||||||||
| Package: metaMS |
| Version: 1.26.0 |
| Command: rm -rf metaMS.buildbin-libdir && mkdir metaMS.buildbin-libdir && C:\Users\biocbuild\bbs-3.12-bioc\R\bin\R.exe CMD INSTALL --merge-multiarch --build --library=metaMS.buildbin-libdir metaMS_1.26.0.tar.gz |
| StartedAt: 2021-05-06 09:29:27 -0400 (Thu, 06 May 2021) |
| EndedAt: 2021-05-06 09:30:33 -0400 (Thu, 06 May 2021) |
| EllapsedTime: 66.2 seconds |
| RetCode: 0 |
| Status: OK |
| PackageFile: metaMS_1.26.0.zip |
| PackageFileSize: 4.195 MiB |
##############################################################################
##############################################################################
###
### Running command:
###
### rm -rf metaMS.buildbin-libdir && mkdir metaMS.buildbin-libdir && C:\Users\biocbuild\bbs-3.12-bioc\R\bin\R.exe CMD INSTALL --merge-multiarch --build --library=metaMS.buildbin-libdir metaMS_1.26.0.tar.gz
###
##############################################################################
##############################################################################
install for i386
* installing *source* package 'metaMS' ...
** using staged installation
** R
** data
** inst
** byte-compile and prepare package for lazy loading
** help
*** installing help indices
converting help for package 'metaMS'
finding HTML links ... done
AnnotateTable html
FEMsettings html
finding level-2 HTML links ... done
GCresults html
LCDBtest html
LCresults html
addRI html
alignmentLC html
annotations2tab html
constructExpPseudoSpectra html
createSTDdbGC html
createSTDdbLC html
errf html
exptable html
getAnnotationLC html
getAnnotationMat html
getFeatureInfo html
getPeakTable html
match2ExtDB html
matchExpSpec html
matchSamples2DB html
matchSamples2Samples html
metaMS-package html
metaMSsettings-class html
metaSetting-methods html
msp html
peakDetection html
plotPseudoSpectrum html
printString html
processStandards html
readStdInfo html
removeDoubleMasses html
runCAMERA html
runGC html
runLC html
threeStdsDB html
treat.DB html
** building package indices
** installing vignettes
** testing if installed package can be loaded from temporary location
** testing if installed package can be loaded from final location
** testing if installed package keeps a record of temporary installation path
install for x64
* installing *source* package 'metaMS' ...
** testing if installed package can be loaded
* MD5 sums
packaged installation of 'metaMS' as metaMS_1.26.0.zip
* DONE (metaMS)