| Back to Multiple platform build/check report for BioC 3.12 |
|
This page was generated on 2021-05-06 12:32:11 -0400 (Thu, 06 May 2021).
|
To the developers/maintainers of the metaArray package: Please make sure to use the following settings in order to reproduce any error or warning you see on this page. |
| Package 1043/1974 | Hostname | OS / Arch | INSTALL | BUILD | CHECK | BUILD BIN | ||||||||
Hyungwon Choi
| malbec1 | Linux (Ubuntu 18.04.5 LTS) / x86_64 | ERROR | ERROR | skipped | |||||||||
| tokay1 | Windows Server 2012 R2 Standard / x64 | ERROR | ERROR | skipped | skipped | |||||||||
| merida1 | macOS 10.14.6 Mojave / x86_64 | ERROR | ERROR | skipped | skipped | |||||||||
| Package: metaArray |
| Version: 1.68.0 |
| Command: chmod a+r metaArray -R && C:\Users\biocbuild\bbs-3.12-bioc\R\bin\R.exe CMD build --keep-empty-dirs --no-resave-data metaArray |
| StartedAt: 2021-05-05 21:55:16 -0400 (Wed, 05 May 2021) |
| EndedAt: 2021-05-05 21:55:21 -0400 (Wed, 05 May 2021) |
| EllapsedTime: 4.5 seconds |
| RetCode: 1 |
| Status: ERROR |
| PackageFile: metaArray_1.68.0.tar.gz |
| PackageFileSize: 662.8 KiB |
##############################################################################
##############################################################################
###
### Running command:
###
### chmod a+r metaArray -R && C:\Users\biocbuild\bbs-3.12-bioc\R\bin\R.exe CMD build --keep-empty-dirs --no-resave-data metaArray
###
##############################################################################
##############################################################################
* checking for file 'metaArray/DESCRIPTION' ... OK
* preparing 'metaArray':
* checking DESCRIPTION meta-information ... OK
* cleaning src
* installing the package to build vignettes
-----------------------------------
ERROR: dependency 'MergeMaid' is not available for package 'metaArray'
* removing 'C:/Users/biocbuild/bbs-3.12-bioc/tmpdir/RtmpiErqkf/Rinste102b9c72fd/metaArray'
-----------------------------------
ERROR: package installation failed