| Back to Multiple platform build/check report for BioC 3.12 |
|
This page was generated on 2021-05-06 12:35:36 -0400 (Thu, 06 May 2021).
|
To the developers/maintainers of the mcaGUI package: Please make sure to use the following settings in order to reproduce any error or warning you see on this page. |
| Package 1021/1974 | Hostname | OS / Arch | INSTALL | BUILD | CHECK | BUILD BIN | ||||||||
Wade K. Copeland
| malbec1 | Linux (Ubuntu 18.04.5 LTS) / x86_64 | ERROR | OK | ERROR | |||||||||
| tokay1 | Windows Server 2012 R2 Standard / x64 | ERROR | OK | ERROR | ERROR | |||||||||
| merida1 | macOS 10.14.6 Mojave / x86_64 | ERROR | OK | ERROR | ERROR | |||||||||
| Package: mcaGUI |
| Version: 1.38.0 |
| Command: rm -rf mcaGUI.buildbin-libdir && mkdir mcaGUI.buildbin-libdir && /Users/biocbuild/BBS/utils/build-universal.sh mcaGUI_1.38.0.tar.gz /Library/Frameworks/R.framework/Versions/Current/Resources/bin/R mcaGUI.buildbin-libdir |
| StartedAt: 2021-05-06 09:09:06 -0400 (Thu, 06 May 2021) |
| EndedAt: 2021-05-06 09:10:03 -0400 (Thu, 06 May 2021) |
| EllapsedTime: 56.9 seconds |
| RetCode: 1 |
| Status: ERROR |
| PackageFile: None |
| PackageFileSize: NA |
############################################################################## ############################################################################## ### ### Running command: ### ### rm -rf mcaGUI.buildbin-libdir && mkdir mcaGUI.buildbin-libdir && /Users/biocbuild/BBS/utils/build-universal.sh mcaGUI_1.38.0.tar.gz /Library/Frameworks/R.framework/Versions/Current/Resources/bin/R mcaGUI.buildbin-libdir ### ############################################################################## ############################################################################## >>>>>>> >>>>>>> INSTALLATION WITH 'R CMD INSTALL --preclean --no-multiarch --library=mcaGUI.buildbin-libdir mcaGUI_1.38.0.tar.gz' >>>>>>> ERROR: dependencies ‘gWidgets’, ‘gWidgetsRGtk2’ are not available for package ‘mcaGUI’ * removing ‘/Users/biocbuild/bbs-3.12-bioc/meat/mcaGUI.buildbin-libdir/mcaGUI’