| Back to Multiple platform build/check report for BioC 3.12 |
|
This page was generated on 2021-05-06 12:32:01 -0400 (Thu, 06 May 2021).
|
To the developers/maintainers of the lpNet package: Please make sure to use the following settings in order to reproduce any error or warning you see on this page. |
| Package 975/1974 | Hostname | OS / Arch | INSTALL | BUILD | CHECK | BUILD BIN | ||||||||
| lpNet 2.22.0 (landing page) Lars Kaderali
| malbec1 | Linux (Ubuntu 18.04.5 LTS) / x86_64 | OK | OK | WARNINGS | |||||||||
| tokay1 | Windows Server 2012 R2 Standard / x64 | OK | OK | WARNINGS | OK | |||||||||
| merida1 | macOS 10.14.6 Mojave / x86_64 | OK | OK | WARNINGS | OK | |||||||||
| Package: lpNet |
| Version: 2.22.0 |
| Command: rm -rf lpNet.buildbin-libdir && mkdir lpNet.buildbin-libdir && C:\Users\biocbuild\bbs-3.12-bioc\R\bin\R.exe CMD INSTALL --merge-multiarch --build --library=lpNet.buildbin-libdir lpNet_2.22.0.tar.gz |
| StartedAt: 2021-05-06 09:24:56 -0400 (Thu, 06 May 2021) |
| EndedAt: 2021-05-06 09:25:38 -0400 (Thu, 06 May 2021) |
| EllapsedTime: 42.1 seconds |
| RetCode: 0 |
| Status: OK |
| PackageFile: lpNet_2.22.0.zip |
| PackageFileSize: 372.4 KiB |
##############################################################################
##############################################################################
###
### Running command:
###
### rm -rf lpNet.buildbin-libdir && mkdir lpNet.buildbin-libdir && C:\Users\biocbuild\bbs-3.12-bioc\R\bin\R.exe CMD INSTALL --merge-multiarch --build --library=lpNet.buildbin-libdir lpNet_2.22.0.tar.gz
###
##############################################################################
##############################################################################
install for i386
* installing *source* package 'lpNet' ...
** using staged installation
** R
** data
** inst
** byte-compile and prepare package for lazy loading
** help
*** installing help indices
converting help for package 'lpNet'
finding HTML links ... done
CV html
calcActivation html
calcPrediction html
calcRangeLambda html
doILP html
generateTimeSeriesNetStates html
getAdja html
getBaseline html
getEdgeAnnot html
getObsMat html
getSampleAdja html
lpNet-package html
summarizeRepl html
** building package indices
** installing vignettes
** testing if installed package can be loaded from temporary location
** testing if installed package can be loaded from final location
** testing if installed package keeps a record of temporary installation path
install for x64
* installing *source* package 'lpNet' ...
** testing if installed package can be loaded
* MD5 sums
packaged installation of 'lpNet' as lpNet_2.22.0.zip
* DONE (lpNet)