| Back to Multiple platform build/check report for BioC 3.12 |
|
This page was generated on 2021-05-06 12:31:59 -0400 (Thu, 06 May 2021).
|
To the developers/maintainers of the logitT package: Please make sure to use the following settings in order to reproduce any error or warning you see on this page. |
| Package 968/1974 | Hostname | OS / Arch | INSTALL | BUILD | CHECK | BUILD BIN | ||||||||
| logitT 1.48.0 (landing page) Tobias Guennel
| malbec1 | Linux (Ubuntu 18.04.5 LTS) / x86_64 | OK | OK | OK | |||||||||
| tokay1 | Windows Server 2012 R2 Standard / x64 | OK | OK | OK | OK | |||||||||
| merida1 | macOS 10.14.6 Mojave / x86_64 | OK | OK | OK | OK | |||||||||
| Package: logitT |
| Version: 1.48.0 |
| Command: rm -rf logitT.buildbin-libdir && mkdir logitT.buildbin-libdir && C:\Users\biocbuild\bbs-3.12-bioc\R\bin\R.exe CMD INSTALL --merge-multiarch --build --library=logitT.buildbin-libdir logitT_1.48.0.tar.gz |
| StartedAt: 2021-05-06 09:24:30 -0400 (Thu, 06 May 2021) |
| EndedAt: 2021-05-06 09:25:14 -0400 (Thu, 06 May 2021) |
| EllapsedTime: 43.9 seconds |
| RetCode: 0 |
| Status: OK |
| PackageFile: logitT_1.48.0.zip |
| PackageFileSize: 209.5 KiB |
##############################################################################
##############################################################################
###
### Running command:
###
### rm -rf logitT.buildbin-libdir && mkdir logitT.buildbin-libdir && C:\Users\biocbuild\bbs-3.12-bioc\R\bin\R.exe CMD INSTALL --merge-multiarch --build --library=logitT.buildbin-libdir logitT_1.48.0.tar.gz
###
##############################################################################
##############################################################################
install for i386
* installing *source* package 'logitT' ...
** using staged installation
** libs
"C:/rtools40/mingw32/bin/"gcc -I"C:/Users/BIOCBU~1/BBS-3~1.12-/R/include" -DNDEBUG -I"C:/extsoft/include" -O2 -Wall -std=gnu99 -mfpmath=sse -msse2 -mstackrealign -c logitTfunc.c -o logitTfunc.o
C:/rtools40/mingw32/bin/gcc -shared -s -static-libgcc -o logitT.dll tmp.def logitTfunc.o -LC:/extsoft/lib/i386 -LC:/extsoft/lib -LC:/Users/BIOCBU~1/BBS-3~1.12-/R/bin/i386 -lR
installing to C:/Users/biocbuild/bbs-3.12-bioc/meat/logitT.buildbin-libdir/00LOCK-logitT/00new/logitT/libs/i386
** R
** inst
** byte-compile and prepare package for lazy loading
** help
*** installing help indices
converting help for package 'logitT'
finding HTML links ... done
logitTAffy html
** building package indices
** installing vignettes
** testing if installed package can be loaded from temporary location
** testing if installed package can be loaded from final location
** testing if installed package keeps a record of temporary installation path
install for x64
* installing *source* package 'logitT' ...
** libs
"C:/rtools40/mingw64/bin/"gcc -I"C:/Users/BIOCBU~1/BBS-3~1.12-/R/include" -DNDEBUG -I"C:/extsoft/include" -O2 -Wall -std=gnu99 -mfpmath=sse -msse2 -mstackrealign -c logitTfunc.c -o logitTfunc.o
C:/rtools40/mingw64/bin/gcc -shared -s -static-libgcc -o logitT.dll tmp.def logitTfunc.o -LC:/extsoft/lib/x64 -LC:/extsoft/lib -LC:/Users/BIOCBU~1/BBS-3~1.12-/R/bin/x64 -lR
installing to C:/Users/biocbuild/bbs-3.12-bioc/meat/logitT.buildbin-libdir/logitT/libs/x64
** testing if installed package can be loaded
* MD5 sums
packaged installation of 'logitT' as logitT_1.48.0.zip
* DONE (logitT)