| Back to Multiple platform build/check report for BioC 3.12 | 
 | 
This page was generated on 2021-05-06 12:31:58 -0400 (Thu, 06 May 2021).
| To the developers/maintainers of the logicFS package: Please make sure to use the following settings in order to reproduce any error or warning you see on this page. | 
| Package 967/1974 | Hostname | OS / Arch | INSTALL | BUILD | CHECK | BUILD BIN | ||||||||
| logicFS 2.10.0  (landing page) Holger Schwender 
 | malbec1 | Linux (Ubuntu 18.04.5 LTS) / x86_64 | OK | OK | OK |  | ||||||||
| tokay1 | Windows Server 2012 R2 Standard / x64 | OK | OK | OK | OK |  | ||||||||
| merida1 | macOS 10.14.6 Mojave / x86_64 | OK | OK | OK | OK |  | ||||||||
| Package: logicFS | 
| Version: 2.10.0 | 
| Command: chmod a+r logicFS -R && C:\Users\biocbuild\bbs-3.12-bioc\R\bin\R.exe CMD build --keep-empty-dirs --no-resave-data logicFS | 
| StartedAt: 2021-05-05 21:48:03 -0400 (Wed, 05 May 2021) | 
| EndedAt: 2021-05-05 21:48:28 -0400 (Wed, 05 May 2021) | 
| EllapsedTime: 24.9 seconds | 
| RetCode: 0 | 
| Status: OK | 
| PackageFile: logicFS_2.10.0.tar.gz | 
| PackageFileSize: 194.3 KiB | 
##############################################################################
##############################################################################
###
### Running command:
###
###   chmod a+r logicFS -R && C:\Users\biocbuild\bbs-3.12-bioc\R\bin\R.exe CMD build --keep-empty-dirs --no-resave-data logicFS
###
##############################################################################
##############################################################################
* checking for file 'logicFS/DESCRIPTION' ... OK
* preparing 'logicFS':
* checking DESCRIPTION meta-information ... OK
* installing the package to build vignettes
* creating vignettes ... OK
Warning: 'inst/doc' file
    'logicFS.pdf'
  ignored as vignettes have been rebuilt.
  Run R CMD build with --no-build-vignettes to prevent rebuilding.
* checking for LF line-endings in source and make files and shell scripts
* checking for empty or unneeded directories
* looking to see if a 'data/datalist' file should be added
* building 'logicFS_2.10.0.tar.gz'