| Back to Multiple platform build/check report for BioC 3.12 |
|
This page was generated on 2021-05-06 12:31:57 -0400 (Thu, 06 May 2021).
|
To the developers/maintainers of the lipidr package: Please make sure to use the following settings in order to reproduce any error or warning you see on this page. |
| Package 962/1974 | Hostname | OS / Arch | INSTALL | BUILD | CHECK | BUILD BIN | ||||||||
| lipidr 2.4.0 (landing page) Ahmed Mohamed
| malbec1 | Linux (Ubuntu 18.04.5 LTS) / x86_64 | OK | OK | OK | |||||||||
| tokay1 | Windows Server 2012 R2 Standard / x64 | OK | OK | OK | OK | |||||||||
| merida1 | macOS 10.14.6 Mojave / x86_64 | OK | OK | OK | OK | |||||||||
| Package: lipidr |
| Version: 2.4.0 |
| Command: rm -rf lipidr.buildbin-libdir && mkdir lipidr.buildbin-libdir && C:\Users\biocbuild\bbs-3.12-bioc\R\bin\R.exe CMD INSTALL --merge-multiarch --build --library=lipidr.buildbin-libdir lipidr_2.4.0.tar.gz |
| StartedAt: 2021-05-06 09:24:08 -0400 (Thu, 06 May 2021) |
| EndedAt: 2021-05-06 09:24:56 -0400 (Thu, 06 May 2021) |
| EllapsedTime: 47.5 seconds |
| RetCode: 0 |
| Status: OK |
| PackageFile: lipidr_2.4.0.zip |
| PackageFileSize: 2.369 MiB |
##############################################################################
##############################################################################
###
### Running command:
###
### rm -rf lipidr.buildbin-libdir && mkdir lipidr.buildbin-libdir && C:\Users\biocbuild\bbs-3.12-bioc\R\bin\R.exe CMD INSTALL --merge-multiarch --build --library=lipidr.buildbin-libdir lipidr_2.4.0.tar.gz
###
##############################################################################
##############################################################################
install for i386
* installing *source* package 'lipidr' ...
** using staged installation
** R
** data
** inst
** byte-compile and prepare package for lazy loading
** help
*** installing help indices
converting help for package 'lipidr'
finding HTML links ... done
LipidomicsExperiment-class html
LipidomicsExperiment html
finding level-2 HTML links ... done
add_sample_annotation html
annotate_lipids html
as_lipidomics_experiment html
data_normalized html
de_analysis html
filter_by_cv html
gen_lipidsets html
impute_na html
lipidDefaults html
lipidnames_pattern html
lipidr-data html
lipidr-package html
lsea html
mva html
mw html
non_parsed_molecules html
normalize_istd html
normalize_pqn html
pipe html
plot_chain_distribution html
plot_heatmap html
plot_lipidclass html
plot_molecules html
plot_samples html
plot_trend html
read_skyline html
remove_non_parsed_molecules html
set_attr html
summarize_transitions html
update_molecule_names html
use_interactive_graphics html
*** copying figures
** building package indices
** installing vignettes
** testing if installed package can be loaded from temporary location
** testing if installed package can be loaded from final location
** testing if installed package keeps a record of temporary installation path
install for x64
* installing *source* package 'lipidr' ...
** testing if installed package can be loaded
* MD5 sums
packaged installation of 'lipidr' as lipidr_2.4.0.zip
* DONE (lipidr)