| Back to Multiple platform build/check report for BioC 3.12 |
|
This page was generated on 2021-05-06 12:31:54 -0400 (Thu, 06 May 2021).
|
To the developers/maintainers of the iterativeBMAsurv package: Please make sure to use the following settings in order to reproduce any error or warning you see on this page. |
| Package 926/1974 | Hostname | OS / Arch | INSTALL | BUILD | CHECK | BUILD BIN | ||||||||
| iterativeBMAsurv 1.48.0 (landing page) Ka Yee Yeung
| malbec1 | Linux (Ubuntu 18.04.5 LTS) / x86_64 | OK | OK | OK | |||||||||
| tokay1 | Windows Server 2012 R2 Standard / x64 | OK | OK | OK | OK | |||||||||
| merida1 | macOS 10.14.6 Mojave / x86_64 | OK | OK | OK | OK | |||||||||
| Package: iterativeBMAsurv |
| Version: 1.48.0 |
| Command: C:\Users\biocbuild\bbs-3.12-bioc\R\bin\R.exe CMD check --force-multiarch --install=check:iterativeBMAsurv.install-out.txt --library=C:\Users\biocbuild\bbs-3.12-bioc\R\library --no-vignettes --timings iterativeBMAsurv_1.48.0.tar.gz |
| StartedAt: 2021-05-06 04:00:11 -0400 (Thu, 06 May 2021) |
| EndedAt: 2021-05-06 04:03:27 -0400 (Thu, 06 May 2021) |
| EllapsedTime: 196.0 seconds |
| RetCode: 0 |
| Status: OK |
| CheckDir: iterativeBMAsurv.Rcheck |
| Warnings: 0 |
##############################################################################
##############################################################################
###
### Running command:
###
### C:\Users\biocbuild\bbs-3.12-bioc\R\bin\R.exe CMD check --force-multiarch --install=check:iterativeBMAsurv.install-out.txt --library=C:\Users\biocbuild\bbs-3.12-bioc\R\library --no-vignettes --timings iterativeBMAsurv_1.48.0.tar.gz
###
##############################################################################
##############################################################################
* using log directory 'C:/Users/biocbuild/bbs-3.12-bioc/meat/iterativeBMAsurv.Rcheck'
* using R version 4.0.5 (2021-03-31)
* using platform: x86_64-w64-mingw32 (64-bit)
* using session charset: ISO8859-1
* using option '--no-vignettes'
* checking for file 'iterativeBMAsurv/DESCRIPTION' ... OK
* checking extension type ... Package
* this is package 'iterativeBMAsurv' version '1.48.0'
* checking package namespace information ... OK
* checking package dependencies ... OK
* checking if this is a source package ... OK
* checking if there is a namespace ... OK
* checking for hidden files and directories ... OK
* checking for portable file names ... OK
* checking whether package 'iterativeBMAsurv' can be installed ... OK
* checking installed package size ... OK
* checking package directory ... OK
* checking 'build' directory ... OK
* checking DESCRIPTION meta-information ... NOTE
Package listed in more than one of Depends, Imports, Suggests, Enhances:
'survival'
A package should be listed in only one of these fields.
* checking top-level files ... OK
* checking for left-over files ... OK
* checking index information ... OK
* checking package subdirectories ... OK
* checking R files for non-ASCII characters ... OK
* checking R files for syntax errors ... OK
* loading checks for arch 'i386'
** checking whether the package can be loaded ... OK
** checking whether the package can be loaded with stated dependencies ... OK
** checking whether the package can be unloaded cleanly ... OK
** checking whether the namespace can be loaded with stated dependencies ... OK
** checking whether the namespace can be unloaded cleanly ... OK
* loading checks for arch 'x64'
** checking whether the package can be loaded ... OK
** checking whether the package can be loaded with stated dependencies ... OK
** checking whether the package can be unloaded cleanly ... OK
** checking whether the namespace can be loaded with stated dependencies ... OK
** checking whether the namespace can be unloaded cleanly ... OK
* checking dependencies in R code ... NOTE
Packages in Depends field not imported from:
'BMA' 'leaps' 'splines'
These packages need to be imported from (in the NAMESPACE file)
for when this namespace is loaded but not attached.
* checking S3 generic/method consistency ... OK
* checking replacement functions ... OK
* checking foreign function calls ... OK
* checking R code for possible problems ... NOTE
iterateBMAsurv.train: no visible global function definition for
'bic.surv'
iterateBMAsurv.train.wrapper: no visible global function definition for
'bic.surv'
Undefined global functions or variables:
bic.surv
* checking Rd files ... NOTE
prepare_Rd: predictBicSurv.Rd:46: Dropping empty section \note
prepare_Rd: predictiveAssessCategory.Rd:52: Dropping empty section \note
prepare_Rd: printTopGenes.Rd:49: Dropping empty section \note
prepare_Rd: singleGeneCoxph.Rd:54: Dropping empty section \note
prepare_Rd: testCens.Rd:13-14: Dropping empty section \details
prepare_Rd: testSurv.Rd:13-14: Dropping empty section \details
prepare_Rd: trainCens.Rd:13-14: Dropping empty section \details
prepare_Rd: trainSurv.Rd:13-14: Dropping empty section \details
* checking Rd metadata ... OK
* checking Rd cross-references ... OK
* checking for missing documentation entries ... OK
* checking for code/documentation mismatches ... OK
* checking Rd \usage sections ... OK
* checking Rd contents ... OK
* checking for unstated dependencies in examples ... OK
* checking contents of 'data' directory ... OK
* checking data for non-ASCII characters ... OK
* checking data for ASCII and uncompressed saves ... OK
* checking files in 'vignettes' ... OK
* checking examples ...
** running examples for arch 'i386' ... OK
Examples with CPU (user + system) or elapsed time > 5s
user system elapsed
imageplot.iterate.bma.surv 19.55 0.00 19.58
predictiveAssessCategory 9.84 0.09 9.94
iterateBMAsurv.train.wrapper 8.42 0.00 8.42
iterateBMAsurv.train 7.97 0.03 8.00
predictBicSurv 7.84 0.02 7.86
** running examples for arch 'x64' ... OK
Examples with CPU (user + system) or elapsed time > 5s
user system elapsed
imageplot.iterate.bma.surv 15.46 0.01 15.49
predictiveAssessCategory 10.06 0.05 10.42
iterateBMAsurv.train 9.25 0.00 9.25
predictBicSurv 7.92 0.01 7.93
iterateBMAsurv.train.wrapper 7.20 0.01 7.21
* checking for unstated dependencies in vignettes ... OK
* checking package vignettes in 'inst/doc' ... OK
* checking running R code from vignettes ... SKIPPED
* checking re-building of vignette outputs ... SKIPPED
* checking PDF version of manual ... OK
* DONE
Status: 4 NOTEs
See
'C:/Users/biocbuild/bbs-3.12-bioc/meat/iterativeBMAsurv.Rcheck/00check.log'
for details.
iterativeBMAsurv.Rcheck/00install.out
##############################################################################
##############################################################################
###
### Running command:
###
### C:\cygwin\bin\curl.exe -O http://172.29.0.3/BBS/3.12/bioc/src/contrib/iterativeBMAsurv_1.48.0.tar.gz && rm -rf iterativeBMAsurv.buildbin-libdir && mkdir iterativeBMAsurv.buildbin-libdir && C:\Users\biocbuild\bbs-3.12-bioc\R\bin\R.exe CMD INSTALL --merge-multiarch --build --library=iterativeBMAsurv.buildbin-libdir iterativeBMAsurv_1.48.0.tar.gz && C:\Users\biocbuild\bbs-3.12-bioc\R\bin\R.exe CMD INSTALL iterativeBMAsurv_1.48.0.zip && rm iterativeBMAsurv_1.48.0.tar.gz iterativeBMAsurv_1.48.0.zip
###
##############################################################################
##############################################################################
% Total % Received % Xferd Average Speed Time Time Time Current
Dload Upload Total Spent Left Speed
0 0 0 0 0 0 0 0 --:--:-- --:--:-- --:--:-- 0
100 58548 100 58548 0 0 1923k 0 --:--:-- --:--:-- --:--:-- 1971k
install for i386
* installing *source* package 'iterativeBMAsurv' ...
** using staged installation
** R
** data
** byte-compile and prepare package for lazy loading
** help
*** installing help indices
converting help for package 'iterativeBMAsurv'
finding HTML links ... done
crossVal html
imageplot.iterate.bma.surv html
iterateBMAsurv.train html
iterateBMAsurv.train.predict.assess html
iterateBMAsurv.train.wrapper html
iterativeBMAsurv-internal html
iterativeBMAsurv-package html
predictBicSurv html
predictiveAssessCategory html
printTopGenes html
singleGeneCoxph html
testCens html
testData html
testSurv html
trainCens html
trainData html
trainSurv html
** building package indices
** installing vignettes
** testing if installed package can be loaded from temporary location
** testing if installed package can be loaded from final location
** testing if installed package keeps a record of temporary installation path
install for x64
* installing *source* package 'iterativeBMAsurv' ...
** testing if installed package can be loaded
* MD5 sums
packaged installation of 'iterativeBMAsurv' as iterativeBMAsurv_1.48.0.zip
* DONE (iterativeBMAsurv)
* installing to library 'C:/Users/biocbuild/bbs-3.12-bioc/R/library'
package 'iterativeBMAsurv' successfully unpacked and MD5 sums checked
|
iterativeBMAsurv.Rcheck/examples_i386/iterativeBMAsurv-Ex.timings
|
iterativeBMAsurv.Rcheck/examples_x64/iterativeBMAsurv-Ex.timings
|