| Back to Multiple platform build/check report for BioC 3.12 |
|
This page was generated on 2021-05-06 12:31:52 -0400 (Thu, 06 May 2021).
|
To the developers/maintainers of the ipdDb package: Please make sure to use the following settings in order to reproduce any error or warning you see on this page. |
| Package 910/1974 | Hostname | OS / Arch | INSTALL | BUILD | CHECK | BUILD BIN | ||||||||
| ipdDb 1.8.0 (landing page) Steffen Klasberg
| malbec1 | Linux (Ubuntu 18.04.5 LTS) / x86_64 | OK | OK | OK | |||||||||
| tokay1 | Windows Server 2012 R2 Standard / x64 | OK | OK | OK | OK | |||||||||
| merida1 | macOS 10.14.6 Mojave / x86_64 | OK | OK | OK | OK | |||||||||
| Package: ipdDb |
| Version: 1.8.0 |
| Command: rm -rf ipdDb.buildbin-libdir && mkdir ipdDb.buildbin-libdir && C:\Users\biocbuild\bbs-3.12-bioc\R\bin\R.exe CMD INSTALL --merge-multiarch --build --library=ipdDb.buildbin-libdir ipdDb_1.8.0.tar.gz |
| StartedAt: 2021-05-06 09:21:04 -0400 (Thu, 06 May 2021) |
| EndedAt: 2021-05-06 09:21:37 -0400 (Thu, 06 May 2021) |
| EllapsedTime: 32.1 seconds |
| RetCode: 0 |
| Status: OK |
| PackageFile: ipdDb_1.8.0.zip |
| PackageFileSize: 276.9 KiB |
##############################################################################
##############################################################################
###
### Running command:
###
### rm -rf ipdDb.buildbin-libdir && mkdir ipdDb.buildbin-libdir && C:\Users\biocbuild\bbs-3.12-bioc\R\bin\R.exe CMD INSTALL --merge-multiarch --build --library=ipdDb.buildbin-libdir ipdDb_1.8.0.tar.gz
###
##############################################################################
##############################################################################
install for i386
* installing *source* package 'ipdDb' ...
** using staged installation
** R
** inst
** byte-compile and prepare package for lazy loading
** help
*** installing help indices
converting help for package 'ipdDb'
finding HTML links ... done
IpdDb html
getAlleles-IpdDb-method html
getClosestComplete-IpdDb-method html
getLoci-IpdDb-method html
getReference-IpdDb-method html
getStructure-IpdDb-method html
ipdDbPackage html
loadHlaData html
loadKirData html
** building package indices
** installing vignettes
** testing if installed package can be loaded from temporary location
** testing if installed package can be loaded from final location
** testing if installed package keeps a record of temporary installation path
install for x64
* installing *source* package 'ipdDb' ...
** testing if installed package can be loaded
* MD5 sums
packaged installation of 'ipdDb' as ipdDb_1.8.0.zip
* DONE (ipdDb)