| Back to Multiple platform build/check report for BioC 3.12 |
|
This page was generated on 2021-05-06 12:31:51 -0400 (Thu, 06 May 2021).
|
To the developers/maintainers of the interactiveDisplay package: Please make sure to use the following settings in order to reproduce any error or warning you see on this page. |
| Package 902/1974 | Hostname | OS / Arch | INSTALL | BUILD | CHECK | BUILD BIN | ||||||||
| interactiveDisplay 1.28.0 (landing page) Shawn Balcome
| malbec1 | Linux (Ubuntu 18.04.5 LTS) / x86_64 | OK | OK | WARNINGS | |||||||||
| tokay1 | Windows Server 2012 R2 Standard / x64 | OK | OK | WARNINGS | OK | |||||||||
| merida1 | macOS 10.14.6 Mojave / x86_64 | OK | OK | WARNINGS | OK | |||||||||
| Package: interactiveDisplay |
| Version: 1.28.0 |
| Command: C:\cygwin\bin\curl.exe -O http://172.29.0.3/BBS/3.12/bioc/src/contrib/interactiveDisplay_1.28.0.tar.gz && rm -rf interactiveDisplay.buildbin-libdir && mkdir interactiveDisplay.buildbin-libdir && C:\Users\biocbuild\bbs-3.12-bioc\R\bin\R.exe CMD INSTALL --merge-multiarch --build --library=interactiveDisplay.buildbin-libdir interactiveDisplay_1.28.0.tar.gz && C:\Users\biocbuild\bbs-3.12-bioc\R\bin\R.exe CMD INSTALL interactiveDisplay_1.28.0.zip && rm interactiveDisplay_1.28.0.tar.gz interactiveDisplay_1.28.0.zip |
| StartedAt: 2021-05-05 18:10:03 -0400 (Wed, 05 May 2021) |
| EndedAt: 2021-05-05 18:11:10 -0400 (Wed, 05 May 2021) |
| EllapsedTime: 67.5 seconds |
| RetCode: 0 |
| Status: OK |
##############################################################################
##############################################################################
###
### Running command:
###
### C:\cygwin\bin\curl.exe -O http://172.29.0.3/BBS/3.12/bioc/src/contrib/interactiveDisplay_1.28.0.tar.gz && rm -rf interactiveDisplay.buildbin-libdir && mkdir interactiveDisplay.buildbin-libdir && C:\Users\biocbuild\bbs-3.12-bioc\R\bin\R.exe CMD INSTALL --merge-multiarch --build --library=interactiveDisplay.buildbin-libdir interactiveDisplay_1.28.0.tar.gz && C:\Users\biocbuild\bbs-3.12-bioc\R\bin\R.exe CMD INSTALL interactiveDisplay_1.28.0.zip && rm interactiveDisplay_1.28.0.tar.gz interactiveDisplay_1.28.0.zip
###
##############################################################################
##############################################################################
% Total % Received % Xferd Average Speed Time Time Time Current
Dload Upload Total Spent Left Speed
0 0 0 0 0 0 0 0 --:--:-- --:--:-- --:--:-- 0
100 3189k 100 3189k 0 0 23.4M 0 --:--:-- --:--:-- --:--:-- 23.5M
install for i386
* installing *source* package 'interactiveDisplay' ...
** using staged installation
** R
** data
** inst
** byte-compile and prepare package for lazy loading
in method for 'display' with signature 'object="GRanges"': no definition for class "GRanges"
in method for 'display' with signature 'object="GRangesList"': no definition for class "GRangesList"
in method for 'display' with signature 'object="RangedSummarizedExperiment"': no definition for class "RangedSummarizedExperiment"
in method for 'display' with signature 'object="MRexperiment"': no definition for class "MRexperiment"
** help
*** installing help indices
converting help for package 'interactiveDisplay'
finding HTML links ... done
altgr html
bicgo html
expr html
gridsvgjs html
gridtweak html
interactiveDisplay-methods html
mmgr html
mmgrl html
se html
simplenet html
** building package indices
** installing vignettes
** testing if installed package can be loaded from temporary location
** testing if installed package can be loaded from final location
** testing if installed package keeps a record of temporary installation path
install for x64
* installing *source* package 'interactiveDisplay' ...
** testing if installed package can be loaded
* MD5 sums
packaged installation of 'interactiveDisplay' as interactiveDisplay_1.28.0.zip
* DONE (interactiveDisplay)
* installing to library 'C:/Users/biocbuild/bbs-3.12-bioc/R/library'
package 'interactiveDisplay' successfully unpacked and MD5 sums checked