| Back to Multiple platform build/check report for BioC 3.12 |
|
This page was generated on 2021-05-06 12:31:50 -0400 (Thu, 06 May 2021).
|
To the developers/maintainers of the infinityFlow package: Please make sure to use the following settings in order to reproduce any error or warning you see on this page. |
| Package 894/1974 | Hostname | OS / Arch | INSTALL | BUILD | CHECK | BUILD BIN | ||||||||
| infinityFlow 1.0.0 (landing page) Etienne Becht
| malbec1 | Linux (Ubuntu 18.04.5 LTS) / x86_64 | OK | OK | OK | |||||||||
| tokay1 | Windows Server 2012 R2 Standard / x64 | OK | OK | OK | OK | |||||||||
| merida1 | macOS 10.14.6 Mojave / x86_64 | OK | OK | OK | OK | |||||||||
| Package: infinityFlow |
| Version: 1.0.0 |
| Command: C:\cygwin\bin\curl.exe -O http://172.29.0.3/BBS/3.12/bioc/src/contrib/infinityFlow_1.0.0.tar.gz && rm -rf infinityFlow.buildbin-libdir && mkdir infinityFlow.buildbin-libdir && C:\Users\biocbuild\bbs-3.12-bioc\R\bin\R.exe CMD INSTALL --merge-multiarch --build --library=infinityFlow.buildbin-libdir infinityFlow_1.0.0.tar.gz && C:\Users\biocbuild\bbs-3.12-bioc\R\bin\R.exe CMD INSTALL infinityFlow_1.0.0.zip && rm infinityFlow_1.0.0.tar.gz infinityFlow_1.0.0.zip |
| StartedAt: 2021-05-05 17:30:48 -0400 (Wed, 05 May 2021) |
| EndedAt: 2021-05-05 17:31:51 -0400 (Wed, 05 May 2021) |
| EllapsedTime: 63.3 seconds |
| RetCode: 0 |
| Status: OK |
##############################################################################
##############################################################################
###
### Running command:
###
### C:\cygwin\bin\curl.exe -O http://172.29.0.3/BBS/3.12/bioc/src/contrib/infinityFlow_1.0.0.tar.gz && rm -rf infinityFlow.buildbin-libdir && mkdir infinityFlow.buildbin-libdir && C:\Users\biocbuild\bbs-3.12-bioc\R\bin\R.exe CMD INSTALL --merge-multiarch --build --library=infinityFlow.buildbin-libdir infinityFlow_1.0.0.tar.gz && C:\Users\biocbuild\bbs-3.12-bioc\R\bin\R.exe CMD INSTALL infinityFlow_1.0.0.zip && rm infinityFlow_1.0.0.tar.gz infinityFlow_1.0.0.zip
###
##############################################################################
##############################################################################
% Total % Received % Xferd Average Speed Time Time Time Current
Dload Upload Total Spent Left Speed
0 0 0 0 0 0 0 0 --:--:-- --:--:-- --:--:-- 0
100 1719k 100 1719k 0 0 34.5M 0 --:--:-- --:--:-- --:--:-- 35.7M
install for i386
* installing *source* package 'infinityFlow' ...
** using staged installation
** R
** data
** inst
** byte-compile and prepare package for lazy loading
** help
*** installing help indices
converting help for package 'infinityFlow'
finding HTML links ... done
fitter_glmnet html
fitter_linear html
fitter_nn html
fitter_svm html
fitter_xgboost html
infinity_flow html
select_backbone_and_exploratory_markers
html
steady_state_lung html
steady_state_lung_annotation html
steady_state_lung_backbone_specification
html
** building package indices
** installing vignettes
** testing if installed package can be loaded from temporary location
** testing if installed package can be loaded from final location
** testing if installed package keeps a record of temporary installation path
install for x64
* installing *source* package 'infinityFlow' ...
** testing if installed package can be loaded
* MD5 sums
packaged installation of 'infinityFlow' as infinityFlow_1.0.0.zip
* DONE (infinityFlow)
* installing to library 'C:/Users/biocbuild/bbs-3.12-bioc/R/library'
package 'infinityFlow' successfully unpacked and MD5 sums checked