| Back to Multiple platform build/check report for BioC 3.12 |
|
This page was generated on 2021-05-06 12:31:48 -0400 (Thu, 06 May 2021).
|
To the developers/maintainers of the idiogram package: Please make sure to use the following settings in order to reproduce any error or warning you see on this page. |
| Package 873/1974 | Hostname | OS / Arch | INSTALL | BUILD | CHECK | BUILD BIN | ||||||||
| idiogram 1.66.0 (landing page) Karl J. Dykema
| malbec1 | Linux (Ubuntu 18.04.5 LTS) / x86_64 | OK | OK | OK | |||||||||
| tokay1 | Windows Server 2012 R2 Standard / x64 | OK | OK | OK | OK | |||||||||
| merida1 | macOS 10.14.6 Mojave / x86_64 | OK | OK | OK | OK | |||||||||
| Package: idiogram |
| Version: 1.66.0 |
| Command: C:\cygwin\bin\curl.exe -O http://172.29.0.3/BBS/3.12/bioc/src/contrib/idiogram_1.66.0.tar.gz && rm -rf idiogram.buildbin-libdir && mkdir idiogram.buildbin-libdir && C:\Users\biocbuild\bbs-3.12-bioc\R\bin\R.exe CMD INSTALL --merge-multiarch --build --library=idiogram.buildbin-libdir idiogram_1.66.0.tar.gz && C:\Users\biocbuild\bbs-3.12-bioc\R\bin\R.exe CMD INSTALL idiogram_1.66.0.zip && rm idiogram_1.66.0.tar.gz idiogram_1.66.0.zip |
| StartedAt: 2021-05-05 17:55:32 -0400 (Wed, 05 May 2021) |
| EndedAt: 2021-05-05 17:56:22 -0400 (Wed, 05 May 2021) |
| EllapsedTime: 50.8 seconds |
| RetCode: 0 |
| Status: OK |
##############################################################################
##############################################################################
###
### Running command:
###
### C:\cygwin\bin\curl.exe -O http://172.29.0.3/BBS/3.12/bioc/src/contrib/idiogram_1.66.0.tar.gz && rm -rf idiogram.buildbin-libdir && mkdir idiogram.buildbin-libdir && C:\Users\biocbuild\bbs-3.12-bioc\R\bin\R.exe CMD INSTALL --merge-multiarch --build --library=idiogram.buildbin-libdir idiogram_1.66.0.tar.gz && C:\Users\biocbuild\bbs-3.12-bioc\R\bin\R.exe CMD INSTALL idiogram_1.66.0.zip && rm idiogram_1.66.0.tar.gz idiogram_1.66.0.zip
###
##############################################################################
##############################################################################
% Total % Received % Xferd Average Speed Time Time Time Current
Dload Upload Total Spent Left Speed
0 0 0 0 0 0 0 0 --:--:-- --:--:-- --:--:-- 0
15 1671k 15 256k 0 0 11.3M 0 --:--:-- --:--:-- --:--:-- 11.3M
100 1671k 100 1671k 0 0 28.5M 0 --:--:-- --:--:-- --:--:-- 28.6M
install for i386
* installing *source* package 'idiogram' ...
** using staged installation
** R
** data
*** moving datasets to lazyload DB
** byte-compile and prepare package for lazy loading
** help
*** installing help indices
converting help for package 'idiogram'
finding HTML links ... done
Hs.cytoband html
buildChromLocation.2 html
cytoband html
idiograb html
idiogram html
idiogramExample html
** building package indices
** installing vignettes
** testing if installed package can be loaded from temporary location
** testing if installed package can be loaded from final location
** testing if installed package keeps a record of temporary installation path
install for x64
* installing *source* package 'idiogram' ...
** testing if installed package can be loaded
* MD5 sums
packaged installation of 'idiogram' as idiogram_1.66.0.zip
* DONE (idiogram)
* installing to library 'C:/Users/biocbuild/bbs-3.12-bioc/R/library'
package 'idiogram' successfully unpacked and MD5 sums checked