| Back to Multiple platform build/check report for BioC 3.12 | 
  | 
This page was generated on 2021-05-06 12:31:48 -0400 (Thu, 06 May 2021).
| 
To the developers/maintainers of the ideal package: Please make sure to use the following settings in order to reproduce any error or warning you see on this page.  | 
| Package 871/1974 | Hostname | OS / Arch | INSTALL | BUILD | CHECK | BUILD BIN | ||||||||
| ideal 1.14.0  (landing page) Federico Marini 
  | malbec1 | Linux (Ubuntu 18.04.5 LTS) / x86_64 | OK | OK | OK | |||||||||
| tokay1 | Windows Server 2012 R2 Standard / x64 | OK | OK | OK | OK | |||||||||
| merida1 | macOS 10.14.6 Mojave / x86_64 | OK | OK | OK | OK | |||||||||
| Package: ideal | 
| Version: 1.14.0 | 
| Command: C:\cygwin\bin\curl.exe -O http://172.29.0.3/BBS/3.12/bioc/src/contrib/ideal_1.14.0.tar.gz && rm -rf ideal.buildbin-libdir && mkdir ideal.buildbin-libdir && C:\Users\biocbuild\bbs-3.12-bioc\R\bin\R.exe CMD INSTALL --merge-multiarch --build --library=ideal.buildbin-libdir ideal_1.14.0.tar.gz && C:\Users\biocbuild\bbs-3.12-bioc\R\bin\R.exe CMD INSTALL ideal_1.14.0.zip && rm ideal_1.14.0.tar.gz ideal_1.14.0.zip | 
| StartedAt: 2021-05-05 19:20:29 -0400 (Wed, 05 May 2021) | 
| EndedAt: 2021-05-05 19:21:49 -0400 (Wed, 05 May 2021) | 
| EllapsedTime: 80.0 seconds | 
| RetCode: 0 | 
| Status: OK | 
##############################################################################
##############################################################################
###
### Running command:
###
###   C:\cygwin\bin\curl.exe -O http://172.29.0.3/BBS/3.12/bioc/src/contrib/ideal_1.14.0.tar.gz && rm -rf ideal.buildbin-libdir && mkdir ideal.buildbin-libdir && C:\Users\biocbuild\bbs-3.12-bioc\R\bin\R.exe CMD INSTALL --merge-multiarch --build --library=ideal.buildbin-libdir ideal_1.14.0.tar.gz && C:\Users\biocbuild\bbs-3.12-bioc\R\bin\R.exe CMD INSTALL ideal_1.14.0.zip && rm ideal_1.14.0.tar.gz ideal_1.14.0.zip
###
##############################################################################
##############################################################################
  % Total    % Received % Xferd  Average Speed   Time    Time     Time  Current
                                 Dload  Upload   Total   Spent    Left  Speed
  0     0    0     0    0     0      0      0 --:--:-- --:--:-- --:--:--     0
100 3978k  100 3978k    0     0  28.6M      0 --:--:-- --:--:-- --:--:-- 28.9M
install for i386
* installing *source* package 'ideal' ...
** using staged installation
** R
** inst
** byte-compile and prepare package for lazy loading
groupGOTerms: 	GOBPTerm, GOMFTerm, GOCCTerm environments built.
** help
*** installing help indices
  converting help for package 'ideal'
    finding HTML links ... done
    deseqresult2DEgenes                     html  
    finding level-2 HTML links ... done
    deseqresult2tbl                         html  
    ggplotCounts                            html  
    goseqTable                              html  
    ideal-pkg                               html  
    ideal                                   html  
    plot_ma                                 html  
    plot_volcano                            html  
    read_gmt                                html  
    sepguesser                              html  
    sig_heatmap                             html  
    wrapup_for_iSEE                         html  
** building package indices
** installing vignettes
** testing if installed package can be loaded from temporary location
groupGOTerms: 	GOBPTerm, GOMFTerm, GOCCTerm environments built.
** testing if installed package can be loaded from final location
groupGOTerms: 	GOBPTerm, GOMFTerm, GOCCTerm environments built.
** testing if installed package keeps a record of temporary installation path
install for x64
* installing *source* package 'ideal' ...
** testing if installed package can be loaded
groupGOTerms: 	GOBPTerm, GOMFTerm, GOCCTerm environments built.
* MD5 sums
packaged installation of 'ideal' as ideal_1.14.0.zip
* DONE (ideal)
* installing to library 'C:/Users/biocbuild/bbs-3.12-bioc/R/library'
package 'ideal' successfully unpacked and MD5 sums checked