| Back to Multiple platform build/check report for BioC 3.12 |
|
This page was generated on 2021-05-06 12:31:52 -0400 (Thu, 06 May 2021).
|
To the developers/maintainers of the iSEEu package: Please make sure to use the following settings in order to reproduce any error or warning you see on this page. |
| Package 915/1974 | Hostname | OS / Arch | INSTALL | BUILD | CHECK | BUILD BIN | ||||||||
| iSEEu 1.2.0 (landing page) Kevin Rue-Albrecht
| malbec1 | Linux (Ubuntu 18.04.5 LTS) / x86_64 | OK | OK | WARNINGS | |||||||||
| tokay1 | Windows Server 2012 R2 Standard / x64 | OK | OK | WARNINGS | OK | |||||||||
| merida1 | macOS 10.14.6 Mojave / x86_64 | OK | OK | WARNINGS | OK | |||||||||
| Package: iSEEu |
| Version: 1.2.0 |
| Command: rm -rf iSEEu.buildbin-libdir && mkdir iSEEu.buildbin-libdir && C:\Users\biocbuild\bbs-3.12-bioc\R\bin\R.exe CMD INSTALL --merge-multiarch --build --library=iSEEu.buildbin-libdir iSEEu_1.2.0.tar.gz |
| StartedAt: 2021-05-06 09:21:22 -0400 (Thu, 06 May 2021) |
| EndedAt: 2021-05-06 09:22:23 -0400 (Thu, 06 May 2021) |
| EllapsedTime: 60.8 seconds |
| RetCode: 0 |
| Status: OK |
| PackageFile: iSEEu_1.2.0.zip |
| PackageFileSize: 1.262 MiB |
##############################################################################
##############################################################################
###
### Running command:
###
### rm -rf iSEEu.buildbin-libdir && mkdir iSEEu.buildbin-libdir && C:\Users\biocbuild\bbs-3.12-bioc\R\bin\R.exe CMD INSTALL --merge-multiarch --build --library=iSEEu.buildbin-libdir iSEEu_1.2.0.tar.gz
###
##############################################################################
##############################################################################
install for i386
* installing *source* package 'iSEEu' ...
** using staged installation
** R
** inst
** byte-compile and prepare package for lazy loading
** help
*** installing help indices
converting help for package 'iSEEu'
finding HTML links ... done
AggregatedDotPlot html
finding level-2 HTML links ... done
DynamicMarkerTable-class html
DynamicReducedDimensionPlot-class html
FeatureSetTable-class html
GeneSetTable-class html
LogFCLogFCPlot-class html
MAPlot-class html
ReducedDimensionHexPlot-class html
VolcanoPlot-class html
createGeneSetCommands html
global-FeatureSetCommands html
global-TableExtraFields html
globals-PValuePattern html
iSEEu-pkg html
modeEmpty html
modeGating html
modeReducedDim html
utils-de html
utils-geneset html
** building package indices
** installing vignettes
** testing if installed package can be loaded from temporary location
** testing if installed package can be loaded from final location
** testing if installed package keeps a record of temporary installation path
install for x64
* installing *source* package 'iSEEu' ...
** testing if installed package can be loaded
* MD5 sums
packaged installation of 'iSEEu' as iSEEu_1.2.0.zip
* DONE (iSEEu)