| Back to Multiple platform build/check report for BioC 3.12 |
|
This page was generated on 2021-05-06 12:31:52 -0400 (Thu, 06 May 2021).
|
To the developers/maintainers of the iSEE package: Please make sure to use the following settings in order to reproduce any error or warning you see on this page. |
| Package 914/1974 | Hostname | OS / Arch | INSTALL | BUILD | CHECK | BUILD BIN | ||||||||
| iSEE 2.2.4 (landing page) Kevin Rue-Albrecht
| malbec1 | Linux (Ubuntu 18.04.5 LTS) / x86_64 | OK | OK | OK | |||||||||
| tokay1 | Windows Server 2012 R2 Standard / x64 | OK | OK | OK | OK | |||||||||
| merida1 | macOS 10.14.6 Mojave / x86_64 | OK | OK | OK | OK | |||||||||
| Package: iSEE |
| Version: 2.2.4 |
| Command: rm -rf iSEE.buildbin-libdir && mkdir iSEE.buildbin-libdir && C:\Users\biocbuild\bbs-3.12-bioc\R\bin\R.exe CMD INSTALL --merge-multiarch --build --library=iSEE.buildbin-libdir iSEE_2.2.4.tar.gz |
| StartedAt: 2021-05-06 09:21:18 -0400 (Thu, 06 May 2021) |
| EndedAt: 2021-05-06 09:22:19 -0400 (Thu, 06 May 2021) |
| EllapsedTime: 60.6 seconds |
| RetCode: 0 |
| Status: OK |
| PackageFile: iSEE_2.2.4.zip |
| PackageFileSize: 18.65 MiB |
##############################################################################
##############################################################################
###
### Running command:
###
### rm -rf iSEE.buildbin-libdir && mkdir iSEE.buildbin-libdir && C:\Users\biocbuild\bbs-3.12-bioc\R\bin\R.exe CMD INSTALL --merge-multiarch --build --library=iSEE.buildbin-libdir iSEE_2.2.4.tar.gz
###
##############################################################################
##############################################################################
install for i386
* installing *source* package 'iSEE' ...
** using staged installation
** R
** inst
** byte-compile and prepare package for lazy loading
** help
*** installing help indices
converting help for package 'iSEE'
finding HTML links ... done
ColumnDataPlot-class html
finding level-2 HTML links ... done
ColumnDataTable-class html
ColumnDotPlot-class html
ColumnTable-class html
ComplexHeatmapPlot-class html
DotPlot-class html
ExperimentColorMap-class html
FeatureAssayPlot-class html
Panel-class html
ReducedDimensionPlot-class html
RowDataPlot-class html
RowDataTable-class html
RowDotPlot-class html
RowTable-class html
SampleAssayPlot-class html
Table-class html
addCustomLabelsCommands html
addLabelCentersCommands html
addMultiSelectionCommands html
addTourStep html
aes-utils html
cache-utils html
checkColormapCompatibility html
class-utils html
collapseBox html
conditional-utils html
createCustomDimnamesModalObservers html
createCustomPanels html
createLandingPage html
createMultiSelectionEffectObserver html
createProtectedParameterObservers html
defaultTour html
documentation-generics html
extractAssaySubmatrix html
filterDTColumn html
getEncodedName html
getPanelColor html
iSEE-pkg html
iSEE html
iSEEOptions html
interface-generics html
jitterPoints html
labs-utils html
lassoPoints html
manage_commands html
metadata-plot-generics html
multi-select-generics html
observer-generics html
output-generics html
plot-generics html
plot-utils html
processMultiSelections html
replaceMissingWithFirst html
requestUpdate html
retrieveOutput html
setCachedCommonInfo html
setup-generics html
single-select-generics html
subsetPointsByGrid html
synchronizeAssays html
table-generics html
track-utils html
validate-utils html
visual-parameters-generics html
** building package indices
** installing vignettes
** testing if installed package can be loaded from temporary location
** testing if installed package can be loaded from final location
** testing if installed package keeps a record of temporary installation path
install for x64
* installing *source* package 'iSEE' ...
** testing if installed package can be loaded
* MD5 sums
packaged installation of 'iSEE' as iSEE_2.2.4.zip
* DONE (iSEE)