| Back to Multiple platform build/check report for BioC 3.12 |
|
This page was generated on 2021-05-06 12:27:55 -0400 (Thu, 06 May 2021).
|
To the developers/maintainers of the iCheck package: Please make sure to use the following settings in order to reproduce any error or warning you see on this page. |
| Package 866/1974 | Hostname | OS / Arch | INSTALL | BUILD | CHECK | BUILD BIN | ||||||||
| iCheck 1.20.0 (landing page) Weiliang Qiu
| malbec1 | Linux (Ubuntu 18.04.5 LTS) / x86_64 | OK | OK | OK | |||||||||
| tokay1 | Windows Server 2012 R2 Standard / x64 | OK | OK | OK | OK | |||||||||
| merida1 | macOS 10.14.6 Mojave / x86_64 | ERROR | ERROR | skipped | skipped | |||||||||
| Package: iCheck |
| Version: 1.20.0 |
| Command: /home/biocbuild/bbs-3.12-bioc/R/bin/R CMD build --keep-empty-dirs --no-resave-data iCheck |
| StartedAt: 2021-05-05 19:42:35 -0400 (Wed, 05 May 2021) |
| EndedAt: 2021-05-05 19:43:59 -0400 (Wed, 05 May 2021) |
| EllapsedTime: 83.9 seconds |
| RetCode: 0 |
| Status: OK |
| PackageFile: iCheck_1.20.0.tar.gz |
| PackageFileSize: 423.4 KiB |
############################################################################## ############################################################################## ### ### Running command: ### ### /home/biocbuild/bbs-3.12-bioc/R/bin/R CMD build --keep-empty-dirs --no-resave-data iCheck ### ############################################################################## ############################################################################## * checking for file ‘iCheck/DESCRIPTION’ ... OK * preparing ‘iCheck’: * checking DESCRIPTION meta-information ... OK * checking whether ‘INDEX’ is up-to-date ... NO * use ‘--force’ to remove the existing ‘INDEX’ * installing the package to build vignettes * creating vignettes ... OK * checking for LF line-endings in source and make files and shell scripts * checking for empty or unneeded directories * building ‘iCheck_1.20.0.tar.gz’