| Back to Multiple platform build/check report for BioC 3.12 |
|
This page was generated on 2021-05-06 12:31:45 -0400 (Thu, 06 May 2021).
|
To the developers/maintainers of the hierGWAS package: Please make sure to use the following settings in order to reproduce any error or warning you see on this page. |
| Package 832/1974 | Hostname | OS / Arch | INSTALL | BUILD | CHECK | BUILD BIN | ||||||||
| hierGWAS 1.20.0 (landing page) Laura Buzdugan
| malbec1 | Linux (Ubuntu 18.04.5 LTS) / x86_64 | OK | OK | OK | |||||||||
| tokay1 | Windows Server 2012 R2 Standard / x64 | OK | OK | OK | OK | |||||||||
| merida1 | macOS 10.14.6 Mojave / x86_64 | OK | OK | OK | OK | |||||||||
| Package: hierGWAS |
| Version: 1.20.0 |
| Command: C:\cygwin\bin\curl.exe -O http://172.29.0.3/BBS/3.12/bioc/src/contrib/hierGWAS_1.20.0.tar.gz && rm -rf hierGWAS.buildbin-libdir && mkdir hierGWAS.buildbin-libdir && C:\Users\biocbuild\bbs-3.12-bioc\R\bin\R.exe CMD INSTALL --merge-multiarch --build --library=hierGWAS.buildbin-libdir hierGWAS_1.20.0.tar.gz && C:\Users\biocbuild\bbs-3.12-bioc\R\bin\R.exe CMD INSTALL hierGWAS_1.20.0.zip && rm hierGWAS_1.20.0.tar.gz hierGWAS_1.20.0.zip |
| StartedAt: 2021-05-05 16:48:11 -0400 (Wed, 05 May 2021) |
| EndedAt: 2021-05-05 16:48:46 -0400 (Wed, 05 May 2021) |
| EllapsedTime: 35.4 seconds |
| RetCode: 0 |
| Status: OK |
##############################################################################
##############################################################################
###
### Running command:
###
### C:\cygwin\bin\curl.exe -O http://172.29.0.3/BBS/3.12/bioc/src/contrib/hierGWAS_1.20.0.tar.gz && rm -rf hierGWAS.buildbin-libdir && mkdir hierGWAS.buildbin-libdir && C:\Users\biocbuild\bbs-3.12-bioc\R\bin\R.exe CMD INSTALL --merge-multiarch --build --library=hierGWAS.buildbin-libdir hierGWAS_1.20.0.tar.gz && C:\Users\biocbuild\bbs-3.12-bioc\R\bin\R.exe CMD INSTALL hierGWAS_1.20.0.zip && rm hierGWAS_1.20.0.tar.gz hierGWAS_1.20.0.zip
###
##############################################################################
##############################################################################
% Total % Received % Xferd Average Speed Time Time Time Current
Dload Upload Total Spent Left Speed
0 0 0 0 0 0 0 0 --:--:-- --:--:-- --:--:-- 0
100 200k 100 200k 0 0 1839k 0 --:--:-- --:--:-- --:--:-- 1856k
install for i386
* installing *source* package 'hierGWAS' ...
** using staged installation
** R
** data
*** moving datasets to lazyload DB
** inst
** byte-compile and prepare package for lazy loading
** help
*** installing help indices
converting help for package 'hierGWAS'
finding HTML links ... done
cluster.snp html
compute.r2 html
hierGWAS html
multisplit html
finding level-2 HTML links ... done
simGWAS html
test.hierarchy html
** building package indices
** installing vignettes
** testing if installed package can be loaded from temporary location
** testing if installed package can be loaded from final location
** testing if installed package keeps a record of temporary installation path
install for x64
* installing *source* package 'hierGWAS' ...
** testing if installed package can be loaded
* MD5 sums
packaged installation of 'hierGWAS' as hierGWAS_1.20.0.zip
* DONE (hierGWAS)
* installing to library 'C:/Users/biocbuild/bbs-3.12-bioc/R/library'
package 'hierGWAS' successfully unpacked and MD5 sums checked