| Back to Multiple platform build/check report for BioC 3.12 |
|
This page was generated on 2021-05-06 12:31:45 -0400 (Thu, 06 May 2021).
|
To the developers/maintainers of the hiAnnotator package: Please make sure to use the following settings in order to reproduce any error or warning you see on this page. |
| Package 827/1974 | Hostname | OS / Arch | INSTALL | BUILD | CHECK | BUILD BIN | ||||||||
| hiAnnotator 1.24.0 (landing page) Nirav V Malani
| malbec1 | Linux (Ubuntu 18.04.5 LTS) / x86_64 | OK | OK | OK | |||||||||
| tokay1 | Windows Server 2012 R2 Standard / x64 | OK | OK | WARNINGS | OK | |||||||||
| merida1 | macOS 10.14.6 Mojave / x86_64 | OK | OK | OK | OK | |||||||||
| Package: hiAnnotator |
| Version: 1.24.0 |
| Command: rm -rf hiAnnotator.buildbin-libdir && mkdir hiAnnotator.buildbin-libdir && C:\Users\biocbuild\bbs-3.12-bioc\R\bin\R.exe CMD INSTALL --merge-multiarch --build --library=hiAnnotator.buildbin-libdir hiAnnotator_1.24.0.tar.gz |
| StartedAt: 2021-05-06 09:16:39 -0400 (Thu, 06 May 2021) |
| EndedAt: 2021-05-06 09:17:46 -0400 (Thu, 06 May 2021) |
| EllapsedTime: 66.9 seconds |
| RetCode: 0 |
| Status: OK |
| PackageFile: hiAnnotator_1.24.0.zip |
| PackageFileSize: 792.6 KiB |
##############################################################################
##############################################################################
###
### Running command:
###
### rm -rf hiAnnotator.buildbin-libdir && mkdir hiAnnotator.buildbin-libdir && C:\Users\biocbuild\bbs-3.12-bioc\R\bin\R.exe CMD INSTALL --merge-multiarch --build --library=hiAnnotator.buildbin-libdir hiAnnotator_1.24.0.tar.gz
###
##############################################################################
##############################################################################
install for i386
* installing *source* package 'hiAnnotator' ...
** using staged installation
** R
** data
** inst
** byte-compile and prepare package for lazy loading
** help
*** installing help indices
converting help for package 'hiAnnotator'
finding HTML links ... done
cleanColname html
doAnnotation html
dot-checkArgsSetDefaults html
dot-mergeAndReturn html
genes html
get2NearestFeature html
getFeatureCounts html
getFeatureCountsBig html
getLowestDists html
Rd warning: C:/Users/biocbuild/bbs-3.12-bioc/tmpdir/RtmpWGGKkI/R.INSTALL1eb073812c4c/hiAnnotator/man/getLowestDists.Rd:32: file link 'nearest' in package 'IRanges' does not exist and so has been treated as a topic
Rd warning: C:/Users/biocbuild/bbs-3.12-bioc/tmpdir/RtmpWGGKkI/R.INSTALL1eb073812c4c/hiAnnotator/man/getLowestDists.Rd:19: file link 'nearest' in package 'IRanges' does not exist and so has been treated as a topic
getNearestFeature html
getRelevantCol html
getSitesInFeature html
Rd warning: C:/Users/biocbuild/bbs-3.12-bioc/tmpdir/RtmpWGGKkI/R.INSTALL1eb073812c4c/hiAnnotator/man/getSitesInFeature.Rd:38: file link 'findOverlaps' in package 'IRanges' does not exist and so has been treated as a topic
getUCSCtable html
finding level-2 HTML links ... done
getWindowLabel html
hiAnnotator html
makeChunks html
makeGRanges html
makeUCSCsession html
plotdisFeature html
sites html
sites.ctrl html
** building package indices
** installing vignettes
** testing if installed package can be loaded from temporary location
** testing if installed package can be loaded from final location
** testing if installed package keeps a record of temporary installation path
install for x64
* installing *source* package 'hiAnnotator' ...
** testing if installed package can be loaded
* MD5 sums
packaged installation of 'hiAnnotator' as hiAnnotator_1.24.0.zip
* DONE (hiAnnotator)